BEGIN:VCALENDAR
VERSION:2.0
PRODID:-//Classical Preparatory School - ECPv6.15.15//NONSGML v1.0//EN
CALSCALE:GREGORIAN
METHOD:PUBLISH
X-WR-CALNAME:Classical Preparatory School
X-ORIGINAL-URL:https://classicalprep.org
X-WR-CALDESC:Events for Classical Preparatory School
REFRESH-INTERVAL;VALUE=DURATION:PT1H
X-Robots-Tag:noindex
X-PUBLISHED-TTL:PT1H
BEGIN:VTIMEZONE
TZID:America/New_York
BEGIN:DAYLIGHT
TZOFFSETFROM:-0500
TZOFFSETTO:-0400
TZNAME:EDT
DTSTART:20250309T070000
END:DAYLIGHT
BEGIN:STANDARD
TZOFFSETFROM:-0400
TZOFFSETTO:-0500
TZNAME:EST
DTSTART:20251102T060000
END:STANDARD
BEGIN:DAYLIGHT
TZOFFSETFROM:-0500
TZOFFSETTO:-0400
TZNAME:EDT
DTSTART:20260308T070000
END:DAYLIGHT
BEGIN:STANDARD
TZOFFSETFROM:-0400
TZOFFSETTO:-0500
TZNAME:EST
DTSTART:20261101T060000
END:STANDARD
BEGIN:DAYLIGHT
TZOFFSETFROM:-0500
TZOFFSETTO:-0400
TZNAME:EDT
DTSTART:20270314T070000
END:DAYLIGHT
BEGIN:STANDARD
TZOFFSETFROM:-0400
TZOFFSETTO:-0500
TZNAME:EST
DTSTART:20271107T060000
END:STANDARD
END:VTIMEZONE
BEGIN:VEVENT
DTSTART;TZID=America/New_York:20260924T180000
DTEND;TZID=America/New_York:20260924T190000
DTSTAMP:20260420T182439
CREATED:20260316T140049Z
LAST-MODIFIED:20260420T055722Z
UID:10001764-1790272800-1790276400@classicalprep.org
SUMMARY:JV Volleyball Game @ Mitchell
DESCRIPTION:
URL:https://classicalprep.org/event/jv-volleyball-game-mitchell/
LOCATION:J. W. Mitchell High School\, 1899 Latelia Ct\, New Port Richey\, FL\, United States
CATEGORIES:Athletics
GEO:28.18578;-82.648411
X-APPLE-STRUCTURED-LOCATION;VALUE=URI;X-ADDRESS=J. W. Mitchell High School 1899 Latelia Ct New Port Richey FL United States;X-APPLE-RADIUS=500;X-TITLE=1899 Latelia Ct:geo:-82.648411,28.18578
END:VEVENT
BEGIN:VEVENT
DTSTART;TZID=America/New_York:20260924T190000
DTEND;TZID=America/New_York:20260924T200000
DTSTAMP:20260420T182439
CREATED:20260316T140049Z
LAST-MODIFIED:20260420T055723Z
UID:10001763-1790276400-1790280000@classicalprep.org
SUMMARY:Varsity Volleyball Game @ Mitchell
DESCRIPTION:
URL:https://classicalprep.org/event/varsity-volleyball-game-mitchell/
LOCATION:J. W. Mitchell High School\, 1899 Latelia Ct\, New Port Richey\, FL\, United States
CATEGORIES:Athletics
GEO:28.18578;-82.648411
X-APPLE-STRUCTURED-LOCATION;VALUE=URI;X-ADDRESS=J. W. Mitchell High School 1899 Latelia Ct New Port Richey FL United States;X-APPLE-RADIUS=500;X-TITLE=1899 Latelia Ct:geo:-82.648411,28.18578
END:VEVENT
END:VCALENDAR