BEGIN:VCALENDAR
VERSION:2.0
PRODID:-//Classical Preparatory School - ECPv6.15.15//NONSGML v1.0//EN
CALSCALE:GREGORIAN
METHOD:PUBLISH
X-ORIGINAL-URL:https://classicalprep.org
X-WR-CALDESC:Events for Classical Preparatory School
REFRESH-INTERVAL;VALUE=DURATION:PT1H
X-Robots-Tag:noindex
X-PUBLISHED-TTL:PT1H
BEGIN:VTIMEZONE
TZID:America/New_York
BEGIN:DAYLIGHT
TZOFFSETFROM:-0500
TZOFFSETTO:-0400
TZNAME:EDT
DTSTART:20230312T070000
END:DAYLIGHT
BEGIN:STANDARD
TZOFFSETFROM:-0400
TZOFFSETTO:-0500
TZNAME:EST
DTSTART:20231105T060000
END:STANDARD
BEGIN:DAYLIGHT
TZOFFSETFROM:-0500
TZOFFSETTO:-0400
TZNAME:EDT
DTSTART:20240310T070000
END:DAYLIGHT
BEGIN:STANDARD
TZOFFSETFROM:-0400
TZOFFSETTO:-0500
TZNAME:EST
DTSTART:20241103T060000
END:STANDARD
BEGIN:DAYLIGHT
TZOFFSETFROM:-0500
TZOFFSETTO:-0400
TZNAME:EDT
DTSTART:20250309T070000
END:DAYLIGHT
BEGIN:STANDARD
TZOFFSETFROM:-0400
TZOFFSETTO:-0500
TZNAME:EST
DTSTART:20251102T060000
END:STANDARD
BEGIN:DAYLIGHT
TZOFFSETFROM:-0500
TZOFFSETTO:-0400
TZNAME:EDT
DTSTART:20260308T070000
END:DAYLIGHT
BEGIN:STANDARD
TZOFFSETFROM:-0400
TZOFFSETTO:-0500
TZNAME:EST
DTSTART:20261101T060000
END:STANDARD
BEGIN:DAYLIGHT
TZOFFSETFROM:-0500
TZOFFSETTO:-0400
TZNAME:EDT
DTSTART:20270314T070000
END:DAYLIGHT
BEGIN:STANDARD
TZOFFSETFROM:-0400
TZOFFSETTO:-0500
TZNAME:EST
DTSTART:20271107T060000
END:STANDARD
END:VTIMEZONE
BEGIN:VEVENT
DTSTART;TZID=America/New_York:20260126T180000
DTEND;TZID=America/New_York:20260126T193000
DTSTAMP:20260422T052905
CREATED:20250731T132425Z
LAST-MODIFIED:20260126T102703Z
UID:10001329-1769450400-1769455800@classicalprep.org
SUMMARY:Varsity Girls Basketball Game @ HCA
DESCRIPTION:
URL:https://classicalprep.org/event/varsity-girls-basketball-game-hca/
LOCATION:Hernando Christian Academy\, 7201 Emerson Rd\, Brooksville\, FL\, United States
CATEGORIES:Athletics
GEO:28.545216;-82.375306
X-APPLE-STRUCTURED-LOCATION;VALUE=URI;X-ADDRESS=Hernando Christian Academy 7201 Emerson Rd Brooksville FL United States;X-APPLE-RADIUS=500;X-TITLE=7201 Emerson Rd:geo:-82.375306,28.545216
END:VEVENT
BEGIN:VEVENT
DTSTART;TZID=America/New_York:20260109T160000
DTEND;TZID=America/New_York:20260109T173000
DTSTAMP:20260422T052905
CREATED:20250327T144036Z
LAST-MODIFIED:20260109T154358Z
UID:10001077-1767974400-1767979800@classicalprep.org
SUMMARY:Varsity Soccer Game @ HCA
DESCRIPTION:
URL:https://classicalprep.org/event/varsity-soccer-game-hca/
LOCATION:Hernando Christian Academy\, 7201 Emerson Rd\, Brooksville\, FL\, United States
CATEGORIES:Athletics
GEO:28.545216;-82.375306
X-APPLE-STRUCTURED-LOCATION;VALUE=URI;X-ADDRESS=Hernando Christian Academy 7201 Emerson Rd Brooksville FL United States;X-APPLE-RADIUS=500;X-TITLE=7201 Emerson Rd:geo:-82.375306,28.545216
END:VEVENT
BEGIN:VEVENT
DTSTART;TZID=America/New_York:20250918T170000
DTEND;TZID=America/New_York:20250918T190000
DTSTAMP:20260422T052905
CREATED:20250904T000910Z
LAST-MODIFIED:20250918T151131Z
UID:10001436-1758214800-1758222000@classicalprep.org
SUMMARY:D League Football Game @ HCA
DESCRIPTION:
URL:https://classicalprep.org/event/d-league-football-game-hca/
LOCATION:Hernando Christian Academy\, 7201 Emerson Rd\, Brooksville\, FL\, United States
CATEGORIES:Athletics
GEO:28.545216;-82.375306
X-APPLE-STRUCTURED-LOCATION;VALUE=URI;X-ADDRESS=Hernando Christian Academy 7201 Emerson Rd Brooksville FL United States;X-APPLE-RADIUS=500;X-TITLE=7201 Emerson Rd:geo:-82.375306,28.545216
END:VEVENT
BEGIN:VEVENT
DTSTART;TZID=America/New_York:20250905T170000
DTEND;TZID=America/New_York:20250905T180000
DTSTAMP:20260422T052905
CREATED:20250204T161024Z
LAST-MODIFIED:20250905T152532Z
UID:10001012-1757091600-1757095200@classicalprep.org
SUMMARY:Varsity Volleyball Game @ HCA
DESCRIPTION:
URL:https://classicalprep.org/event/varsity-volleyball-game-hca-2/
LOCATION:Hernando Christian Academy\, 7201 Emerson Rd\, Brooksville\, FL\, United States
CATEGORIES:Athletics
GEO:28.545216;-82.375306
X-APPLE-STRUCTURED-LOCATION;VALUE=URI;X-ADDRESS=Hernando Christian Academy 7201 Emerson Rd Brooksville FL United States;X-APPLE-RADIUS=500;X-TITLE=7201 Emerson Rd:geo:-82.375306,28.545216
END:VEVENT
BEGIN:VEVENT
DTSTART;TZID=America/New_York:20250123T170000
DTEND;TZID=America/New_York:20250123T180000
DTSTAMP:20260422T052905
CREATED:20240829T184321Z
LAST-MODIFIED:20250123T221147Z
UID:10000646-1737651600-1737655200@classicalprep.org
SUMMARY:Girls Varsity Basketball Game @ HCA
DESCRIPTION:
URL:https://classicalprep.org/event/girls-varsity-basketball-game-hca/
LOCATION:Hernando Christian Academy\, 7201 Emerson Rd\, Brooksville\, FL\, United States
CATEGORIES:Athletics
GEO:28.545216;-82.375306
X-APPLE-STRUCTURED-LOCATION;VALUE=URI;X-ADDRESS=Hernando Christian Academy 7201 Emerson Rd Brooksville FL United States;X-APPLE-RADIUS=500;X-TITLE=7201 Emerson Rd:geo:-82.375306,28.545216
END:VEVENT
BEGIN:VEVENT
DTSTART;TZID=America/New_York:20240822T180000
DTEND;TZID=America/New_York:20240822T190000
DTSTAMP:20260422T052905
CREATED:20240809T152352Z
LAST-MODIFIED:20240822T212632Z
UID:10000575-1724349600-1724353200@classicalprep.org
SUMMARY:Varsity Volleyball Game @ HCA
DESCRIPTION:
URL:https://classicalprep.org/event/varsity-volleyball-game-hca/
LOCATION:Hernando Christian Academy\, 7201 Emerson Rd\, Brooksville\, FL\, United States
CATEGORIES:Athletics
GEO:28.545216;-82.375306
X-APPLE-STRUCTURED-LOCATION;VALUE=URI;X-ADDRESS=Hernando Christian Academy 7201 Emerson Rd Brooksville FL United States;X-APPLE-RADIUS=500;X-TITLE=7201 Emerson Rd:geo:-82.375306,28.545216
END:VEVENT
BEGIN:VEVENT
DTSTART;TZID=America/New_York:20240822T170000
DTEND;TZID=America/New_York:20240822T180000
DTSTAMP:20260422T052905
CREATED:20240809T152352Z
LAST-MODIFIED:20240822T212632Z
UID:10000574-1724346000-1724349600@classicalprep.org
SUMMARY:JV Volleyball Game @ HCA
DESCRIPTION:
URL:https://classicalprep.org/event/jv-volleyball-game-hca/
LOCATION:Hernando Christian Academy\, 7201 Emerson Rd\, Brooksville\, FL\, United States
CATEGORIES:Athletics
GEO:28.545216;-82.375306
X-APPLE-STRUCTURED-LOCATION;VALUE=URI;X-ADDRESS=Hernando Christian Academy 7201 Emerson Rd Brooksville FL United States;X-APPLE-RADIUS=500;X-TITLE=7201 Emerson Rd:geo:-82.375306,28.545216
END:VEVENT
END:VCALENDAR