BEGIN:VCALENDAR
VERSION:2.0
PRODID:-//Classical Preparatory School - ECPv6.15.15//NONSGML v1.0//EN
CALSCALE:GREGORIAN
METHOD:PUBLISH
X-WR-CALNAME:Classical Preparatory School
X-ORIGINAL-URL:https://classicalprep.org
X-WR-CALDESC:Events for Classical Preparatory School
REFRESH-INTERVAL;VALUE=DURATION:PT1H
X-Robots-Tag:noindex
X-PUBLISHED-TTL:PT1H
BEGIN:VTIMEZONE
TZID:America/New_York
BEGIN:DAYLIGHT
TZOFFSETFROM:-0500
TZOFFSETTO:-0400
TZNAME:EDT
DTSTART:20240310T070000
END:DAYLIGHT
BEGIN:STANDARD
TZOFFSETFROM:-0400
TZOFFSETTO:-0500
TZNAME:EST
DTSTART:20241103T060000
END:STANDARD
BEGIN:DAYLIGHT
TZOFFSETFROM:-0500
TZOFFSETTO:-0400
TZNAME:EDT
DTSTART:20250309T070000
END:DAYLIGHT
BEGIN:STANDARD
TZOFFSETFROM:-0400
TZOFFSETTO:-0500
TZNAME:EST
DTSTART:20251102T060000
END:STANDARD
BEGIN:DAYLIGHT
TZOFFSETFROM:-0500
TZOFFSETTO:-0400
TZNAME:EDT
DTSTART:20260308T070000
END:DAYLIGHT
BEGIN:STANDARD
TZOFFSETFROM:-0400
TZOFFSETTO:-0500
TZNAME:EST
DTSTART:20261101T060000
END:STANDARD
END:VTIMEZONE
BEGIN:VEVENT
DTSTART;TZID=America/New_York:20250404T130000
DTEND;TZID=America/New_York:20250404T190000
DTSTAMP:20260421T174432
CREATED:20240918T172645Z
LAST-MODIFIED:20250404T211147Z
UID:10000746-1743771600-1743793200@classicalprep.org
SUMMARY:Gym Unavailable - Art Show
DESCRIPTION:Join with Google Meet: https://meet.google.com/aef-gnku-pzi\nOr dial: (US) +1 540-835-0365 PIN: 670847011#\nLearn more about Meet at: https://support.google.com/a/users/answer/9282720
URL:https://classicalprep.org/event/gym-unavailable-art-show/
CATEGORIES:Athletics
ORGANIZER;CN="classicalprep.org_5viqc689g7n49k5r4obi20libk@group.calendar.google.com":MAILTO:classicalprep.org_5viqc689g7n49k5r4obi20libk@group.calendar.google.com
END:VEVENT
BEGIN:VEVENT
DTSTART;VALUE=DATE:20250404
DTEND;VALUE=DATE:20250405
DTSTAMP:20260421T174432
CREATED:20250327T175345Z
LAST-MODIFIED:20250404T202705Z
UID:10001085-1743724800-1743811199@classicalprep.org
SUMMARY:4th & 5th Grade Writing Testing
DESCRIPTION:
URL:https://classicalprep.org/event/4th-5th-grade-writing-testing/
CATEGORIES:Grammar School
END:VEVENT
BEGIN:VEVENT
DTSTART;VALUE=DATE:20250404
DTEND;VALUE=DATE:20250405
DTSTAMP:20260421T174432
CREATED:20240918T174202Z
LAST-MODIFIED:20250404T202706Z
UID:10000749-1743724800-1743811199@classicalprep.org
SUMMARY:K-12 Art Show
DESCRIPTION:
URL:https://classicalprep.org/event/k-12-art-show-3/
CATEGORIES:Grammar School
END:VEVENT
BEGIN:VEVENT
DTSTART;VALUE=DATE:20250404
DTEND;VALUE=DATE:20250405
DTSTAMP:20260421T174433
CREATED:20240918T172730Z
LAST-MODIFIED:20250404T212727Z
UID:10000748-1743724800-1743811199@classicalprep.org
SUMMARY:K-12 Art Show
DESCRIPTION:
URL:https://classicalprep.org/event/k-12-art-show-2/
CATEGORIES:Rhetoric School
END:VEVENT
BEGIN:VEVENT
DTSTART;VALUE=DATE:20250404
DTEND;VALUE=DATE:20250405
DTSTAMP:20260421T174433
CREATED:20240918T171033Z
LAST-MODIFIED:20250404T221221Z
UID:10000738-1743724800-1743811199@classicalprep.org
SUMMARY:K-12 Art Show
DESCRIPTION:
URL:https://classicalprep.org/event/k-12-art-show/
CATEGORIES:Logic School
END:VEVENT
BEGIN:VEVENT
DTSTART;TZID=America/New_York:20250403T173000
DTEND;TZID=America/New_York:20250403T183000
DTSTAMP:20260421T174433
CREATED:20250117T175642Z
LAST-MODIFIED:20250403T213939Z
UID:10000992-1743701400-1743705000@classicalprep.org
SUMMARY:Information Session (Enrollment)
DESCRIPTION:
URL:https://classicalprep.org/event/information-session-enrollment-9/
CATEGORIES:Rhetoric School
END:VEVENT
BEGIN:VEVENT
DTSTART;TZID=America/New_York:20250403T173000
DTEND;TZID=America/New_York:20250403T183000
DTSTAMP:20260421T174433
CREATED:20250117T164258Z
LAST-MODIFIED:20250403T212433Z
UID:10000986-1743701400-1743705000@classicalprep.org
SUMMARY:Information Session (Enrollment)
DESCRIPTION:
URL:https://classicalprep.org/event/information-session-enrollment-6/
CATEGORIES:Logic School
END:VEVENT
BEGIN:VEVENT
DTSTART;TZID=America/New_York:20250403T173000
DTEND;TZID=America/New_York:20250403T183000
DTSTAMP:20260421T174433
CREATED:20250117T151232Z
LAST-MODIFIED:20250403T212437Z
UID:10000980-1743701400-1743705000@classicalprep.org
SUMMARY:Information Session (Enrollment)
DESCRIPTION:
URL:https://classicalprep.org/event/information-session-enrollment-3/
CATEGORIES:Grammar School
END:VEVENT
BEGIN:VEVENT
DTSTART;TZID=America/New_York:20250403T160000
DTEND;TZID=America/New_York:20250403T173000
DTSTAMP:20260421T174433
CREATED:20250109T145733Z
LAST-MODIFIED:20250403T210918Z
UID:10000966-1743696000-1743701400@classicalprep.org
SUMMARY:Girls Flag Football Game @ Hernando High
DESCRIPTION:
URL:https://classicalprep.org/event/girls-flag-football-game-hernando-high/
CATEGORIES:Athletics
END:VEVENT
BEGIN:VEVENT
DTSTART;VALUE=DATE:20250402
DTEND;VALUE=DATE:20250403
DTSTAMP:20260421T174433
CREATED:20240916T174219Z
LAST-MODIFIED:20250402T205642Z
UID:10000730-1743552000-1743638399@classicalprep.org
SUMMARY:2nd Grade Field Trip
DESCRIPTION:
URL:https://classicalprep.org/event/2nd-grade-field-trip/
CATEGORIES:Grammar School
END:VEVENT
BEGIN:VEVENT
DTSTART;TZID=America/New_York:20250401T160000
DTEND;TZID=America/New_York:20250401T170000
DTSTAMP:20260421T174433
CREATED:20250203T221217Z
LAST-MODIFIED:20250401T204003Z
UID:10001011-1743523200-1743526800@classicalprep.org
SUMMARY:Flag Football Game vs. NTCA
DESCRIPTION:
URL:https://classicalprep.org/event/flag-football-game-vs-ntca/
LOCATION:Elsie Logan Memorial Park\, 15829 Shady Hills Rd\, Brooksville\, FL\, United States
CATEGORIES:Athletics
GEO:28.388541;-82.551139
X-APPLE-STRUCTURED-LOCATION;VALUE=URI;X-ADDRESS=Elsie Logan Memorial Park 15829 Shady Hills Rd Brooksville FL United States;X-APPLE-RADIUS=500;X-TITLE=15829 Shady Hills Rd:geo:-82.551139,28.388541
END:VEVENT
BEGIN:VEVENT
DTSTART;TZID=America/New_York:20250401T150000
DTEND;TZID=America/New_York:20250401T190000
DTSTAMP:20260421T174433
CREATED:20250303T191102Z
LAST-MODIFIED:20250401T204002Z
UID:10001055-1743519600-1743534000@classicalprep.org
SUMMARY:Varsity Boys Track Meet @ Zephyrhills
DESCRIPTION:
URL:https://classicalprep.org/event/varsity-boys-track-meet-zephyrhills/
LOCATION:Zephyrhills High School\, 6335 12th St\, Zephyrhills\, FL\, United States
CATEGORIES:Athletics
GEO:28.249798;-82.179896
X-APPLE-STRUCTURED-LOCATION;VALUE=URI;X-ADDRESS=Zephyrhills High School 6335 12th St Zephyrhills FL United States;X-APPLE-RADIUS=500;X-TITLE=6335 12th St:geo:-82.179896,28.249798
END:VEVENT
BEGIN:VEVENT
DTSTART;TZID=America/New_York:20250331T160000
DTEND;TZID=America/New_York:20250331T173000
DTSTAMP:20260421T174433
CREATED:20241122T122433Z
LAST-MODIFIED:20241122T122459Z
UID:10000934-1743436800-1743442200@classicalprep.org
SUMMARY:Girls Flag Football Game @ Bishop
DESCRIPTION:
URL:https://classicalprep.org/event/girls-flag-football-game-bishop-2/
CATEGORIES:Athletics
END:VEVENT
BEGIN:VEVENT
DTSTART;VALUE=DATE:20250331
DTEND;VALUE=DATE:20250405
DTSTAMP:20260421T174433
CREATED:20240725T152451Z
LAST-MODIFIED:20240919T135809Z
UID:10000512-1743379200-1743811199@classicalprep.org
SUMMARY:Drama Rehearsal - Gym
DESCRIPTION:
URL:https://classicalprep.org/event/drama-rehearsal-gym-2/
CATEGORIES:Rhetoric School
END:VEVENT
BEGIN:VEVENT
DTSTART;VALUE=DATE:20250331
DTEND;VALUE=DATE:20250405
DTSTAMP:20260421T174433
CREATED:20240725T145911Z
LAST-MODIFIED:20240919T144038Z
UID:10000484-1743379200-1743811199@classicalprep.org
SUMMARY:Drama Rehearsal - Gym
DESCRIPTION:
URL:https://classicalprep.org/event/drama-rehearsal-gym/
CATEGORIES:Logic School
END:VEVENT
BEGIN:VEVENT
DTSTART;TZID=America/New_York:20250329T180000
DTEND;TZID=America/New_York:20250329T190000
DTSTAMP:20260421T174433
CREATED:20240919T162612Z
LAST-MODIFIED:20250329T211244Z
UID:10000759-1743271200-1743274800@classicalprep.org
SUMMARY:Drama Show (IPAC)
DESCRIPTION:
URL:https://classicalprep.org/event/drama-show-ipac-6/
CATEGORIES:Rhetoric School
END:VEVENT
BEGIN:VEVENT
DTSTART;TZID=America/New_York:20250329T180000
DTEND;TZID=America/New_York:20250329T190000
DTSTAMP:20260421T174433
CREATED:20240919T155852Z
LAST-MODIFIED:20250329T213824Z
UID:10000757-1743271200-1743274800@classicalprep.org
SUMMARY:Drama Show (IPAC)
DESCRIPTION:
URL:https://classicalprep.org/event/drama-show-ipac-4/
CATEGORIES:Grammar School
END:VEVENT
BEGIN:VEVENT
DTSTART;TZID=America/New_York:20250329T180000
DTEND;TZID=America/New_York:20250329T190000
DTSTAMP:20260421T174433
CREATED:20240919T155837Z
LAST-MODIFIED:20250329T212759Z
UID:10000755-1743271200-1743274800@classicalprep.org
SUMMARY:Drama Show (IPAC)
DESCRIPTION:
URL:https://classicalprep.org/event/drama-show-ipac-2/
CATEGORIES:Logic School
END:VEVENT
BEGIN:VEVENT
DTSTART;TZID=America/New_York:20250329T140000
DTEND;TZID=America/New_York:20250329T150000
DTSTAMP:20260421T174433
CREATED:20240919T162612Z
LAST-MODIFIED:20250329T182827Z
UID:10000758-1743256800-1743260400@classicalprep.org
SUMMARY:Drama Show (IPAC)
DESCRIPTION:
URL:https://classicalprep.org/event/drama-show-ipac-5/
CATEGORIES:Rhetoric School
END:VEVENT
BEGIN:VEVENT
DTSTART;TZID=America/New_York:20250329T140000
DTEND;TZID=America/New_York:20250329T150000
DTSTAMP:20260421T174433
CREATED:20240919T155852Z
LAST-MODIFIED:20250329T182832Z
UID:10000756-1743256800-1743260400@classicalprep.org
SUMMARY:Drama Show (IPAC)
DESCRIPTION:
URL:https://classicalprep.org/event/drama-show-ipac-3/
CATEGORIES:Grammar School
END:VEVENT
BEGIN:VEVENT
DTSTART;TZID=America/New_York:20250329T140000
DTEND;TZID=America/New_York:20250329T150000
DTSTAMP:20260421T174433
CREATED:20240919T155837Z
LAST-MODIFIED:20250329T175756Z
UID:10000754-1743256800-1743260400@classicalprep.org
SUMMARY:Drama Show (IPAC)
DESCRIPTION:
URL:https://classicalprep.org/event/drama-show-ipac/
CATEGORIES:Logic School
END:VEVENT
BEGIN:VEVENT
DTSTART;TZID=America/New_York:20250329T073000
DTEND;TZID=America/New_York:20250329T160000
DTSTAMP:20260421T174433
CREATED:20250327T155534Z
LAST-MODIFIED:20250329T194022Z
UID:10001081-1743233400-1743264000@classicalprep.org
SUMMARY:Practice AP Exams
DESCRIPTION:
URL:https://classicalprep.org/event/practice-ap-exams/
CATEGORIES:Rhetoric School
END:VEVENT
BEGIN:VEVENT
DTSTART;VALUE=DATE:20250328
DTEND;VALUE=DATE:20250329
DTSTAMP:20260421T174433
CREATED:20250307T171222Z
LAST-MODIFIED:20250328T205509Z
UID:10001063-1743120000-1743206399@classicalprep.org
SUMMARY:Logic Girls Soccer Championship Game
DESCRIPTION:
URL:https://classicalprep.org/event/logic-girls-soccer-championship-game/
LOCATION:TBD
CATEGORIES:Athletics
END:VEVENT
BEGIN:VEVENT
DTSTART;VALUE=DATE:20250328
DTEND;VALUE=DATE:20250329
DTSTAMP:20260421T174433
CREATED:20240916T174219Z
LAST-MODIFIED:20250328T213931Z
UID:10000729-1743120000-1743206399@classicalprep.org
SUMMARY:Fourth Grade Field Trip
DESCRIPTION:
URL:https://classicalprep.org/event/fourth-grade-field-trip/
CATEGORIES:Grammar School
END:VEVENT
BEGIN:VEVENT
DTSTART;VALUE=DATE:20250328
DTEND;VALUE=DATE:20250329
DTSTAMP:20260421T174433
CREATED:20240725T154028Z
LAST-MODIFIED:20250328T213932Z
UID:10000538-1743120000-1743206399@classicalprep.org
SUMMARY:Spirit Shirt Day
DESCRIPTION:
URL:https://classicalprep.org/event/spirit-shirt-day-51/
CATEGORIES:Grammar School
END:VEVENT
BEGIN:VEVENT
DTSTART;VALUE=DATE:20250328
DTEND;VALUE=DATE:20250329
DTSTAMP:20260421T174433
CREATED:20240725T152450Z
LAST-MODIFIED:20250328T212847Z
UID:10000510-1743120000-1743206399@classicalprep.org
SUMMARY:Spirit Shirt Day
DESCRIPTION:
URL:https://classicalprep.org/event/spirit-shirt-day-47/
CATEGORIES:Rhetoric School
END:VEVENT
BEGIN:VEVENT
DTSTART;VALUE=DATE:20250328
DTEND;VALUE=DATE:20250329
DTSTAMP:20260421T174433
CREATED:20240725T145911Z
LAST-MODIFIED:20250328T213938Z
UID:10000483-1743120000-1743206399@classicalprep.org
SUMMARY:Spirit Shirt Day
DESCRIPTION:
URL:https://classicalprep.org/event/spirit-shirt-day-42/
CATEGORIES:Logic School
END:VEVENT
BEGIN:VEVENT
DTSTART;TZID=America/New_York:20250327T160000
DTEND;TZID=America/New_York:20250327T173000
DTSTAMP:20260421T174433
CREATED:20241121T141045Z
LAST-MODIFIED:20250327T212434Z
UID:10000930-1743091200-1743096600@classicalprep.org
SUMMARY:Girls Flag Football Game @ Bishop
DESCRIPTION:
URL:https://classicalprep.org/event/girls-flag-football-game-bishop/
LOCATION:Bishop McLaughlin Catholic High School\, 13651 Hays Rd\, Brooksville\, FL\, United States
CATEGORIES:Athletics
GEO:28.350298;-82.563586
X-APPLE-STRUCTURED-LOCATION;VALUE=URI;X-ADDRESS=Bishop McLaughlin Catholic High School 13651 Hays Rd Brooksville FL United States;X-APPLE-RADIUS=500;X-TITLE=13651 Hays Rd:geo:-82.563586,28.350298
END:VEVENT
BEGIN:VEVENT
DTSTART;TZID=America/New_York:20250327T153000
DTEND;TZID=America/New_York:20250327T183000
DTSTAMP:20260421T174433
CREATED:20250213T182626Z
LAST-MODIFIED:20250327T212450Z
UID:10001029-1743089400-1743100200@classicalprep.org
SUMMARY:5th Grade Instrument Fittings
DESCRIPTION:
URL:https://classicalprep.org/event/5th-grade-instrument-fittings-2/
CATEGORIES:Grammar School
END:VEVENT
BEGIN:VEVENT
DTSTART;TZID=America/New_York:20250327T141500
DTEND;TZID=America/New_York:20250327T181500
DTSTAMP:20260421T174433
CREATED:20240919T164305Z
LAST-MODIFIED:20250327T212434Z
UID:10000760-1743084900-1743099300@classicalprep.org
SUMMARY:Gym Unavailable - Drama Rehearsal
DESCRIPTION:
URL:https://classicalprep.org/event/gym-unavailable-drama-rehearsal/
CATEGORIES:Athletics
END:VEVENT
END:VCALENDAR