BEGIN:VCALENDAR
VERSION:2.0
PRODID:-//Classical Preparatory School - ECPv6.15.15//NONSGML v1.0//EN
CALSCALE:GREGORIAN
METHOD:PUBLISH
X-ORIGINAL-URL:https://classicalprep.org
X-WR-CALDESC:Events for Classical Preparatory School
REFRESH-INTERVAL;VALUE=DURATION:PT1H
X-Robots-Tag:noindex
X-PUBLISHED-TTL:PT1H
BEGIN:VTIMEZONE
TZID:America/New_York
BEGIN:DAYLIGHT
TZOFFSETFROM:-0500
TZOFFSETTO:-0400
TZNAME:EDT
DTSTART:20250309T070000
END:DAYLIGHT
BEGIN:STANDARD
TZOFFSETFROM:-0400
TZOFFSETTO:-0500
TZNAME:EST
DTSTART:20251102T060000
END:STANDARD
BEGIN:DAYLIGHT
TZOFFSETFROM:-0500
TZOFFSETTO:-0400
TZNAME:EDT
DTSTART:20260308T070000
END:DAYLIGHT
BEGIN:STANDARD
TZOFFSETFROM:-0400
TZOFFSETTO:-0500
TZNAME:EST
DTSTART:20261101T060000
END:STANDARD
BEGIN:DAYLIGHT
TZOFFSETFROM:-0500
TZOFFSETTO:-0400
TZNAME:EDT
DTSTART:20270314T070000
END:DAYLIGHT
BEGIN:STANDARD
TZOFFSETFROM:-0400
TZOFFSETTO:-0500
TZNAME:EST
DTSTART:20271107T060000
END:STANDARD
END:VTIMEZONE
BEGIN:VEVENT
DTSTART;TZID=America/New_York:20260204T180000
DTEND;TZID=America/New_York:20260204T193000
DTSTAMP:20260420T230902
CREATED:20260130T001548Z
LAST-MODIFIED:20260205T002846Z
UID:10001654-1770228000-1770233400@classicalprep.org
SUMMARY:Girls Basketball District Game vs AATL
DESCRIPTION:
URL:https://classicalprep.org/event/girls-basketball-district-game-vs-aatl/
LOCATION:CPS
CATEGORIES:Athletics
END:VEVENT
BEGIN:VEVENT
DTSTART;TZID=America/New_York:20260205T150000
DTEND;TZID=America/New_York:20260205T160000
DTSTAMP:20260420T230902
CREATED:20260202T001226Z
LAST-MODIFIED:20260205T131505Z
UID:10001657-1770303600-1770307200@classicalprep.org
SUMMARY:Volleyball Clinic
DESCRIPTION:
URL:https://classicalprep.org/event/volleyball-clinic/
LOCATION:Gym\, 198 Arkays Ave\, Brooksville\, FL\, United States
CATEGORIES:Athletics
GEO:28.439493;-82.488726
X-APPLE-STRUCTURED-LOCATION;VALUE=URI;X-ADDRESS=Gym 198 Arkays Ave Brooksville FL United States;X-APPLE-RADIUS=500;X-TITLE=198 Arkays Ave:geo:-82.488726,28.439493
END:VEVENT
BEGIN:VEVENT
DTSTART;VALUE=DATE:20260206
DTEND;VALUE=DATE:20260207
DTSTAMP:20260420T230902
CREATED:20250913T000848Z
LAST-MODIFIED:20260206T144325Z
UID:10001441-1770336000-1770422399@classicalprep.org
SUMMARY:3rd Grade Field Trip
DESCRIPTION:
URL:https://classicalprep.org/event/3rd-grade-field-trip/
LOCATION:FL
CATEGORIES:Grammar School
END:VEVENT
BEGIN:VEVENT
DTSTART;VALUE=DATE:20260206
DTEND;VALUE=DATE:20260207
DTSTAMP:20260420T230902
CREATED:20250913T000904Z
LAST-MODIFIED:20260206T122719Z
UID:10001445-1770336000-1770422399@classicalprep.org
SUMMARY:7th Grade Field Trip
DESCRIPTION:
URL:https://classicalprep.org/event/7th-grade-field-trip/
LOCATION:FL
CATEGORIES:Logic School
END:VEVENT
BEGIN:VEVENT
DTSTART;VALUE=DATE:20260206
DTEND;VALUE=DATE:20260207
DTSTAMP:20260420T230902
CREATED:20260124T001153Z
LAST-MODIFIED:20260206T144325Z
UID:10001627-1770336000-1770422399@classicalprep.org
SUMMARY:5th Grade Jumpstart
DESCRIPTION:
URL:https://classicalprep.org/event/5th-grade-jumpstart/
LOCATION:FL
CATEGORIES:Grammar School
END:VEVENT
BEGIN:VEVENT
DTSTART;TZID=America/New_York:20260207T190000
DTEND;TZID=America/New_York:20260207T203000
DTSTAMP:20260420T230902
CREATED:20260207T001518Z
LAST-MODIFIED:20260208T012912Z
UID:10001690-1770490800-1770496200@classicalprep.org
SUMMARY:Girls Varsity Basketball Game vs NTCA
DESCRIPTION:
URL:https://classicalprep.org/event/girls-varsity-basketball-game-vs-ntca/
LOCATION:North Tampa Christian Academy\, 25201 Wesley Chapel Blvd\, Wesley Chapel\, FL\, United States
CATEGORIES:Athletics
GEO:28.229011;-82.37437
X-APPLE-STRUCTURED-LOCATION;VALUE=URI;X-ADDRESS=North Tampa Christian Academy 25201 Wesley Chapel Blvd Wesley Chapel FL United States;X-APPLE-RADIUS=500;X-TITLE=25201 Wesley Chapel Blvd:geo:-82.37437,28.229011
END:VEVENT
BEGIN:VEVENT
DTSTART;TZID=America/New_York:20260209T150000
DTEND;TZID=America/New_York:20260209T160000
DTSTAMP:20260420T230902
CREATED:20260202T001226Z
LAST-MODIFIED:20260209T154409Z
UID:10001658-1770649200-1770652800@classicalprep.org
SUMMARY:Basketball Clinic
DESCRIPTION:
URL:https://classicalprep.org/event/basketball-clinic-2/
LOCATION:Gym\, 198 Arkays Ave\, Brooksville\, FL\, United States
CATEGORIES:Athletics
GEO:28.439493;-82.488726
X-APPLE-STRUCTURED-LOCATION;VALUE=URI;X-ADDRESS=Gym 198 Arkays Ave Brooksville FL United States;X-APPLE-RADIUS=500;X-TITLE=198 Arkays Ave:geo:-82.488726,28.439493
END:VEVENT
BEGIN:VEVENT
DTSTART;TZID=America/New_York:20260209T163000
DTEND;TZID=America/New_York:20260209T173000
DTSTAMP:20260420T230902
CREATED:20260203T001512Z
LAST-MODIFIED:20260209T154410Z
UID:10001664-1770654600-1770658200@classicalprep.org
SUMMARY:Girls Logic Soccer Game @ Imagine
DESCRIPTION:
URL:https://classicalprep.org/event/girls-logic-soccer-game-imagine/
LOCATION:Imagine School At Land O Lakes\, 5800 Land O Lakes Blvd\, Clearwater\, FL\, United States
CATEGORIES:Athletics
GEO:28.241684;-82.460562
X-APPLE-STRUCTURED-LOCATION;VALUE=URI;X-ADDRESS=Imagine School At Land O Lakes 5800 Land O Lakes Blvd Clearwater FL United States;X-APPLE-RADIUS=500;X-TITLE=5800 Land O Lakes Blvd:geo:-82.460562,28.241684
END:VEVENT
BEGIN:VEVENT
DTSTART;TZID=America/New_York:20260211T150000
DTEND;TZID=America/New_York:20260211T160000
DTSTAMP:20260420T230902
CREATED:20260202T001227Z
LAST-MODIFIED:20260211T154550Z
UID:10001659-1770822000-1770825600@classicalprep.org
SUMMARY:Soccer Clinic
DESCRIPTION:
URL:https://classicalprep.org/event/soccer-clinic-2/
LOCATION:Turf
CATEGORIES:Athletics
END:VEVENT
BEGIN:VEVENT
DTSTART;VALUE=DATE:20260212
DTEND;VALUE=DATE:20260213
DTSTAMP:20260420T230902
CREATED:20260106T154121Z
LAST-MODIFIED:20260212T152655Z
UID:10001591-1770854400-1770940799@classicalprep.org
SUMMARY:Spirit Shirt Day
DESCRIPTION:
URL:https://classicalprep.org/event/spirit-shirt-day-68/
LOCATION:FL
CATEGORIES:Logic School
END:VEVENT
BEGIN:VEVENT
DTSTART;VALUE=DATE:20260212
DTEND;VALUE=DATE:20260213
DTSTAMP:20260420T230902
CREATED:20260106T161128Z
LAST-MODIFIED:20260212T143034Z
UID:10001595-1770854400-1770940799@classicalprep.org
SUMMARY:Spirit Shirt Day
DESCRIPTION:
URL:https://classicalprep.org/event/spirit-shirt-day-72/
LOCATION:FL
CATEGORIES:Rhetoric School
END:VEVENT
BEGIN:VEVENT
DTSTART;VALUE=DATE:20260212
DTEND;VALUE=DATE:20260213
DTSTAMP:20260420T230902
CREATED:20260106T161137Z
LAST-MODIFIED:20260212T145623Z
UID:10001604-1770854400-1770940799@classicalprep.org
SUMMARY:Spirit Shirt Day
DESCRIPTION:
URL:https://classicalprep.org/event/spirit-shirt-day-81/
LOCATION:FL
CATEGORIES:Grammar School
END:VEVENT
BEGIN:VEVENT
DTSTART;TZID=America/New_York:20260212T150000
DTEND;TZID=America/New_York:20260212T160000
DTSTAMP:20260420T230902
CREATED:20260202T001227Z
LAST-MODIFIED:20260212T145629Z
UID:10001660-1770908400-1770912000@classicalprep.org
SUMMARY:Volleyball Clinic
DESCRIPTION:
URL:https://classicalprep.org/event/volleyball-clinic-2/
LOCATION:Gym\, 198 Arkays Ave\, Brooksville\, FL\, United States
CATEGORIES:Athletics
GEO:28.439493;-82.488726
X-APPLE-STRUCTURED-LOCATION;VALUE=URI;X-ADDRESS=Gym 198 Arkays Ave Brooksville FL United States;X-APPLE-RADIUS=500;X-TITLE=198 Arkays Ave:geo:-82.488726,28.439493
END:VEVENT
BEGIN:VEVENT
DTSTART;TZID=America/New_York:20260212T173000
DTEND;TZID=America/New_York:20260212T183000
DTSTAMP:20260420T230902
CREATED:20251113T001352Z
LAST-MODIFIED:20260212T152655Z
UID:10001558-1770917400-1770921000@classicalprep.org
SUMMARY:Information Session
DESCRIPTION:
URL:https://classicalprep.org/event/information-session-2/
LOCATION:FL
CATEGORIES:Logic School
END:VEVENT
BEGIN:VEVENT
DTSTART;TZID=America/New_York:20260212T173000
DTEND;TZID=America/New_York:20260212T183000
DTSTAMP:20260420T230902
CREATED:20251113T001422Z
LAST-MODIFIED:20260212T143034Z
UID:10001566-1770917400-1770921000@classicalprep.org
SUMMARY:Information Session
DESCRIPTION:
URL:https://classicalprep.org/event/information-session-6/
LOCATION:FL
CATEGORIES:Rhetoric School
END:VEVENT
BEGIN:VEVENT
DTSTART;TZID=America/New_York:20260212T173000
DTEND;TZID=America/New_York:20260212T183000
DTSTAMP:20260420T230902
CREATED:20251113T001431Z
LAST-MODIFIED:20260212T145623Z
UID:10001570-1770917400-1770921000@classicalprep.org
SUMMARY:Information Session
DESCRIPTION:
URL:https://classicalprep.org/event/information-session-10/
LOCATION:FL
CATEGORIES:Grammar School
END:VEVENT
BEGIN:VEVENT
DTSTART;VALUE=DATE:20260213
DTEND;VALUE=DATE:20260214
DTSTAMP:20260420T230902
CREATED:20250724T001135Z
LAST-MODIFIED:20260213T141621Z
UID:10001200-1770940800-1771027199@classicalprep.org
SUMMARY:Parent Teacher Conferences- No School
DESCRIPTION:
URL:https://classicalprep.org/event/parent-teacher-conferences-no-school/
LOCATION:FL
CATEGORIES:Rhetoric School
END:VEVENT
BEGIN:VEVENT
DTSTART;VALUE=DATE:20260213
DTEND;VALUE=DATE:20260214
DTSTAMP:20260420T230902
CREATED:20250724T001146Z
LAST-MODIFIED:20260213T144219Z
UID:10001248-1770940800-1771027199@classicalprep.org
SUMMARY:Parent Teacher Conferences- No School
DESCRIPTION:
URL:https://classicalprep.org/event/parent-teacher-conferences-no-school-2/
LOCATION:FL
CATEGORIES:Logic School
END:VEVENT
BEGIN:VEVENT
DTSTART;VALUE=DATE:20260213
DTEND;VALUE=DATE:20260214
DTSTAMP:20260420T230902
CREATED:20250724T001316Z
LAST-MODIFIED:20260213T142725Z
UID:10001298-1770940800-1771027199@classicalprep.org
SUMMARY:Parent Teacher Conferences- No School
DESCRIPTION:
URL:https://classicalprep.org/event/parent-teacher-conferences-no-school-3/
LOCATION:FL
CATEGORIES:Grammar School
END:VEVENT
BEGIN:VEVENT
DTSTART;VALUE=DATE:20260213
DTEND;VALUE=DATE:20260214
DTSTAMP:20260420T230902
CREATED:20260128T001247Z
LAST-MODIFIED:20260213T140021Z
UID:10001630-1770940800-1771027199@classicalprep.org
SUMMARY:No School for Students-Conferences
DESCRIPTION:
URL:https://classicalprep.org/event/no-school-for-students-conferences/
LOCATION:FL
CATEGORIES:Athletics
END:VEVENT
BEGIN:VEVENT
DTSTART;VALUE=DATE:20260213
DTEND;VALUE=DATE:20260214
DTSTAMP:20260420T230902
CREATED:20260207T001521Z
LAST-MODIFIED:20260213T140021Z
UID:10001691-1770940800-1771027199@classicalprep.org
SUMMARY:Track Meet @ East Lake
DESCRIPTION:
URL:https://classicalprep.org/event/track-meet-east-lake/
LOCATION:FL
CATEGORIES:Athletics
END:VEVENT
BEGIN:VEVENT
DTSTART;VALUE=DATE:20260216
DTEND;VALUE=DATE:20260217
DTSTAMP:20260420T230902
CREATED:20250724T001136Z
LAST-MODIFIED:20260216T160034Z
UID:10001201-1771200000-1771286399@classicalprep.org
SUMMARY:Presidents' Day- No School
DESCRIPTION:
URL:https://classicalprep.org/event/presidents-day-no-school/
LOCATION:FL
CATEGORIES:Rhetoric School
END:VEVENT
BEGIN:VEVENT
DTSTART;VALUE=DATE:20260216
DTEND;VALUE=DATE:20260217
DTSTAMP:20260420T230902
CREATED:20250724T001146Z
LAST-MODIFIED:20260216T152851Z
UID:10001249-1771200000-1771286399@classicalprep.org
SUMMARY:Presidents' Day- No School
DESCRIPTION:
URL:https://classicalprep.org/event/presidents-day-no-school-2/
LOCATION:FL
CATEGORIES:Logic School
END:VEVENT
BEGIN:VEVENT
DTSTART;VALUE=DATE:20260216
DTEND;VALUE=DATE:20260217
DTSTAMP:20260420T230902
CREATED:20250724T001316Z
LAST-MODIFIED:20260216T154455Z
UID:10001299-1771200000-1771286399@classicalprep.org
SUMMARY:Presidents' Day- No School
DESCRIPTION:
URL:https://classicalprep.org/event/presidents-day-no-school-3/
LOCATION:FL
CATEGORIES:Grammar School
END:VEVENT
BEGIN:VEVENT
DTSTART;VALUE=DATE:20260216
DTEND;VALUE=DATE:20260217
DTSTAMP:20260420T230902
CREATED:20260128T001247Z
LAST-MODIFIED:20260216T154437Z
UID:10001631-1771200000-1771286399@classicalprep.org
SUMMARY:No School
DESCRIPTION:
URL:https://classicalprep.org/event/no-school-33/
LOCATION:FL
CATEGORIES:Athletics
END:VEVENT
BEGIN:VEVENT
DTSTART;VALUE=DATE:20260217
DTEND;VALUE=DATE:20260218
DTSTAMP:20260420T230902
CREATED:20260207T001521Z
LAST-MODIFIED:20260217T141537Z
UID:10001692-1771286400-1771372799@classicalprep.org
SUMMARY:Track Meet @ Cypress Creek
DESCRIPTION:
URL:https://classicalprep.org/event/track-meet-cypress-creek/
LOCATION:FL
CATEGORIES:Athletics
END:VEVENT
BEGIN:VEVENT
DTSTART;TZID=America/New_York:20260217T180000
DTEND;TZID=America/New_York:20260217T190000
DTSTAMP:20260420T230902
CREATED:20260204T001503Z
LAST-MODIFIED:20260217T141537Z
UID:10001674-1771351200-1771354800@classicalprep.org
SUMMARY:Girls Flag Football Game vs Weeki Wachee
DESCRIPTION:
URL:https://classicalprep.org/event/girls-flag-football-game-vs-weeki-wachee/
LOCATION:W.H. Jack Mitchell Jr. Park is located at 4825 Little Rd\, New Port Richey\, FL\, United States
CATEGORIES:Athletics
GEO:28.216016;-82.67162
END:VEVENT
BEGIN:VEVENT
DTSTART;VALUE=DATE:20260218
DTEND;VALUE=DATE:20260219
DTSTAMP:20260420T230902
CREATED:20250913T000905Z
LAST-MODIFIED:20260218T151219Z
UID:10001446-1771372800-1771459199@classicalprep.org
SUMMARY:6th Grade Field Trip
DESCRIPTION:
URL:https://classicalprep.org/event/6th-grade-field-trip-2/
LOCATION:FL
CATEGORIES:Logic School
END:VEVENT
BEGIN:VEVENT
DTSTART;TZID=America/New_York:20260218T081500
DTEND;TZID=America/New_York:20260218T091500
DTSTAMP:20260420T230902
CREATED:20260129T001136Z
LAST-MODIFIED:20260218T141311Z
UID:10001635-1771402500-1771406100@classicalprep.org
SUMMARY:Volunteer Meeting
DESCRIPTION:
URL:https://classicalprep.org/event/volunteer-meeting-8/
LOCATION:FL
CATEGORIES:Grammar School
END:VEVENT
BEGIN:VEVENT
DTSTART;TZID=America/New_York:20260218T081500
DTEND;TZID=America/New_York:20260218T091500
DTSTAMP:20260420T230902
CREATED:20260129T001142Z
LAST-MODIFIED:20260218T134257Z
UID:10001642-1771402500-1771406100@classicalprep.org
SUMMARY:Volunteer Meeting
DESCRIPTION:
URL:https://classicalprep.org/event/volunteer-meeting-9/
LOCATION:FL
CATEGORIES:Rhetoric School
END:VEVENT
END:VCALENDAR