BEGIN:VCALENDAR
VERSION:2.0
PRODID:-//Classical Preparatory School - ECPv6.15.15//NONSGML v1.0//EN
CALSCALE:GREGORIAN
METHOD:PUBLISH
X-ORIGINAL-URL:https://classicalprep.org
X-WR-CALDESC:Events for Classical Preparatory School
REFRESH-INTERVAL;VALUE=DURATION:PT1H
X-Robots-Tag:noindex
X-PUBLISHED-TTL:PT1H
BEGIN:VTIMEZONE
TZID:America/New_York
BEGIN:DAYLIGHT
TZOFFSETFROM:-0500
TZOFFSETTO:-0400
TZNAME:EDT
DTSTART:20250309T070000
END:DAYLIGHT
BEGIN:STANDARD
TZOFFSETFROM:-0400
TZOFFSETTO:-0500
TZNAME:EST
DTSTART:20251102T060000
END:STANDARD
BEGIN:DAYLIGHT
TZOFFSETFROM:-0500
TZOFFSETTO:-0400
TZNAME:EDT
DTSTART:20260308T070000
END:DAYLIGHT
BEGIN:STANDARD
TZOFFSETFROM:-0400
TZOFFSETTO:-0500
TZNAME:EST
DTSTART:20261101T060000
END:STANDARD
BEGIN:DAYLIGHT
TZOFFSETFROM:-0500
TZOFFSETTO:-0400
TZNAME:EDT
DTSTART:20270314T070000
END:DAYLIGHT
BEGIN:STANDARD
TZOFFSETFROM:-0400
TZOFFSETTO:-0500
TZNAME:EST
DTSTART:20271107T060000
END:STANDARD
END:VTIMEZONE
BEGIN:VEVENT
DTSTART;VALUE=DATE:20260219
DTEND;VALUE=DATE:20260220
DTSTAMP:20260424T130622
CREATED:20260116T001505Z
LAST-MODIFIED:20260219T124249Z
UID:10001621-1771459200-1771545599@classicalprep.org
SUMMARY:Mandatory Parent Night (5th Grade)
DESCRIPTION:
URL:https://classicalprep.org/event/mandatory-parent-night-5th-grade/
CATEGORIES:Grammar School
END:VEVENT
BEGIN:VEVENT
DTSTART;VALUE=DATE:20260219
DTEND;VALUE=DATE:20260220
DTSTAMP:20260424T130622
CREATED:20260116T001534Z
LAST-MODIFIED:20260219T122657Z
UID:10001623-1771459200-1771545599@classicalprep.org
SUMMARY:Mandatory Parent Night (5th Grade)
DESCRIPTION:
URL:https://classicalprep.org/event/mandatory-parent-night-5th-grade-2/
CATEGORIES:Logic School
END:VEVENT
BEGIN:VEVENT
DTSTART;TZID=America/New_York:20260219T150000
DTEND;TZID=America/New_York:20260219T160000
DTSTAMP:20260424T130622
CREATED:20260202T001228Z
LAST-MODIFIED:20260219T124236Z
UID:10001662-1771513200-1771516800@classicalprep.org
SUMMARY:Volleyball Clinic
DESCRIPTION:
URL:https://classicalprep.org/event/volleyball-clinic-last-day/
LOCATION:Gym\, 198 Arkays Ave\, Brooksville\, FL\, United States
CATEGORIES:Athletics
GEO:28.439493;-82.488726
X-APPLE-STRUCTURED-LOCATION;VALUE=URI;X-ADDRESS=Gym 198 Arkays Ave Brooksville FL United States;X-APPLE-RADIUS=500;X-TITLE=198 Arkays Ave:geo:-82.488726,28.439493
END:VEVENT
BEGIN:VEVENT
DTSTART;TZID=America/New_York:20260219T160000
DTEND;TZID=America/New_York:20260219T170000
DTSTAMP:20260424T130622
CREATED:20250521T162546Z
LAST-MODIFIED:20260219T124236Z
UID:10001140-1771516800-1771520400@classicalprep.org
SUMMARY:Girls Flag Football Game vs. Cypress Creek
DESCRIPTION:
URL:https://classicalprep.org/event/girls-flag-football-game-vs-cypress-creek/
LOCATION:Elsie Logan Memorial Park\, 15829 Shady Hills Rd\, Brooksville\, FL\, United States
CATEGORIES:Athletics
GEO:28.388541;-82.551139
X-APPLE-STRUCTURED-LOCATION;VALUE=URI;X-ADDRESS=Elsie Logan Memorial Park 15829 Shady Hills Rd Brooksville FL United States;X-APPLE-RADIUS=500;X-TITLE=15829 Shady Hills Rd:geo:-82.551139,28.388541
END:VEVENT
BEGIN:VEVENT
DTSTART;TZID=America/New_York:20260220T163000
DTEND;TZID=America/New_York:20260220T173000
DTSTAMP:20260424T130622
CREATED:20260203T001514Z
LAST-MODIFIED:20260220T142659Z
UID:10001666-1771605000-1771608600@classicalprep.org
SUMMARY:Girls Logic Soccer Game vs Lutz Prep
DESCRIPTION:
URL:https://classicalprep.org/event/girls-logic-soccer-game-vs-lutz-prep/
LOCATION:Veterans Memorial Park\, 14333 Hicks Rd\, Hudson\, FL\, United States
CATEGORIES:Athletics
GEO:28.364913;-82.64956
X-APPLE-STRUCTURED-LOCATION;VALUE=URI;X-ADDRESS=Veterans Memorial Park 14333 Hicks Rd Hudson FL United States;X-APPLE-RADIUS=500;X-TITLE=14333 Hicks Rd:geo:-82.64956,28.364913
END:VEVENT
BEGIN:VEVENT
DTSTART;VALUE=DATE:20260221
DTEND;VALUE=DATE:20260222
DTSTAMP:20260424T130622
CREATED:20260129T001136Z
LAST-MODIFIED:20260221T125844Z
UID:10001636-1771632000-1771718399@classicalprep.org
SUMMARY:Father Daughter Dance
DESCRIPTION:
URL:https://classicalprep.org/event/father-daughter-dance-2/
CATEGORIES:Grammar School
END:VEVENT
BEGIN:VEVENT
DTSTART;TZID=America/New_York:20260223T150000
DTEND;TZID=America/New_York:20260223T160000
DTSTAMP:20260424T130622
CREATED:20260202T001229Z
LAST-MODIFIED:20260223T131531Z
UID:10001663-1771858800-1771862400@classicalprep.org
SUMMARY:Basketball Clinic
DESCRIPTION:
URL:https://classicalprep.org/event/basketball-clinic-3/
LOCATION:Gym\, 198 Arkays Ave\, Brooksville\, FL\, United States
CATEGORIES:Athletics
GEO:28.439493;-82.488726
X-APPLE-STRUCTURED-LOCATION;VALUE=URI;X-ADDRESS=Gym 198 Arkays Ave Brooksville FL United States;X-APPLE-RADIUS=500;X-TITLE=198 Arkays Ave:geo:-82.488726,28.439493
END:VEVENT
BEGIN:VEVENT
DTSTART;TZID=America/New_York:20260223T163000
DTEND;TZID=America/New_York:20260223T173000
DTSTAMP:20260424T130622
CREATED:20260203T001515Z
LAST-MODIFIED:20260223T131532Z
UID:10001667-1771864200-1771867800@classicalprep.org
SUMMARY:Girls Logic Soccer Game vs Pinecrest WC
DESCRIPTION:
URL:https://classicalprep.org/event/girls-logic-soccer-game-vs-pinecrest-wc/
LOCATION:Veterans Memorial Park\, 14333 Hicks Rd\, Hudson\, FL\, United States
CATEGORIES:Athletics
GEO:28.364913;-82.64956
X-APPLE-STRUCTURED-LOCATION;VALUE=URI;X-ADDRESS=Veterans Memorial Park 14333 Hicks Rd Hudson FL United States;X-APPLE-RADIUS=500;X-TITLE=14333 Hicks Rd:geo:-82.64956,28.364913
END:VEVENT
BEGIN:VEVENT
DTSTART;VALUE=DATE:20260225
DTEND;VALUE=DATE:20260226
DTSTAMP:20260424T130622
CREATED:20250724T001136Z
LAST-MODIFIED:20260225T135625Z
UID:10001202-1771977600-1772063999@classicalprep.org
SUMMARY:Scholar of the Month
DESCRIPTION:
URL:https://classicalprep.org/event/scholar-of-the-month-6/
CATEGORIES:Rhetoric School
END:VEVENT
BEGIN:VEVENT
DTSTART;VALUE=DATE:20260225
DTEND;VALUE=DATE:20260226
DTSTAMP:20260424T130622
CREATED:20250724T001146Z
LAST-MODIFIED:20260225T131430Z
UID:10001250-1771977600-1772063999@classicalprep.org
SUMMARY:Scholar of the Month
DESCRIPTION:
URL:https://classicalprep.org/event/scholar-of-the-month-14/
CATEGORIES:Logic School
END:VEVENT
BEGIN:VEVENT
DTSTART;VALUE=DATE:20260225
DTEND;VALUE=DATE:20260226
DTSTAMP:20260424T130622
CREATED:20250724T001316Z
LAST-MODIFIED:20260225T125907Z
UID:10001300-1771977600-1772063999@classicalprep.org
SUMMARY:Scholar of the Month
DESCRIPTION:
URL:https://classicalprep.org/event/scholar-of-the-month-22/
CATEGORIES:Grammar School
END:VEVENT
BEGIN:VEVENT
DTSTART;TZID=America/New_York:20260226T150000
DTEND;TZID=America/New_York:20260226T160000
DTSTAMP:20260424T130622
CREATED:20260206T124302Z
LAST-MODIFIED:20260226T114518Z
UID:10001689-1772118000-1772121600@classicalprep.org
SUMMARY:Volleyball Clinic-Last Day
DESCRIPTION:
URL:https://classicalprep.org/event/volleyball-clinic-last-day-2/
LOCATION:Gym\, 198 Arkays Ave\, Brooksville\, FL\, United States
CATEGORIES:Athletics
GEO:28.439493;-82.488726
X-APPLE-STRUCTURED-LOCATION;VALUE=URI;X-ADDRESS=Gym 198 Arkays Ave Brooksville FL United States;X-APPLE-RADIUS=500;X-TITLE=198 Arkays Ave:geo:-82.488726,28.439493
END:VEVENT
BEGIN:VEVENT
DTSTART;TZID=America/New_York:20260226T150000
DTEND;TZID=America/New_York:20260226T180000
DTSTAMP:20260424T130622
CREATED:20260207T001528Z
LAST-MODIFIED:20260226T114518Z
UID:10001693-1772118000-1772128800@classicalprep.org
SUMMARY:Track Meet @ Hernando High
DESCRIPTION:
URL:https://classicalprep.org/event/track-meet-hernando-high/
LOCATION:Hernando High School\, 12101 Old Chatman Rd\, Brooksville\, FL\, United States
CATEGORIES:Athletics
GEO:28.602012;-82.394778
X-APPLE-STRUCTURED-LOCATION;VALUE=URI;X-ADDRESS=Hernando High School 12101 Old Chatman Rd Brooksville FL United States;X-APPLE-RADIUS=500;X-TITLE=12101 Old Chatman Rd:geo:-82.394778,28.602012
END:VEVENT
BEGIN:VEVENT
DTSTART;TZID=America/New_York:20260226T163000
DTEND;TZID=America/New_York:20260226T173000
DTSTAMP:20260424T130622
CREATED:20260203T001515Z
LAST-MODIFIED:20260226T114519Z
UID:10001668-1772123400-1772127000@classicalprep.org
SUMMARY:Girls Logic Soccer Game @ Innovation Prep
DESCRIPTION:
URL:https://classicalprep.org/event/girls-logic-soccer-game-innovation-prep/
LOCATION:Wesley Chapel District Park\, 7727 Boyette Rd\, Zephyrhills\, FL\, United States
CATEGORIES:Athletics
GEO:28.271759;-82.32026
X-APPLE-STRUCTURED-LOCATION;VALUE=URI;X-ADDRESS=Wesley Chapel District Park 7727 Boyette Rd Zephyrhills FL United States;X-APPLE-RADIUS=500;X-TITLE=7727 Boyette Rd:geo:-82.32026,28.271759
END:VEVENT
BEGIN:VEVENT
DTSTART;TZID=America/New_York:20260226T163000
DTEND;TZID=America/New_York:20260226T180000
DTSTAMP:20260424T130622
CREATED:20260126T153024Z
LAST-MODIFIED:20260226T114519Z
UID:10001628-1772123400-1772128800@classicalprep.org
SUMMARY:Girls Flag Football Game vs Pasco High
DESCRIPTION:
URL:https://classicalprep.org/event/girls-flag-football-game-vs-pasco-high/
LOCATION:Land O’ Lakes Heritage Park\, 5401 Land O' Lakes Blvd\, Land O' Lakes\, FL\, United States
CATEGORIES:Athletics
GEO:28.233722;-82.459046
X-APPLE-STRUCTURED-LOCATION;VALUE=URI;X-ADDRESS=Land O’ Lakes Heritage Park 5401 Land O' Lakes Blvd Land O' Lakes FL United States;X-APPLE-RADIUS=500;X-TITLE=5401 Land O' Lakes Blvd:geo:-82.459046,28.233722
END:VEVENT
BEGIN:VEVENT
DTSTART;VALUE=DATE:20260227
DTEND;VALUE=DATE:20260228
DTSTAMP:20260424T130622
CREATED:20260106T154122Z
LAST-MODIFIED:20260227T091308Z
UID:10001592-1772150400-1772236799@classicalprep.org
SUMMARY:Spirit Shirt Day
DESCRIPTION:
URL:https://classicalprep.org/event/spirit-shirt-day-69/
CATEGORIES:Logic School
END:VEVENT
BEGIN:VEVENT
DTSTART;VALUE=DATE:20260227
DTEND;VALUE=DATE:20260228
DTSTAMP:20260424T130622
CREATED:20260106T161129Z
LAST-MODIFIED:20260227T101433Z
UID:10001596-1772150400-1772236799@classicalprep.org
SUMMARY:Spirit Shirt Day
DESCRIPTION:
URL:https://classicalprep.org/event/spirit-shirt-day-73/
CATEGORIES:Rhetoric School
END:VEVENT
BEGIN:VEVENT
DTSTART;VALUE=DATE:20260227
DTEND;VALUE=DATE:20260228
DTSTAMP:20260424T130622
CREATED:20260106T161137Z
LAST-MODIFIED:20260227T094314Z
UID:10001605-1772150400-1772236799@classicalprep.org
SUMMARY:Spirit Shirt Day
DESCRIPTION:
URL:https://classicalprep.org/event/spirit-shirt-day-82/
CATEGORIES:Grammar School
END:VEVENT
BEGIN:VEVENT
DTSTART;VALUE=DATE:20260227
DTEND;VALUE=DATE:20260228
DTSTAMP:20260424T130622
CREATED:20260129T001137Z
LAST-MODIFIED:20260227T094314Z
UID:10001637-1772150400-1772236799@classicalprep.org
SUMMARY:Art Show
DESCRIPTION:
URL:https://classicalprep.org/event/art-show/
CATEGORIES:Grammar School
END:VEVENT
BEGIN:VEVENT
DTSTART;VALUE=DATE:20260227
DTEND;VALUE=DATE:20260228
DTSTAMP:20260424T130622
CREATED:20260129T001142Z
LAST-MODIFIED:20260227T101433Z
UID:10001643-1772150400-1772236799@classicalprep.org
SUMMARY:Art Show
DESCRIPTION:
URL:https://classicalprep.org/event/art-show-2/
CATEGORIES:Rhetoric School
END:VEVENT
BEGIN:VEVENT
DTSTART;VALUE=DATE:20260227
DTEND;VALUE=DATE:20260228
DTSTAMP:20260424T130622
CREATED:20260129T001151Z
LAST-MODIFIED:20260227T091308Z
UID:10001649-1772150400-1772236799@classicalprep.org
SUMMARY:Art Show
DESCRIPTION:
URL:https://classicalprep.org/event/art-show-3/
CATEGORIES:Logic School
END:VEVENT
BEGIN:VEVENT
DTSTART;TZID=America/New_York:20260227T163000
DTEND;TZID=America/New_York:20260227T173000
DTSTAMP:20260424T130622
CREATED:20260203T001516Z
LAST-MODIFIED:20260227T085712Z
UID:10001669-1772209800-1772213400@classicalprep.org
SUMMARY:Girls Logic Soccer Game @ Trinity
DESCRIPTION:
URL:https://classicalprep.org/event/girls-logic-soccer-game-trinity/
LOCATION:Shimberg Sports Complex\, 7309 Baseball Ave\, Tampa\, FL\, United States
CATEGORIES:Athletics
GEO:28.01173;-82.55632
X-APPLE-STRUCTURED-LOCATION;VALUE=URI;X-ADDRESS=Shimberg Sports Complex 7309 Baseball Ave Tampa FL United States;X-APPLE-RADIUS=500;X-TITLE=7309 Baseball Ave:geo:-82.55632,28.01173
END:VEVENT
BEGIN:VEVENT
DTSTART;TZID=America/New_York:20260302T150000
DTEND;TZID=America/New_York:20260302T160000
DTSTAMP:20260424T130622
CREATED:20260224T001135Z
LAST-MODIFIED:20260302T131124Z
UID:10001712-1772463600-1772467200@classicalprep.org
SUMMARY:Basketball Clinic-last day
DESCRIPTION:
URL:https://classicalprep.org/event/basketball-clinic-last-day/
LOCATION:Gym\, 198 Arkays Ave\, Brooksville\, FL\, United States
CATEGORIES:Athletics
GEO:28.439493;-82.488726
X-APPLE-STRUCTURED-LOCATION;VALUE=URI;X-ADDRESS=Gym 198 Arkays Ave Brooksville FL United States;X-APPLE-RADIUS=500;X-TITLE=198 Arkays Ave:geo:-82.488726,28.439493
END:VEVENT
BEGIN:VEVENT
DTSTART;TZID=America/New_York:20260302T163000
DTEND;TZID=America/New_York:20260302T173000
DTSTAMP:20260424T130622
CREATED:20260226T114520Z
LAST-MODIFIED:20260302T131125Z
UID:10001720-1772469000-1772472600@classicalprep.org
SUMMARY:Logic Girls Soccer Game @ Trinity
DESCRIPTION:
URL:https://classicalprep.org/event/logic-girls-soccer-game-trinity-2/
LOCATION:Shimberg Sports Complex\, 7309 Baseball Ave\, Tampa\, FL\, United States
CATEGORIES:Athletics
GEO:28.01173;-82.55632
X-APPLE-STRUCTURED-LOCATION;VALUE=URI;X-ADDRESS=Shimberg Sports Complex 7309 Baseball Ave Tampa FL United States;X-APPLE-RADIUS=500;X-TITLE=7309 Baseball Ave:geo:-82.55632,28.01173
END:VEVENT
BEGIN:VEVENT
DTSTART;TZID=America/New_York:20260303T163000
DTEND;TZID=America/New_York:20260303T173000
DTSTAMP:20260424T130623
CREATED:20260203T001517Z
LAST-MODIFIED:20260303T131453Z
UID:10001670-1772555400-1772559000@classicalprep.org
SUMMARY:Girls Logic Soccer Game vs Learning Gate
DESCRIPTION:
URL:https://classicalprep.org/event/girls-logic-soccer-game-vs-learning-gate/
LOCATION:Veterans Memorial Park\, 14333 Hicks Rd\, Hudson\, FL\, United States
CATEGORIES:Athletics
GEO:28.364913;-82.64956
X-APPLE-STRUCTURED-LOCATION;VALUE=URI;X-ADDRESS=Veterans Memorial Park 14333 Hicks Rd Hudson FL United States;X-APPLE-RADIUS=500;X-TITLE=14333 Hicks Rd:geo:-82.64956,28.364913
END:VEVENT
BEGIN:VEVENT
DTSTART;TZID=America/New_York:20260304T163000
DTEND;TZID=America/New_York:20260304T173000
DTSTAMP:20260424T130623
CREATED:20260203T001517Z
LAST-MODIFIED:20260226T102651Z
UID:10001671-1772641800-1772645400@classicalprep.org
SUMMARY:Girls Logic Soccer Game @ NTCA
DESCRIPTION:
URL:https://classicalprep.org/event/girls-logic-soccer-game-ntca/
LOCATION:North Tampa Christian Academy\, 25201 Wesley Chapel Blvd\, Wesley Chapel\, FL\, United States
CATEGORIES:Athletics
GEO:28.229011;-82.37437
X-APPLE-STRUCTURED-LOCATION;VALUE=URI;X-ADDRESS=North Tampa Christian Academy 25201 Wesley Chapel Blvd Wesley Chapel FL United States;X-APPLE-RADIUS=500;X-TITLE=25201 Wesley Chapel Blvd:geo:-82.37437,28.229011
END:VEVENT
BEGIN:VEVENT
DTSTART;VALUE=DATE:20260305
DTEND;VALUE=DATE:20260306
DTSTAMP:20260424T130623
CREATED:20250913T000849Z
LAST-MODIFIED:20260305T125823Z
UID:10001442-1772668800-1772755199@classicalprep.org
SUMMARY:4th Grade Field Trip
DESCRIPTION:
URL:https://classicalprep.org/event/4th-grade-field-trip-2/
CATEGORIES:Grammar School
END:VEVENT
BEGIN:VEVENT
DTSTART;TZID=America/New_York:20260305T163000
DTEND;TZID=America/New_York:20260305T173000
DTSTAMP:20260424T130623
CREATED:20260203T001517Z
LAST-MODIFIED:20260305T132940Z
UID:10001672-1772728200-1772731800@classicalprep.org
SUMMARY:Girls Logic Soccer Game vs SAMS
DESCRIPTION:
URL:https://classicalprep.org/event/girls-logic-soccer-game-vs-sams/
LOCATION:Veterans Memorial Park\, 14333 Hicks Rd\, Hudson\, FL\, United States
CATEGORIES:Athletics
GEO:28.364913;-82.64956
X-APPLE-STRUCTURED-LOCATION;VALUE=URI;X-ADDRESS=Veterans Memorial Park 14333 Hicks Rd Hudson FL United States;X-APPLE-RADIUS=500;X-TITLE=14333 Hicks Rd:geo:-82.64956,28.364913
END:VEVENT
BEGIN:VEVENT
DTSTART;TZID=America/New_York:20260305T190000
DTEND;TZID=America/New_York:20260305T200000
DTSTAMP:20260424T130623
CREATED:20260105T181059Z
LAST-MODIFIED:20260306T002733Z
UID:10001584-1772737200-1772740800@classicalprep.org
SUMMARY:Flag Football Game @ Tarpon Springs
DESCRIPTION:
URL:https://classicalprep.org/event/flag-football-game-tarpon-springs/
CATEGORIES:Athletics
END:VEVENT
BEGIN:VEVENT
DTSTART;VALUE=DATE:20260306
DTEND;VALUE=DATE:20260307
DTSTAMP:20260424T130623
CREATED:20250913T000928Z
LAST-MODIFIED:20260306T120047Z
UID:10001453-1772755200-1772841599@classicalprep.org
SUMMARY:9th-12th Grade Field Trip
DESCRIPTION:
URL:https://classicalprep.org/event/9th-12th-grade-field-trip/
CATEGORIES:Rhetoric School
END:VEVENT
END:VCALENDAR