BEGIN:VCALENDAR
VERSION:2.0
PRODID:-//Classical Preparatory School - ECPv6.15.15//NONSGML v1.0//EN
CALSCALE:GREGORIAN
METHOD:PUBLISH
X-WR-CALNAME:Classical Preparatory School
X-ORIGINAL-URL:https://classicalprep.org
X-WR-CALDESC:Events for Classical Preparatory School
REFRESH-INTERVAL;VALUE=DURATION:PT1H
X-Robots-Tag:noindex
X-PUBLISHED-TTL:PT1H
BEGIN:VTIMEZONE
TZID:America/New_York
BEGIN:DAYLIGHT
TZOFFSETFROM:-0500
TZOFFSETTO:-0400
TZNAME:EDT
DTSTART:20240310T070000
END:DAYLIGHT
BEGIN:STANDARD
TZOFFSETFROM:-0400
TZOFFSETTO:-0500
TZNAME:EST
DTSTART:20241103T060000
END:STANDARD
BEGIN:DAYLIGHT
TZOFFSETFROM:-0500
TZOFFSETTO:-0400
TZNAME:EDT
DTSTART:20250309T070000
END:DAYLIGHT
BEGIN:STANDARD
TZOFFSETFROM:-0400
TZOFFSETTO:-0500
TZNAME:EST
DTSTART:20251102T060000
END:STANDARD
BEGIN:DAYLIGHT
TZOFFSETFROM:-0500
TZOFFSETTO:-0400
TZNAME:EDT
DTSTART:20260308T070000
END:DAYLIGHT
BEGIN:STANDARD
TZOFFSETFROM:-0400
TZOFFSETTO:-0500
TZNAME:EST
DTSTART:20261101T060000
END:STANDARD
END:VTIMEZONE
BEGIN:VEVENT
DTSTART;TZID=America/New_York:20250303T123000
DTEND;TZID=America/New_York:20250303T131500
DTSTAMP:20260425T094727
CREATED:20250219T175727Z
LAST-MODIFIED:20250303T162524Z
UID:10001038-1741005000-1741007700@classicalprep.org
SUMMARY:Dr. Seuss Reading Buddies - Kindergarten & 2nd Grade
DESCRIPTION:
URL:https://classicalprep.org/event/dr-seuss-reading-buddies-kindergarten-2nd-grade/
CATEGORIES:Grammar School
END:VEVENT
BEGIN:VEVENT
DTSTART;TZID=America/New_York:20250303T160000
DTEND;TZID=America/New_York:20250303T173000
DTSTAMP:20260425T094727
CREATED:20250106T192348Z
LAST-MODIFIED:20250303T214008Z
UID:10000962-1741017600-1741023000@classicalprep.org
SUMMARY:Girls Flag Football Game @ Bishop
DESCRIPTION:
URL:https://classicalprep.org/event/girls-flag-football-game-vs-bishop-2/
LOCATION:Elsie Logan Memorial Park\, 15829 Shady Hills Rd\, Brooksville\, FL\, United States
CATEGORIES:Athletics
GEO:28.388541;-82.551139
X-APPLE-STRUCTURED-LOCATION;VALUE=URI;X-ADDRESS=Elsie Logan Memorial Park 15829 Shady Hills Rd Brooksville FL United States;X-APPLE-RADIUS=500;X-TITLE=15829 Shady Hills Rd:geo:-82.551139,28.388541
END:VEVENT
BEGIN:VEVENT
DTSTART;TZID=America/New_York:20250304T173000
DTEND;TZID=America/New_York:20250304T183000
DTSTAMP:20260425T094727
CREATED:20250117T151229Z
LAST-MODIFIED:20250304T211134Z
UID:10000979-1741109400-1741113000@classicalprep.org
SUMMARY:Information Session (Enrollment)
DESCRIPTION:
URL:https://classicalprep.org/event/information-session-enrollment-2/
CATEGORIES:Grammar School
END:VEVENT
BEGIN:VEVENT
DTSTART;TZID=America/New_York:20250304T173000
DTEND;TZID=America/New_York:20250304T183000
DTSTAMP:20260425T094727
CREATED:20250117T164256Z
LAST-MODIFIED:20250304T192703Z
UID:10000985-1741109400-1741113000@classicalprep.org
SUMMARY:Information Session (Enrollment)
DESCRIPTION:
URL:https://classicalprep.org/event/information-session-enrollment-5/
CATEGORIES:Logic School
END:VEVENT
BEGIN:VEVENT
DTSTART;TZID=America/New_York:20250304T173000
DTEND;TZID=America/New_York:20250304T183000
DTSTAMP:20260425T094727
CREATED:20250117T175640Z
LAST-MODIFIED:20250304T214003Z
UID:10000991-1741109400-1741113000@classicalprep.org
SUMMARY:Information Session (Enrollment)
DESCRIPTION:
URL:https://classicalprep.org/event/information-session-enrollment-8/
CATEGORIES:Rhetoric School
END:VEVENT
BEGIN:VEVENT
DTSTART;TZID=America/New_York:20250305T150000
DTEND;TZID=America/New_York:20250305T190000
DTSTAMP:20260425T094727
CREATED:20250303T191056Z
LAST-MODIFIED:20250305T215856Z
UID:10001051-1741186800-1741201200@classicalprep.org
SUMMARY:Varsity Boys Track Meet
DESCRIPTION:
URL:https://classicalprep.org/event/varsity-boys-track-meet/
LOCATION:Hernando High School\, 12101 Old Chatman Rd\, Brooksville\, FL\, United States
CATEGORIES:Athletics
GEO:28.602012;-82.394778
X-APPLE-STRUCTURED-LOCATION;VALUE=URI;X-ADDRESS=Hernando High School 12101 Old Chatman Rd Brooksville FL United States;X-APPLE-RADIUS=500;X-TITLE=12101 Old Chatman Rd:geo:-82.394778,28.602012
END:VEVENT
BEGIN:VEVENT
DTSTART;TZID=America/New_York:20250305T190000
DTEND;TZID=America/New_York:20250305T200000
DTSTAMP:20260425T094727
CREATED:20250129T194059Z
LAST-MODIFIED:20250306T002514Z
UID:10000997-1741201200-1741204800@classicalprep.org
SUMMARY:Girls Flag Football game vs. Anclote
DESCRIPTION:
URL:https://classicalprep.org/event/girls-flag-football-game-vs-anclote/
LOCATION:Elsie Logan Memorial Park\, 15829 Shady Hills Rd\, Brooksville\, FL\, United States
CATEGORIES:Athletics
GEO:28.388541;-82.551139
X-APPLE-STRUCTURED-LOCATION;VALUE=URI;X-ADDRESS=Elsie Logan Memorial Park 15829 Shady Hills Rd Brooksville FL United States;X-APPLE-RADIUS=500;X-TITLE=15829 Shady Hills Rd:geo:-82.551139,28.388541
END:VEVENT
BEGIN:VEVENT
DTSTART;TZID=America/New_York:20250306T170000
DTEND;TZID=America/New_York:20250306T180000
DTSTAMP:20260425T094727
CREATED:20250303T191057Z
LAST-MODIFIED:20250306T215602Z
UID:10001052-1741280400-1741284000@classicalprep.org
SUMMARY:Gym unavailable AAU Tryouts
DESCRIPTION:
URL:https://classicalprep.org/event/gym-unavailable-aau-tryouts/
LOCATION:Classical Preparatory School\, 18000 Spring Prairie Ln\, Brooksville\, FL\, United States
CATEGORIES:Athletics
GEO:28.419249;-82.446587
X-APPLE-STRUCTURED-LOCATION;VALUE=URI;X-ADDRESS=Classical Preparatory School 18000 Spring Prairie Ln Brooksville FL United States;X-APPLE-RADIUS=500;X-TITLE=18000 Spring Prairie Ln:geo:-82.446587,28.419249
END:VEVENT
BEGIN:VEVENT
DTSTART;VALUE=DATE:20250307
DTEND;VALUE=DATE:20250308
DTSTAMP:20260425T094727
CREATED:20240725T143839Z
LAST-MODIFIED:20250226T132436Z
UID:10000460-1741305600-1741391999@classicalprep.org
SUMMARY:Re-Enrollment Ends
DESCRIPTION:
URL:https://classicalprep.org/event/re-enrollment-ends/
CATEGORIES:Grammar School
END:VEVENT
BEGIN:VEVENT
DTSTART;VALUE=DATE:20250307
DTEND;VALUE=DATE:20250308
DTSTAMP:20260425T094727
CREATED:20240725T143840Z
LAST-MODIFIED:20250307T205745Z
UID:10000461-1741305600-1741391999@classicalprep.org
SUMMARY:Spirit Shirt Day
DESCRIPTION:
URL:https://classicalprep.org/event/spirit-shirt-day-39/
CATEGORIES:Grammar School
END:VEVENT
BEGIN:VEVENT
DTSTART;VALUE=DATE:20250307
DTEND;VALUE=DATE:20250308
DTSTAMP:20260425T094727
CREATED:20240725T145909Z
LAST-MODIFIED:20250307T212454Z
UID:10000477-1741305600-1741391999@classicalprep.org
SUMMARY:Spirit Shirt Day
DESCRIPTION:
URL:https://classicalprep.org/event/spirit-shirt-day-41/
CATEGORIES:Logic School
END:VEVENT
BEGIN:VEVENT
DTSTART;VALUE=DATE:20250307
DTEND;VALUE=DATE:20250308
DTSTAMP:20260425T094727
CREATED:20240725T145910Z
LAST-MODIFIED:20250226T115543Z
UID:10000478-1741305600-1741391999@classicalprep.org
SUMMARY:Re-Enrollment Ends
DESCRIPTION:
URL:https://classicalprep.org/event/re-enrollment-ends-2/
CATEGORIES:Logic School
END:VEVENT
BEGIN:VEVENT
DTSTART;VALUE=DATE:20250307
DTEND;VALUE=DATE:20250308
DTSTAMP:20260425T094727
CREATED:20240725T152449Z
LAST-MODIFIED:20250307T211408Z
UID:10000504-1741305600-1741391999@classicalprep.org
SUMMARY:Spirit Shirt Day
DESCRIPTION:
URL:https://classicalprep.org/event/spirit-shirt-day-46/
CATEGORIES:Rhetoric School
END:VEVENT
BEGIN:VEVENT
DTSTART;VALUE=DATE:20250307
DTEND;VALUE=DATE:20250308
DTSTAMP:20260425T094727
CREATED:20240725T152449Z
LAST-MODIFIED:20250226T130902Z
UID:10000505-1741305600-1741391999@classicalprep.org
SUMMARY:Re-Enrollment Ends
DESCRIPTION:
URL:https://classicalprep.org/event/re-enrollment-ends-3/
CATEGORIES:Rhetoric School
END:VEVENT
BEGIN:VEVENT
DTSTART;TZID=America/New_York:20250307T170000
DTEND;TZID=America/New_York:20250307T183000
DTSTAMP:20260425T094727
CREATED:20240917T204251Z
LAST-MODIFIED:20250307T214128Z
UID:10000737-1741366800-1741372200@classicalprep.org
SUMMARY:Girls Varsity Flag Football Game vs. Seven Rivers
DESCRIPTION:
URL:https://classicalprep.org/event/girls-varsity-flag-football-game/
LOCATION:Anderson Snow Park\, 11100 Spring Hill Dr\, Brooksville\, FL\, United States
CATEGORIES:Athletics
GEO:28.461581;-82.540244
X-APPLE-STRUCTURED-LOCATION;VALUE=URI;X-ADDRESS=Anderson Snow Park 11100 Spring Hill Dr Brooksville FL United States;X-APPLE-RADIUS=500;X-TITLE=11100 Spring Hill Dr:geo:-82.540244,28.461581
END:VEVENT
BEGIN:VEVENT
DTSTART;TZID=America/New_York:20250310T123000
DTEND;TZID=America/New_York:20250310T140000
DTSTAMP:20260425T094727
CREATED:20241121T141044Z
LAST-MODIFIED:20250310T172608Z
UID:10000929-1741609800-1741615200@classicalprep.org
SUMMARY:Girls Flag Football Game @ Central
DESCRIPTION:
URL:https://classicalprep.org/event/girls-flag-football-game-vs-bishop/
LOCATION:Central High School\, 14075 Ken Austin Pkwy\, Brooksville\, FL\, United States
CATEGORIES:Athletics
GEO:28.563302;-82.485924
X-APPLE-STRUCTURED-LOCATION;VALUE=URI;X-ADDRESS=Central High School 14075 Ken Austin Pkwy Brooksville FL United States;X-APPLE-RADIUS=500;X-TITLE=14075 Ken Austin Pkwy:geo:-82.485924,28.563302
END:VEVENT
BEGIN:VEVENT
DTSTART;TZID=America/New_York:20250310T183000
DTEND;TZID=America/New_York:20250310T190000
DTSTAMP:20260425T094727
CREATED:20250219T185532Z
LAST-MODIFIED:20250310T211242Z
UID:10001039-1741631400-1741633200@classicalprep.org
SUMMARY:Football Meeting in the Gym
DESCRIPTION:
URL:https://classicalprep.org/event/football-meeting-in-the-gym/
LOCATION:Gym\, 198 Arkays Ave\, Brooksville\, FL\, United States
CATEGORIES:Athletics
GEO:28.439493;-82.488726
X-APPLE-STRUCTURED-LOCATION;VALUE=URI;X-ADDRESS=Gym 198 Arkays Ave Brooksville FL United States;X-APPLE-RADIUS=500;X-TITLE=198 Arkays Ave:geo:-82.488726,28.439493
END:VEVENT
BEGIN:VEVENT
DTSTART;TZID=America/New_York:20250312T070000
DTEND;TZID=America/New_York:20250312T150000
DTSTAMP:20260425T094727
CREATED:20240918T172644Z
LAST-MODIFIED:20250228T175525Z
UID:10000745-1741762800-1741791600@classicalprep.org
SUMMARY:Gym Unavailable - Boosterthon Dance Party
DESCRIPTION:Join with Google Meet: https://meet.google.com/qkz-xshy-cuh\nOr dial: (US) +1 620-712-2353 PIN: 656711156#\nLearn more about Meet at: https://support.google.com/a/users/answer/9282720
URL:https://classicalprep.org/event/gym-unavailable-boosterthon-dance-party/
CATEGORIES:Athletics
ORGANIZER;CN="classicalprep.org_5viqc689g7n49k5r4obi20libk@group.calendar.google.com":MAILTO:classicalprep.org_5viqc689g7n49k5r4obi20libk@group.calendar.google.com
END:VEVENT
BEGIN:VEVENT
DTSTART;VALUE=DATE:20250313
DTEND;VALUE=DATE:20250314
DTSTAMP:20260425T094727
CREATED:20240712T181003Z
LAST-MODIFIED:20250313T211255Z
UID:10000371-1741824000-1741910399@classicalprep.org
SUMMARY:K-5: Quarterly Celebration - Kona Ice
DESCRIPTION:
URL:https://classicalprep.org/event/quarterly-celebration-kona-ice/
CATEGORIES:Grammar School
END:VEVENT
BEGIN:VEVENT
DTSTART;VALUE=DATE:20250313
DTEND;VALUE=DATE:20250314
DTSTAMP:20260425T094727
CREATED:20240725T145909Z
LAST-MODIFIED:20250313T211250Z
UID:10000476-1741824000-1741910399@classicalprep.org
SUMMARY:6-12: Quarterly Celebration - Dress Down Day!
DESCRIPTION:
URL:https://classicalprep.org/event/6-12-quarterly-celebration-dress-down-day-3/
CATEGORIES:Logic School
END:VEVENT
BEGIN:VEVENT
DTSTART;VALUE=DATE:20250313
DTEND;VALUE=DATE:20250314
DTSTAMP:20260425T094727
CREATED:20240725T152449Z
LAST-MODIFIED:20250313T205657Z
UID:10000503-1741824000-1741910399@classicalprep.org
SUMMARY:6-12: Quarterly Celebration - Dress Down Day!
DESCRIPTION:
URL:https://classicalprep.org/event/6-12-quarterly-celebration-dress-down-day-4/
CATEGORIES:Rhetoric School
END:VEVENT
BEGIN:VEVENT
DTSTART;VALUE=DATE:20250313
DTEND;VALUE=DATE:20250314
DTSTAMP:20260425T094727
CREATED:20241213T205434Z
LAST-MODIFIED:20250313T211255Z
UID:10000957-1741824000-1741910399@classicalprep.org
SUMMARY:K-5 Boosterthon Fun Run
DESCRIPTION:
URL:https://classicalprep.org/event/k-3-dance-party/
CATEGORIES:Grammar School
END:VEVENT
BEGIN:VEVENT
DTSTART;VALUE=DATE:20250313
DTEND;VALUE=DATE:20250314
DTSTAMP:20260425T094727
CREATED:20250117T135818Z
LAST-MODIFIED:20250225T115817Z
UID:10000974-1741824000-1741910399@classicalprep.org
SUMMARY:K-5 Boosterthon Fun Run
DESCRIPTION:
URL:https://classicalprep.org/event/k-5-boosterthon-fun-run/
CATEGORIES:Grammar School
END:VEVENT
BEGIN:VEVENT
DTSTART;TZID=America/New_York:20250313T150000
DTEND;TZID=America/New_York:20250313T190000
DTSTAMP:20260425T094727
CREATED:20250303T191059Z
LAST-MODIFIED:20250313T214130Z
UID:10001053-1741878000-1741892400@classicalprep.org
SUMMARY:Varsity Boys Track Meet @ Zephyrhills Invitational
DESCRIPTION:
URL:https://classicalprep.org/event/varsity-boys-track-meet-zephyrhills-invitational/
LOCATION:Zephyrhills High School\, 6335 12th St\, Zephyrhills\, FL\, United States
CATEGORIES:Athletics
GEO:28.249798;-82.179896
X-APPLE-STRUCTURED-LOCATION;VALUE=URI;X-ADDRESS=Zephyrhills High School 6335 12th St Zephyrhills FL United States;X-APPLE-RADIUS=500;X-TITLE=6335 12th St:geo:-82.179896,28.249798
END:VEVENT
BEGIN:VEVENT
DTSTART;TZID=America/New_York:20250313T190000
DTEND;TZID=America/New_York:20250313T203000
DTSTAMP:20260425T094727
CREATED:20250116T001219Z
LAST-MODIFIED:20250314T001059Z
UID:10000972-1741892400-1741897800@classicalprep.org
SUMMARY:Girls Flag Football Game @ Pasco High
DESCRIPTION:
URL:https://classicalprep.org/event/girls-flag-football-game-pasco-high/
LOCATION:Pasco High School\, 36850 State Rd 52\, Dade City\, FL\, United States
CATEGORIES:Athletics
GEO:28.353414;-82.205695
X-APPLE-STRUCTURED-LOCATION;VALUE=URI;X-ADDRESS=Pasco High School 36850 State Rd 52 Dade City FL United States;X-APPLE-RADIUS=500;X-TITLE=36850 State Rd 52:geo:-82.205695,28.353414
END:VEVENT
BEGIN:VEVENT
DTSTART;VALUE=DATE:20250314
DTEND;VALUE=DATE:20250315
DTSTAMP:20260425T094727
CREATED:20240725T145910Z
LAST-MODIFIED:20250314T204211Z
UID:10000480-1741910400-1741996799@classicalprep.org
SUMMARY:No School
DESCRIPTION:
URL:https://classicalprep.org/event/no-school-14/
CATEGORIES:Logic School
END:VEVENT
BEGIN:VEVENT
DTSTART;VALUE=DATE:20250314
DTEND;VALUE=DATE:20250315
DTSTAMP:20260425T094727
CREATED:20240725T152449Z
LAST-MODIFIED:20250314T213933Z
UID:10000507-1741910400-1741996799@classicalprep.org
SUMMARY:No School
DESCRIPTION:
URL:https://classicalprep.org/event/no-school-18/
CATEGORIES:Rhetoric School
END:VEVENT
BEGIN:VEVENT
DTSTART;VALUE=DATE:20250314
DTEND;VALUE=DATE:20250315
DTSTAMP:20260425T094727
CREATED:20240725T154027Z
LAST-MODIFIED:20250314T213927Z
UID:10000535-1741910400-1741996799@classicalprep.org
SUMMARY:No School
DESCRIPTION:
URL:https://classicalprep.org/event/no-school-21/
CATEGORIES:Grammar School
END:VEVENT
BEGIN:VEVENT
DTSTART;VALUE=DATE:20250314
DTEND;VALUE=DATE:20250315
DTSTAMP:20260425T094727
CREATED:20241122T122432Z
LAST-MODIFIED:20250314T205803Z
UID:10000932-1741910400-1741996799@classicalprep.org
SUMMARY:No School Students
DESCRIPTION:
URL:https://classicalprep.org/event/no-school-students/
CATEGORIES:Athletics
END:VEVENT
BEGIN:VEVENT
DTSTART;VALUE=DATE:20250317
DTEND;VALUE=DATE:20250322
DTSTAMP:20260425T094727
CREATED:20240725T145910Z
LAST-MODIFIED:20250321T215530Z
UID:10000481-1742169600-1742601599@classicalprep.org
SUMMARY:Spring Break
DESCRIPTION:
URL:https://classicalprep.org/event/spring-break/
CATEGORIES:Logic School
END:VEVENT
END:VCALENDAR