BEGIN:VCALENDAR
VERSION:2.0
PRODID:-//Classical Preparatory School - ECPv6.15.15//NONSGML v1.0//EN
CALSCALE:GREGORIAN
METHOD:PUBLISH
X-WR-CALNAME:Classical Preparatory School
X-ORIGINAL-URL:https://classicalprep.org
X-WR-CALDESC:Events for Classical Preparatory School
REFRESH-INTERVAL;VALUE=DURATION:PT1H
X-Robots-Tag:noindex
X-PUBLISHED-TTL:PT1H
BEGIN:VTIMEZONE
TZID:America/New_York
BEGIN:DAYLIGHT
TZOFFSETFROM:-0500
TZOFFSETTO:-0400
TZNAME:EDT
DTSTART:20230312T070000
END:DAYLIGHT
BEGIN:STANDARD
TZOFFSETFROM:-0400
TZOFFSETTO:-0500
TZNAME:EST
DTSTART:20231105T060000
END:STANDARD
BEGIN:DAYLIGHT
TZOFFSETFROM:-0500
TZOFFSETTO:-0400
TZNAME:EDT
DTSTART:20240310T070000
END:DAYLIGHT
BEGIN:STANDARD
TZOFFSETFROM:-0400
TZOFFSETTO:-0500
TZNAME:EST
DTSTART:20241103T060000
END:STANDARD
BEGIN:DAYLIGHT
TZOFFSETFROM:-0500
TZOFFSETTO:-0400
TZNAME:EDT
DTSTART:20250309T070000
END:DAYLIGHT
BEGIN:STANDARD
TZOFFSETFROM:-0400
TZOFFSETTO:-0500
TZNAME:EST
DTSTART:20251102T060000
END:STANDARD
END:VTIMEZONE
BEGIN:VEVENT
DTSTART;TZID=America/New_York:20240826T143000
DTEND;TZID=America/New_York:20240826T160000
DTSTAMP:20260421T131657
CREATED:20240823T160951Z
LAST-MODIFIED:20240826T192737Z
UID:10000578-1724682600-1724688000@classicalprep.org
SUMMARY:JV volleyball practice
DESCRIPTION:
URL:https://classicalprep.org/event/jv-volleyball-practice/
CATEGORIES:Athletics
END:VEVENT
BEGIN:VEVENT
DTSTART;TZID=America/New_York:20240826T160000
DTEND;TZID=America/New_York:20240826T180000
DTSTAMP:20260421T131657
CREATED:20240823T160951Z
LAST-MODIFIED:20240826T212807Z
UID:10000579-1724688000-1724695200@classicalprep.org
SUMMARY:Varsity volleyball practice
DESCRIPTION:
URL:https://classicalprep.org/event/varsity-volleyball-practice/
CATEGORIES:Athletics
END:VEVENT
BEGIN:VEVENT
DTSTART;VALUE=DATE:20240827
DTEND;VALUE=DATE:20240828
DTSTAMP:20260421T131657
CREATED:20240825T191021Z
LAST-MODIFIED:20240827T235516Z
UID:10000583-1724716800-1724803199@classicalprep.org
SUMMARY:Logic vb practice 3-430 gym
DESCRIPTION:
URL:https://classicalprep.org/event/logic-vb-practice-3-430-gym/
CATEGORIES:Athletics
END:VEVENT
BEGIN:VEVENT
DTSTART;TZID=America/New_York:20240827T170000
DTEND;TZID=America/New_York:20240827T180000
DTSTAMP:20260421T131657
CREATED:20240809T152353Z
LAST-MODIFIED:20240827T214304Z
UID:10000576-1724778000-1724781600@classicalprep.org
SUMMARY:JV Volleyball Game @ AATL
DESCRIPTION:
URL:https://classicalprep.org/event/jv-volleyball-game-aatl/
LOCATION:Academy at the Lakes\, 2331 Collier Pkwy\, Land O' Lakes\, FL\, United States
CATEGORIES:Athletics
GEO:28.192829;-82.435538
X-APPLE-STRUCTURED-LOCATION;VALUE=URI;X-ADDRESS=Academy at the Lakes 2331 Collier Pkwy Land O' Lakes FL United States;X-APPLE-RADIUS=500;X-TITLE=2331 Collier Pkwy:geo:-82.435538,28.192829
END:VEVENT
BEGIN:VEVENT
DTSTART;TZID=America/New_York:20240827T180000
DTEND;TZID=America/New_York:20240827T190000
DTSTAMP:20260421T131657
CREATED:20240809T152353Z
LAST-MODIFIED:20240827T225437Z
UID:10000577-1724781600-1724785200@classicalprep.org
SUMMARY:Varsity Volleyball Game @ AATL
DESCRIPTION:
URL:https://classicalprep.org/event/varsity-volleyball-game-aatl/
LOCATION:Academy at the Lakes\, 2331 Collier Pkwy\, Land O' Lakes\, FL\, United States
CATEGORIES:Athletics
GEO:28.192829;-82.435538
X-APPLE-STRUCTURED-LOCATION;VALUE=URI;X-ADDRESS=Academy at the Lakes 2331 Collier Pkwy Land O' Lakes FL United States;X-APPLE-RADIUS=500;X-TITLE=2331 Collier Pkwy:geo:-82.435538,28.192829
END:VEVENT
BEGIN:VEVENT
DTSTART;VALUE=DATE:20240828
DTEND;VALUE=DATE:20240829
DTSTAMP:20260421T131657
CREATED:20240710T215509Z
LAST-MODIFIED:20240828T234054Z
UID:10000276-1724803200-1724889599@classicalprep.org
SUMMARY:Student of the Month Announcement
DESCRIPTION:
URL:https://classicalprep.org/event/student-of-the-month-announcement/
CATEGORIES:Rhetoric School
END:VEVENT
BEGIN:VEVENT
DTSTART;VALUE=DATE:20240828
DTEND;VALUE=DATE:20240829
DTSTAMP:20260421T131657
CREATED:20240710T235817Z
LAST-MODIFIED:20240828T231102Z
UID:10000333-1724803200-1724889599@classicalprep.org
SUMMARY:Student of the Month Announcement
DESCRIPTION:
URL:https://classicalprep.org/event/student-of-the-month-announcement-3/
CATEGORIES:Logic School
END:VEVENT
BEGIN:VEVENT
DTSTART;VALUE=DATE:20240828
DTEND;VALUE=DATE:20240829
DTSTAMP:20260421T131657
CREATED:20240825T191021Z
LAST-MODIFIED:20240828T232452Z
UID:10000584-1724803200-1724889599@classicalprep.org
SUMMARY:Logic vb practice 3-430 outside
DESCRIPTION:
URL:https://classicalprep.org/event/logic-vb-practice-3-430-outside/
CATEGORIES:Athletics
END:VEVENT
BEGIN:VEVENT
DTSTART;TZID=America/New_York:20240828T081500
DTEND;TZID=America/New_York:20240828T091500
DTSTAMP:20260421T131657
CREATED:20240709T221004Z
LAST-MODIFIED:20240828T124221Z
UID:10000266-1724832900-1724836500@classicalprep.org
SUMMARY:K-5 Student of the Month Ceremony
DESCRIPTION:
URL:https://classicalprep.org/event/student-of-the-month-ceremony-k-5/
CATEGORIES:Grammar School
END:VEVENT
BEGIN:VEVENT
DTSTART;TZID=America/New_York:20240828T143000
DTEND;TZID=America/New_York:20240828T160000
DTSTAMP:20260421T131657
CREATED:20240823T160952Z
LAST-MODIFIED:20240828T195523Z
UID:10000580-1724855400-1724860800@classicalprep.org
SUMMARY:JV volleyball practice
DESCRIPTION:
URL:https://classicalprep.org/event/jv-volleyball-practice-2/
CATEGORIES:Athletics
END:VEVENT
BEGIN:VEVENT
DTSTART;TZID=America/New_York:20240828T160000
DTEND;TZID=America/New_York:20240828T180000
DTSTAMP:20260421T131657
CREATED:20240823T160953Z
LAST-MODIFIED:20240828T211221Z
UID:10000581-1724860800-1724868000@classicalprep.org
SUMMARY:Varsity volleyball practice
DESCRIPTION:
URL:https://classicalprep.org/event/varsity-volleyball-practice-2/
CATEGORIES:Athletics
END:VEVENT
BEGIN:VEVENT
DTSTART;VALUE=DATE:20240829
DTEND;VALUE=DATE:20240830
DTSTAMP:20260421T131657
CREATED:20240710T215509Z
LAST-MODIFIED:20240829T235639Z
UID:10000272-1724889600-1724975999@classicalprep.org
SUMMARY:Student Government Candidates Notified
DESCRIPTION:
URL:https://classicalprep.org/event/student-government-candidates-notified/
CATEGORIES:Rhetoric School
END:VEVENT
BEGIN:VEVENT
DTSTART;VALUE=DATE:20240829
DTEND;VALUE=DATE:20240830
DTSTAMP:20260421T131657
CREATED:20240710T235818Z
LAST-MODIFIED:20240829T204013Z
UID:10000336-1724889600-1724975999@classicalprep.org
SUMMARY:Student Government Candidates Notified
DESCRIPTION:
URL:https://classicalprep.org/event/student-government-candidates-notified-2/
CATEGORIES:Logic School
END:VEVENT
BEGIN:VEVENT
DTSTART;VALUE=DATE:20240829
DTEND;VALUE=DATE:20240830
DTSTAMP:20260421T131657
CREATED:20240825T191021Z
LAST-MODIFIED:20240829T222617Z
UID:10000585-1724889600-1724975999@classicalprep.org
SUMMARY:logic vb practice gym 3-430
DESCRIPTION:
URL:https://classicalprep.org/event/logic-vb-practice-gym-3-430/
CATEGORIES:Athletics
END:VEVENT
BEGIN:VEVENT
DTSTART;TZID=America/New_York:20240829T093000
DTEND;TZID=America/New_York:20240829T103000
DTSTAMP:20260421T131657
CREATED:20240827T142534Z
LAST-MODIFIED:20240829T135834Z
UID:10000614-1724923800-1724927400@classicalprep.org
SUMMARY:Fun Run Meeting
DESCRIPTION:Join with Google Meet: https://meet.google.com/xgg-iaoy-bid\nOr dial: (US) +1 307-316-4941 PIN: 746017466#\nLearn more about Meet at: https://support.google.com/a/users/answer/9282720
URL:https://classicalprep.org/event/fun-run-meeting/
CATEGORIES:Athletics
END:VEVENT
BEGIN:VEVENT
DTSTART;TZID=America/New_York:20240829T160000
DTEND;TZID=America/New_York:20240829T173000
DTSTAMP:20260421T131657
CREATED:20240710T215509Z
LAST-MODIFIED:20240829T212753Z
UID:10000275-1724947200-1724952600@classicalprep.org
SUMMARY:Back to School Night
DESCRIPTION:
URL:https://classicalprep.org/event/back-to-school-night/
CATEGORIES:Rhetoric School
END:VEVENT
BEGIN:VEVENT
DTSTART;TZID=America/New_York:20240829T160000
DTEND;TZID=America/New_York:20240829T173000
DTSTAMP:20260421T131657
CREATED:20240710T235817Z
LAST-MODIFIED:20240829T204013Z
UID:10000334-1724947200-1724952600@classicalprep.org
SUMMARY:Back to School Night
DESCRIPTION:
URL:https://classicalprep.org/event/back-to-school-night-3/
CATEGORIES:Logic School
END:VEVENT
BEGIN:VEVENT
DTSTART;TZID=America/New_York:20240829T160000
DTEND;TZID=America/New_York:20240829T173000
DTSTAMP:20260421T131657
CREATED:20240827T142534Z
LAST-MODIFIED:20240829T211116Z
UID:10000615-1724947200-1724952600@classicalprep.org
SUMMARY:Gym Unavailable - Back to School Night
DESCRIPTION:Join with Google Meet: https://meet.google.com/ptp-gied-oxb\nOr dial: (US) +1 929-276-1044 PIN: 286747014#\nLearn more about Meet at: https://support.google.com/a/users/answer/9282720
URL:https://classicalprep.org/event/gym-use-back-to-school-night/
CATEGORIES:Athletics
END:VEVENT
BEGIN:VEVENT
DTSTART;TZID=America/New_York:20240829T163000
DTEND;TZID=America/New_York:20240829T173000
DTSTAMP:20260421T131657
CREATED:20240710T221150Z
LAST-MODIFIED:20240829T205600Z
UID:10000309-1724949000-1724952600@classicalprep.org
SUMMARY:Back to School Night
DESCRIPTION:
URL:https://classicalprep.org/event/back-to-school-night-2/
CATEGORIES:Grammar School
END:VEVENT
BEGIN:VEVENT
DTSTART;VALUE=DATE:20240830
DTEND;VALUE=DATE:20240831
DTSTAMP:20260421T131657
CREATED:20240710T215509Z
LAST-MODIFIED:20240830T041317Z
UID:10000273-1724976000-1725062399@classicalprep.org
SUMMARY:No School
DESCRIPTION:
URL:https://classicalprep.org/event/no-school-3/
CATEGORIES:Rhetoric School
END:VEVENT
BEGIN:VEVENT
DTSTART;VALUE=DATE:20240830
DTEND;VALUE=DATE:20240831
DTSTAMP:20260421T131657
CREATED:20240710T221150Z
LAST-MODIFIED:20240830T235317Z
UID:10000310-1724976000-1725062399@classicalprep.org
SUMMARY:No School
DESCRIPTION:
URL:https://classicalprep.org/event/no-school-6/
CATEGORIES:Grammar School
END:VEVENT
BEGIN:VEVENT
DTSTART;VALUE=DATE:20240830
DTEND;VALUE=DATE:20240831
DTSTAMP:20260421T131657
CREATED:20240710T235817Z
LAST-MODIFIED:20240830T232347Z
UID:10000335-1724976000-1725062399@classicalprep.org
SUMMARY:No School
DESCRIPTION:
URL:https://classicalprep.org/event/no-school-9/
CATEGORIES:Logic School
END:VEVENT
BEGIN:VEVENT
DTSTART;VALUE=DATE:20240830
DTEND;VALUE=DATE:20240831
DTSTAMP:20260421T131657
CREATED:20240825T191022Z
LAST-MODIFIED:20240830T233843Z
UID:10000586-1724976000-1725062399@classicalprep.org
SUMMARY:Logic vb practice 3-430 gym
DESCRIPTION:
URL:https://classicalprep.org/event/logic-vb-practice-3-430-gym-2/
CATEGORIES:Athletics
END:VEVENT
BEGIN:VEVENT
DTSTART;VALUE=DATE:20240830
DTEND;VALUE=DATE:20240831
DTSTAMP:20260421T131657
CREATED:20240829T160921Z
LAST-MODIFIED:20240830T233842Z
UID:10000631-1724976000-1725062399@classicalprep.org
SUMMARY:No School
DESCRIPTION:
URL:https://classicalprep.org/event/no-school-26/
CATEGORIES:Athletics
END:VEVENT
BEGIN:VEVENT
DTSTART;VALUE=DATE:20240902
DTEND;VALUE=DATE:20240903
DTSTAMP:20260421T131657
CREATED:20240710T215510Z
LAST-MODIFIED:20240830T041317Z
UID:10000277-1725235200-1725321599@classicalprep.org
SUMMARY:No School
DESCRIPTION:
URL:https://classicalprep.org/event/no-school-4/
CATEGORIES:Rhetoric School
END:VEVENT
BEGIN:VEVENT
DTSTART;VALUE=DATE:20240902
DTEND;VALUE=DATE:20240903
DTSTAMP:20260421T131657
CREATED:20240710T221150Z
LAST-MODIFIED:20240902T230758Z
UID:10000311-1725235200-1725321599@classicalprep.org
SUMMARY:No School
DESCRIPTION:
URL:https://classicalprep.org/event/no-school-7/
CATEGORIES:Grammar School
END:VEVENT
BEGIN:VEVENT
DTSTART;VALUE=DATE:20240902
DTEND;VALUE=DATE:20240903
DTSTAMP:20260421T131657
CREATED:20240710T235818Z
LAST-MODIFIED:20240902T232518Z
UID:10000337-1725235200-1725321599@classicalprep.org
SUMMARY:No School
DESCRIPTION:
URL:https://classicalprep.org/event/no-school-10/
CATEGORIES:Logic School
END:VEVENT
BEGIN:VEVENT
DTSTART;VALUE=DATE:20240903
DTEND;VALUE=DATE:20240904
DTSTAMP:20260421T131657
CREATED:20240825T191022Z
LAST-MODIFIED:20240903T233806Z
UID:10000588-1725321600-1725407999@classicalprep.org
SUMMARY:logic vb 3-430 gym
DESCRIPTION:
URL:https://classicalprep.org/event/logic-vb-3-430-gym/
CATEGORIES:Athletics
END:VEVENT
BEGIN:VEVENT
DTSTART;TZID=America/New_York:20240903T170000
DTEND;TZID=America/New_York:20240903T180000
DTSTAMP:20260421T131657
CREATED:20240827T132345Z
LAST-MODIFIED:20240903T212330Z
UID:10000593-1725382800-1725386400@classicalprep.org
SUMMARY:JV Volleyball Game vs. Pasco
DESCRIPTION:
URL:https://classicalprep.org/event/jv-volleyball-game-vs-pasco/
LOCATION:Classical Preparatory School\, 18000 Spring Prairie Ln\, Brooksville\, FL\, United States
CATEGORIES:Athletics
GEO:28.419249;-82.446587
X-APPLE-STRUCTURED-LOCATION;VALUE=URI;X-ADDRESS=Classical Preparatory School 18000 Spring Prairie Ln Brooksville FL United States;X-APPLE-RADIUS=500;X-TITLE=18000 Spring Prairie Ln:geo:-82.446587,28.419249
END:VEVENT
BEGIN:VEVENT
DTSTART;TZID=America/New_York:20240903T180000
DTEND;TZID=America/New_York:20240903T190000
DTSTAMP:20260421T131657
CREATED:20240827T132346Z
LAST-MODIFIED:20240903T223848Z
UID:10000594-1725386400-1725390000@classicalprep.org
SUMMARY:Varsity Volleyball Game vs. Pasco
DESCRIPTION:
URL:https://classicalprep.org/event/varsity-volleyball-game-vs-pasco/
LOCATION:Classical Preparatory School\, 18000 Spring Prairie Ln\, Brooksville\, FL\, United States
CATEGORIES:Athletics
GEO:28.419249;-82.446587
X-APPLE-STRUCTURED-LOCATION;VALUE=URI;X-ADDRESS=Classical Preparatory School 18000 Spring Prairie Ln Brooksville FL United States;X-APPLE-RADIUS=500;X-TITLE=18000 Spring Prairie Ln:geo:-82.446587,28.419249
END:VEVENT
END:VCALENDAR