BEGIN:VCALENDAR
VERSION:2.0
PRODID:-//Classical Preparatory School - ECPv6.15.15//NONSGML v1.0//EN
CALSCALE:GREGORIAN
METHOD:PUBLISH
X-ORIGINAL-URL:https://classicalprep.org
X-WR-CALDESC:Events for Classical Preparatory School
REFRESH-INTERVAL;VALUE=DURATION:PT1H
X-Robots-Tag:noindex
X-PUBLISHED-TTL:PT1H
BEGIN:VTIMEZONE
TZID:America/New_York
BEGIN:DAYLIGHT
TZOFFSETFROM:-0500
TZOFFSETTO:-0400
TZNAME:EDT
DTSTART:20250309T070000
END:DAYLIGHT
BEGIN:STANDARD
TZOFFSETFROM:-0400
TZOFFSETTO:-0500
TZNAME:EST
DTSTART:20251102T060000
END:STANDARD
BEGIN:DAYLIGHT
TZOFFSETFROM:-0500
TZOFFSETTO:-0400
TZNAME:EDT
DTSTART:20260308T070000
END:DAYLIGHT
BEGIN:STANDARD
TZOFFSETFROM:-0400
TZOFFSETTO:-0500
TZNAME:EST
DTSTART:20261101T060000
END:STANDARD
BEGIN:DAYLIGHT
TZOFFSETFROM:-0500
TZOFFSETTO:-0400
TZNAME:EDT
DTSTART:20270314T070000
END:DAYLIGHT
BEGIN:STANDARD
TZOFFSETFROM:-0400
TZOFFSETTO:-0500
TZNAME:EST
DTSTART:20271107T060000
END:STANDARD
END:VTIMEZONE
BEGIN:VEVENT
DTSTART;VALUE=DATE:20260513
DTEND;VALUE=DATE:20260514
DTSTAMP:20260420T174939
CREATED:20250724T001319Z
LAST-MODIFIED:20260420T051328Z
UID:10001311-1778630400-1778716799@classicalprep.org
SUMMARY:Seniors' Last Day
DESCRIPTION:
URL:https://classicalprep.org/event/seniors-last-day-3/
CATEGORIES:Grammar School
END:VEVENT
BEGIN:VEVENT
DTSTART;TZID=America/New_York:20260515T180000
DTEND;TZID=America/New_York:20260515T193000
DTSTAMP:20260420T174939
CREATED:20250724T001138Z
LAST-MODIFIED:20260420T052907Z
UID:10001214-1778868000-1778873400@classicalprep.org
SUMMARY:Baccalaureate Ceremony
DESCRIPTION:
URL:https://classicalprep.org/event/baccalaureate-ceremony/
LOCATION:PHSC Performing Arts Center
CATEGORIES:Rhetoric School
END:VEVENT
BEGIN:VEVENT
DTSTART;TZID=America/New_York:20260516T100000
DTEND;TZID=America/New_York:20260516T113000
DTSTAMP:20260420T174939
CREATED:20250724T001139Z
LAST-MODIFIED:20260420T052907Z
UID:10001215-1778925600-1778931000@classicalprep.org
SUMMARY:Graduation Ceremony
DESCRIPTION:
URL:https://classicalprep.org/event/graduation-ceremony/
LOCATION:PHSC Performing Arts Center
CATEGORIES:Rhetoric School
END:VEVENT
BEGIN:VEVENT
DTSTART;VALUE=DATE:20260521
DTEND;VALUE=DATE:20260522
DTSTAMP:20260420T174939
CREATED:20260305T001431Z
LAST-MODIFIED:20260420T055716Z
UID:10001746-1779321600-1779407999@classicalprep.org
SUMMARY:Quarterly Celebration
DESCRIPTION:
URL:https://classicalprep.org/event/quarterly-celebration-4/
CATEGORIES:Logic School
END:VEVENT
BEGIN:VEVENT
DTSTART;VALUE=DATE:20260521
DTEND;VALUE=DATE:20260522
DTSTAMP:20260420T174939
CREATED:20260305T001458Z
LAST-MODIFIED:20260420T052908Z
UID:10001751-1779321600-1779407999@classicalprep.org
SUMMARY:Quarterly Celebration
DESCRIPTION:
URL:https://classicalprep.org/event/quarterly-celebration-5/
CATEGORIES:Rhetoric School
END:VEVENT
BEGIN:VEVENT
DTSTART;VALUE=DATE:20260521
DTEND;VALUE=DATE:20260522
DTSTAMP:20260420T174939
CREATED:20260305T001505Z
LAST-MODIFIED:20260420T051329Z
UID:10001753-1779321600-1779407999@classicalprep.org
SUMMARY:Quarterly Celebration
DESCRIPTION:
URL:https://classicalprep.org/event/quarterly-celebration-6/
CATEGORIES:Grammar School
END:VEVENT
BEGIN:VEVENT
DTSTART;VALUE=DATE:20260522
DTEND;VALUE=DATE:20260523
DTSTAMP:20260420T174939
CREATED:20250724T001139Z
LAST-MODIFIED:20260420T052907Z
UID:10001216-1779408000-1779494399@classicalprep.org
SUMMARY:Last Day of School- Half Day
DESCRIPTION:
URL:https://classicalprep.org/event/last-day-of-school-half-day/
CATEGORIES:Rhetoric School
END:VEVENT
BEGIN:VEVENT
DTSTART;VALUE=DATE:20260522
DTEND;VALUE=DATE:20260523
DTSTAMP:20260420T174939
CREATED:20250724T001149Z
LAST-MODIFIED:20260420T055716Z
UID:10001260-1779408000-1779494399@classicalprep.org
SUMMARY:Last Day of School- Half Day
DESCRIPTION:
URL:https://classicalprep.org/event/last-day-of-school-half-day-2/
CATEGORIES:Logic School
END:VEVENT
BEGIN:VEVENT
DTSTART;VALUE=DATE:20260522
DTEND;VALUE=DATE:20260523
DTSTAMP:20260420T174939
CREATED:20250724T001320Z
LAST-MODIFIED:20260420T051328Z
UID:10001314-1779408000-1779494399@classicalprep.org
SUMMARY:Last Day of School- Half Day
DESCRIPTION:
URL:https://classicalprep.org/event/last-day-of-school-half-day-3/
CATEGORIES:Grammar School
END:VEVENT
BEGIN:VEVENT
DTSTART;VALUE=DATE:20260522
DTEND;VALUE=DATE:20260523
DTSTAMP:20260420T174939
CREATED:20260106T161135Z
LAST-MODIFIED:20260420T052908Z
UID:10001601-1779408000-1779494399@classicalprep.org
SUMMARY:Spirit Shirt Day
DESCRIPTION:
URL:https://classicalprep.org/event/spirit-shirt-day-78/
CATEGORIES:Rhetoric School
END:VEVENT
BEGIN:VEVENT
DTSTART;VALUE=DATE:20260522
DTEND;VALUE=DATE:20260523
DTSTAMP:20260420T174939
CREATED:20260106T161141Z
LAST-MODIFIED:20260420T051328Z
UID:10001610-1779408000-1779494399@classicalprep.org
SUMMARY:Spirit Shirt Day
DESCRIPTION:
URL:https://classicalprep.org/event/spirit-shirt-day-87/
CATEGORIES:Grammar School
END:VEVENT
BEGIN:VEVENT
DTSTART;VALUE=DATE:20260522
DTEND;VALUE=DATE:20260523
DTSTAMP:20260420T174939
CREATED:20260106T164641Z
LAST-MODIFIED:20260420T055717Z
UID:10001615-1779408000-1779494399@classicalprep.org
SUMMARY:Spirit Shirt Day
DESCRIPTION:
URL:https://classicalprep.org/event/spirit-shirt-day-92/
CATEGORIES:Logic School
END:VEVENT
BEGIN:VEVENT
DTSTART;VALUE=DATE:20260522
DTEND;VALUE=DATE:20260523
DTSTAMP:20260420T174939
CREATED:20260305T001431Z
LAST-MODIFIED:20260420T055716Z
UID:10001747-1779408000-1779494399@classicalprep.org
SUMMARY:Field Day
DESCRIPTION:
URL:https://classicalprep.org/event/field-day-3/
CATEGORIES:Logic School
END:VEVENT
BEGIN:VEVENT
DTSTART;VALUE=DATE:20260522
DTEND;VALUE=DATE:20260523
DTSTAMP:20260420T174939
CREATED:20260305T001458Z
LAST-MODIFIED:20260420T052907Z
UID:10001752-1779408000-1779494399@classicalprep.org
SUMMARY:Field Day
DESCRIPTION:
URL:https://classicalprep.org/event/field-day-4/
CATEGORIES:Rhetoric School
END:VEVENT
BEGIN:VEVENT
DTSTART;VALUE=DATE:20260728
DTEND;VALUE=DATE:20260729
DTSTAMP:20260420T174939
CREATED:20250402T144251Z
LAST-MODIFIED:20260420T055718Z
UID:10001107-1785196800-1785283199@classicalprep.org
SUMMARY:First Allowable Tryout/Practice Volleyball
DESCRIPTION:
URL:https://classicalprep.org/event/first-allowable-tryout-practice-volleyball/
CATEGORIES:Athletics
END:VEVENT
BEGIN:VEVENT
DTSTART;VALUE=DATE:20260818
DTEND;VALUE=DATE:20260819
DTSTAMP:20260420T174939
CREATED:20250402T144252Z
LAST-MODIFIED:20260420T055718Z
UID:10001108-1787011200-1787097599@classicalprep.org
SUMMARY:Volleyball Games Start Date
DESCRIPTION:
URL:https://classicalprep.org/event/volleyball-games-start-date/
CATEGORIES:Athletics
END:VEVENT
BEGIN:VEVENT
DTSTART;TZID=America/New_York:20260820T170000
DTEND;TZID=America/New_York:20260820T180000
DTSTAMP:20260420T174939
CREATED:20251113T001417Z
LAST-MODIFIED:20260420T055718Z
UID:10001561-1787245200-1787248800@classicalprep.org
SUMMARY:JV Volleyball Game @ Bishop
DESCRIPTION:
URL:https://classicalprep.org/event/jv-volleyball-game-bishop/
LOCATION:Bishop McLaughlin Catholic High School\, 13651 Hays Rd\, Brooksville\, FL\, United States
CATEGORIES:Athletics
GEO:28.350298;-82.563586
X-APPLE-STRUCTURED-LOCATION;VALUE=URI;X-ADDRESS=Bishop McLaughlin Catholic High School 13651 Hays Rd Brooksville FL United States;X-APPLE-RADIUS=500;X-TITLE=13651 Hays Rd:geo:-82.563586,28.350298
END:VEVENT
BEGIN:VEVENT
DTSTART;TZID=America/New_York:20260820T183000
DTEND;TZID=America/New_York:20260820T193000
DTSTAMP:20260420T174939
CREATED:20251113T001418Z
LAST-MODIFIED:20260420T055719Z
UID:10001562-1787250600-1787254200@classicalprep.org
SUMMARY:Varsity Volleyball Game @ Bishop
DESCRIPTION:
URL:https://classicalprep.org/event/varsity-volleyball-game-bishop/
LOCATION:Bishop McLaughlin Catholic High School\, 13651 Hays Rd\, Brooksville\, FL\, United States
CATEGORIES:Athletics
GEO:28.350298;-82.563586
X-APPLE-STRUCTURED-LOCATION;VALUE=URI;X-ADDRESS=Bishop McLaughlin Catholic High School 13651 Hays Rd Brooksville FL United States;X-APPLE-RADIUS=500;X-TITLE=13651 Hays Rd:geo:-82.563586,28.350298
END:VEVENT
BEGIN:VEVENT
DTSTART;TZID=America/New_York:20260827T173000
DTEND;TZID=America/New_York:20260827T183000
DTSTAMP:20260420T174939
CREATED:20260105T181102Z
LAST-MODIFIED:20260420T055719Z
UID:10001585-1787851800-1787855400@classicalprep.org
SUMMARY:JV Volleyball Game vs Brooks DeBartolo
DESCRIPTION:
URL:https://classicalprep.org/event/jv-volleyball-game-vs-brooks-debartolo/
CATEGORIES:Athletics
END:VEVENT
BEGIN:VEVENT
DTSTART;TZID=America/New_York:20260827T183000
DTEND;TZID=America/New_York:20260827T193000
DTSTAMP:20260420T174939
CREATED:20260105T181102Z
LAST-MODIFIED:20260420T055719Z
UID:10001586-1787855400-1787859000@classicalprep.org
SUMMARY:Varsity Volleyball Game vs Brooks DeBartolo
DESCRIPTION:
URL:https://classicalprep.org/event/varsity-volleyball-game-vs-brooks-debartolo/
CATEGORIES:Athletics
END:VEVENT
BEGIN:VEVENT
DTSTART;VALUE=DATE:20260831
DTEND;VALUE=DATE:20260901
DTSTAMP:20260420T174939
CREATED:20260207T001537Z
LAST-MODIFIED:20260420T055719Z
UID:10001696-1788134400-1788220799@classicalprep.org
SUMMARY:Girls JV Volleyball Game vs Clearwater Academy
DESCRIPTION:
URL:https://classicalprep.org/event/girls-jv-volleyball-game-vs-clearwater-academy/
LOCATION:CPS
CATEGORIES:Athletics
END:VEVENT
BEGIN:VEVENT
DTSTART;TZID=America/New_York:20260908T170000
DTEND;TZID=America/New_York:20260908T180000
DTSTAMP:20260420T174939
CREATED:20251113T001418Z
LAST-MODIFIED:20260420T055719Z
UID:10001563-1788886800-1788890400@classicalprep.org
SUMMARY:JV Volleyball Game vs Bishop
DESCRIPTION:
URL:https://classicalprep.org/event/jv-volleyball-game-vs-bishop-2/
LOCATION:Classical Preparatory School\, 18000 Spring Prairie Ln\, Brooksville\, FL\, United States
CATEGORIES:Athletics
GEO:28.419249;-82.446587
X-APPLE-STRUCTURED-LOCATION;VALUE=URI;X-ADDRESS=Classical Preparatory School 18000 Spring Prairie Ln Brooksville FL United States;X-APPLE-RADIUS=500;X-TITLE=18000 Spring Prairie Ln:geo:-82.446587,28.419249
END:VEVENT
BEGIN:VEVENT
DTSTART;TZID=America/New_York:20260908T183000
DTEND;TZID=America/New_York:20260908T193000
DTSTAMP:20260420T174939
CREATED:20251113T001419Z
LAST-MODIFIED:20260420T055720Z
UID:10001564-1788892200-1788895800@classicalprep.org
SUMMARY:Varsity Volleyball Game vs Bishop
DESCRIPTION:
URL:https://classicalprep.org/event/varsity-volleyball-game-vs-bishop-2/
LOCATION:Classical Preparatory School\, 18000 Spring Prairie Ln\, Brooksville\, FL\, United States
CATEGORIES:Athletics
GEO:28.419249;-82.446587
X-APPLE-STRUCTURED-LOCATION;VALUE=URI;X-ADDRESS=Classical Preparatory School 18000 Spring Prairie Ln Brooksville FL United States;X-APPLE-RADIUS=500;X-TITLE=18000 Spring Prairie Ln:geo:-82.446587,28.419249
END:VEVENT
BEGIN:VEVENT
DTSTART;TZID=America/New_York:20260910T170000
DTEND;TZID=America/New_York:20260910T180000
DTSTAMP:20260420T174939
CREATED:20260206T001200Z
LAST-MODIFIED:20260420T055720Z
UID:10001685-1789059600-1789063200@classicalprep.org
SUMMARY:Girls JV Volleyball Game @ Pasco High
DESCRIPTION:
URL:https://classicalprep.org/event/girls-jv-volleyball-game-pasco-high/
LOCATION:Pasco High School\, 36850 State Rd 52\, Dade City\, FL\, United States
CATEGORIES:Athletics
GEO:28.353414;-82.205695
X-APPLE-STRUCTURED-LOCATION;VALUE=URI;X-ADDRESS=Pasco High School 36850 State Rd 52 Dade City FL United States;X-APPLE-RADIUS=500;X-TITLE=36850 State Rd 52:geo:-82.205695,28.353414
END:VEVENT
BEGIN:VEVENT
DTSTART;TZID=America/New_York:20260910T180000
DTEND;TZID=America/New_York:20260910T190000
DTSTAMP:20260420T174939
CREATED:20260206T001201Z
LAST-MODIFIED:20260420T055720Z
UID:10001686-1789063200-1789066800@classicalprep.org
SUMMARY:Girls Varsity Volleyball @ Pasco High
DESCRIPTION:
URL:https://classicalprep.org/event/girls-varsity-volleyball-pasco-high/
LOCATION:Pasco High School\, 36850 State Rd 52\, Dade City\, FL\, United States
CATEGORIES:Athletics
GEO:28.353414;-82.205695
X-APPLE-STRUCTURED-LOCATION;VALUE=URI;X-ADDRESS=Pasco High School 36850 State Rd 52 Dade City FL United States;X-APPLE-RADIUS=500;X-TITLE=36850 State Rd 52:geo:-82.205695,28.353414
END:VEVENT
BEGIN:VEVENT
DTSTART;TZID=America/New_York:20260911T170000
DTEND;TZID=America/New_York:20260911T183000
DTSTAMP:20260420T174939
CREATED:20260306T001226Z
LAST-MODIFIED:20260420T055721Z
UID:10001758-1789146000-1789151400@classicalprep.org
SUMMARY:Football Game vs Riverside Christian
DESCRIPTION:
URL:https://classicalprep.org/event/football-game-vs-riverside-christian-2/
LOCATION:Elsie Logan Memorial Park\, 15829 Shady Hills Rd\, Brooksville\, FL\, United States
CATEGORIES:Athletics
GEO:28.388541;-82.551139
X-APPLE-STRUCTURED-LOCATION;VALUE=URI;X-ADDRESS=Elsie Logan Memorial Park 15829 Shady Hills Rd Brooksville FL United States;X-APPLE-RADIUS=500;X-TITLE=15829 Shady Hills Rd:geo:-82.551139,28.388541
END:VEVENT
BEGIN:VEVENT
DTSTART;TZID=America/New_York:20260915T170000
DTEND;TZID=America/New_York:20260915T180000
DTSTAMP:20260420T174939
CREATED:20260213T001335Z
LAST-MODIFIED:20260420T055721Z
UID:10001699-1789491600-1789495200@classicalprep.org
SUMMARY:JV Volleyball Game vs NTCA
DESCRIPTION:
URL:https://classicalprep.org/event/jv-volleyball-game-vs-ntca-2/
LOCATION:Classical Preparatory School\, 18000 Spring Prairie Ln\, Brooksville\, FL\, United States
CATEGORIES:Athletics
GEO:28.419249;-82.446587
X-APPLE-STRUCTURED-LOCATION;VALUE=URI;X-ADDRESS=Classical Preparatory School 18000 Spring Prairie Ln Brooksville FL United States;X-APPLE-RADIUS=500;X-TITLE=18000 Spring Prairie Ln:geo:-82.446587,28.419249
END:VEVENT
BEGIN:VEVENT
DTSTART;TZID=America/New_York:20260915T180000
DTEND;TZID=America/New_York:20260915T190000
DTSTAMP:20260420T174939
CREATED:20260213T001334Z
LAST-MODIFIED:20260420T055721Z
UID:10001698-1789495200-1789498800@classicalprep.org
SUMMARY:Varsity Volleyball Game vs NTCA
DESCRIPTION:
URL:https://classicalprep.org/event/varsity-volleyball-game-vs-ntca-2/
LOCATION:Classical Preparatory School\, 18000 Spring Prairie Ln\, Brooksville\, FL\, United States
CATEGORIES:Athletics
GEO:28.419249;-82.446587
X-APPLE-STRUCTURED-LOCATION;VALUE=URI;X-ADDRESS=Classical Preparatory School 18000 Spring Prairie Ln Brooksville FL United States;X-APPLE-RADIUS=500;X-TITLE=18000 Spring Prairie Ln:geo:-82.446587,28.419249
END:VEVENT
BEGIN:VEVENT
DTSTART;TZID=America/New_York:20260917T160000
DTEND;TZID=America/New_York:20260917T173000
DTSTAMP:20260420T174939
CREATED:20260303T131502Z
LAST-MODIFIED:20260420T055721Z
UID:10001743-1789660800-1789666200@classicalprep.org
SUMMARY:Football Game vs Lakeside Christian
DESCRIPTION:
URL:https://classicalprep.org/event/football-game-vs-lakeside-christian/
LOCATION:Elsie Logan Memorial Park\, 15829 Shady Hills Rd\, Brooksville\, FL\, United States
CATEGORIES:Athletics
GEO:28.388541;-82.551139
X-APPLE-STRUCTURED-LOCATION;VALUE=URI;X-ADDRESS=Elsie Logan Memorial Park 15829 Shady Hills Rd Brooksville FL United States;X-APPLE-RADIUS=500;X-TITLE=15829 Shady Hills Rd:geo:-82.551139,28.388541
END:VEVENT
BEGIN:VEVENT
DTSTART;TZID=America/New_York:20260917T173000
DTEND;TZID=America/New_York:20260917T183000
DTSTAMP:20260420T174939
CREATED:20260105T181103Z
LAST-MODIFIED:20260420T055722Z
UID:10001588-1789666200-1789669800@classicalprep.org
SUMMARY:JV Volleyball Game @ Brooks DeBartolo
DESCRIPTION:
URL:https://classicalprep.org/event/jv-volleyball-game-brooks-debartolo/
LOCATION:Brooks DeBartolo School
CATEGORIES:Athletics
END:VEVENT
END:VCALENDAR