BEGIN:VCALENDAR
VERSION:2.0
PRODID:-//Classical Preparatory School - ECPv6.15.15//NONSGML v1.0//EN
CALSCALE:GREGORIAN
METHOD:PUBLISH
X-ORIGINAL-URL:https://classicalprep.org
X-WR-CALDESC:Events for Classical Preparatory School
REFRESH-INTERVAL;VALUE=DURATION:PT1H
X-Robots-Tag:noindex
X-PUBLISHED-TTL:PT1H
BEGIN:VTIMEZONE
TZID:America/New_York
BEGIN:DAYLIGHT
TZOFFSETFROM:-0500
TZOFFSETTO:-0400
TZNAME:EDT
DTSTART:20250309T070000
END:DAYLIGHT
BEGIN:STANDARD
TZOFFSETFROM:-0400
TZOFFSETTO:-0500
TZNAME:EST
DTSTART:20251102T060000
END:STANDARD
BEGIN:DAYLIGHT
TZOFFSETFROM:-0500
TZOFFSETTO:-0400
TZNAME:EDT
DTSTART:20260308T070000
END:DAYLIGHT
BEGIN:STANDARD
TZOFFSETFROM:-0400
TZOFFSETTO:-0500
TZNAME:EST
DTSTART:20261101T060000
END:STANDARD
BEGIN:DAYLIGHT
TZOFFSETFROM:-0500
TZOFFSETTO:-0400
TZNAME:EDT
DTSTART:20270314T070000
END:DAYLIGHT
BEGIN:STANDARD
TZOFFSETFROM:-0400
TZOFFSETTO:-0500
TZNAME:EST
DTSTART:20271107T060000
END:STANDARD
END:VTIMEZONE
BEGIN:VEVENT
DTSTART;TZID=America/New_York:20260122T163000
DTEND;TZID=America/New_York:20260122T170000
DTSTAMP:20260420T195442
CREATED:20260107T001358Z
LAST-MODIFIED:20260122T125739Z
UID:10001616-1769099400-1769101200@classicalprep.org
SUMMARY:Kindergarten Information Session for Early Academy Families Only
DESCRIPTION:
URL:https://classicalprep.org/event/kindergarten-information-session-for-early-academy-families-only/
CATEGORIES:Grammar School
END:VEVENT
BEGIN:VEVENT
DTSTART;TZID=America/New_York:20260122T170000
DTEND;TZID=America/New_York:20260122T183000
DTSTAMP:20260420T195442
CREATED:20250331T001342Z
LAST-MODIFIED:20260105T181056Z
UID:10001102-1769101200-1769106600@classicalprep.org
SUMMARY:Varsity Girls Basketball Game vs. AATL
DESCRIPTION:
URL:https://classicalprep.org/event/varsity-girls-basketball-game-vs-aatl-2/
LOCATION:Classical Prep\, Shady Hills Road\, Spring Hill\, Florida\, 34610\, United States
CATEGORIES:Athletics
GEO:28.3440552;-82.5401856
X-APPLE-STRUCTURED-LOCATION;VALUE=URI;X-ADDRESS=Classical Prep Shady Hills Road Spring Hill Florida 34610 United States;X-APPLE-RADIUS=500;X-TITLE=Shady Hills Road:geo:-82.5401856,28.3440552
END:VEVENT
BEGIN:VEVENT
DTSTART;TZID=America/New_York:20260122T170000
DTEND;TZID=America/New_York:20260122T183000
DTSTAMP:20260420T195442
CREATED:20260108T001103Z
LAST-MODIFIED:20260122T134405Z
UID:10001619-1769101200-1769106600@classicalprep.org
SUMMARY:Varsity Girls Basketball Game vs AATL
DESCRIPTION:Senior Night
URL:https://classicalprep.org/event/varsity-girls-basketball-game-vs-aatl-3/
CATEGORIES:Athletics
END:VEVENT
BEGIN:VEVENT
DTSTART;TZID=America/New_York:20260122T173000
DTEND;TZID=America/New_York:20260122T183000
DTSTAMP:20260420T195442
CREATED:20251113T001352Z
LAST-MODIFIED:20260122T132812Z
UID:10001557-1769103000-1769106600@classicalprep.org
SUMMARY:Information Session
DESCRIPTION:
URL:https://classicalprep.org/event/information-session/
CATEGORIES:Logic School
END:VEVENT
BEGIN:VEVENT
DTSTART;TZID=America/New_York:20260122T173000
DTEND;TZID=America/New_York:20260122T183000
DTSTAMP:20260420T195442
CREATED:20251113T001421Z
LAST-MODIFIED:20260122T095926Z
UID:10001565-1769103000-1769106600@classicalprep.org
SUMMARY:Information Session
DESCRIPTION:
URL:https://classicalprep.org/event/information-session-5/
CATEGORIES:Rhetoric School
END:VEVENT
BEGIN:VEVENT
DTSTART;TZID=America/New_York:20260122T173000
DTEND;TZID=America/New_York:20260122T183000
DTSTAMP:20260420T195442
CREATED:20251113T001430Z
LAST-MODIFIED:20260122T125739Z
UID:10001569-1769103000-1769106600@classicalprep.org
SUMMARY:Information Session
DESCRIPTION:
URL:https://classicalprep.org/event/information-session-9/
CATEGORIES:Grammar School
END:VEVENT
BEGIN:VEVENT
DTSTART;TZID=America/New_York:20260123T180000
DTEND;TZID=America/New_York:20260123T193000
DTSTAMP:20260420T195442
CREATED:20250918T000951Z
LAST-MODIFIED:20260124T002716Z
UID:10001461-1769191200-1769196600@classicalprep.org
SUMMARY:Varsity Girls Basketball Game vs. Brooks DeBartolo
DESCRIPTION:
URL:https://classicalprep.org/event/varsity-girls-basketball-game-vs-brooks-debartolo/
LOCATION:CPS Gym
CATEGORIES:Athletics
END:VEVENT
BEGIN:VEVENT
DTSTART;VALUE=DATE:20260126
DTEND;VALUE=DATE:20260127
DTSTAMP:20260420T195442
CREATED:20250724T001135Z
LAST-MODIFIED:20260126T164138Z
UID:10001198-1769385600-1769471999@classicalprep.org
SUMMARY:Spring Picture Day
DESCRIPTION:
URL:https://classicalprep.org/event/spring-picture-day-4/
CATEGORIES:Rhetoric School
END:VEVENT
BEGIN:VEVENT
DTSTART;VALUE=DATE:20260126
DTEND;VALUE=DATE:20260127
DTSTAMP:20260420T195442
CREATED:20250724T001145Z
LAST-MODIFIED:20260126T162619Z
UID:10001246-1769385600-1769471999@classicalprep.org
SUMMARY:Spring Picture Day
DESCRIPTION:
URL:https://classicalprep.org/event/spring-picture-day-5/
CATEGORIES:Logic School
END:VEVENT
BEGIN:VEVENT
DTSTART;VALUE=DATE:20260126
DTEND;VALUE=DATE:20260127
DTSTAMP:20260420T195442
CREATED:20250724T001315Z
LAST-MODIFIED:20260126T171216Z
UID:10001296-1769385600-1769471999@classicalprep.org
SUMMARY:Spring Picture Day
DESCRIPTION:
URL:https://classicalprep.org/event/spring-picture-day-6/
CATEGORIES:Grammar School
END:VEVENT
BEGIN:VEVENT
DTSTART;TZID=America/New_York:20260126T180000
DTEND;TZID=America/New_York:20260126T193000
DTSTAMP:20260420T195442
CREATED:20250731T132425Z
LAST-MODIFIED:20260126T102703Z
UID:10001329-1769450400-1769455800@classicalprep.org
SUMMARY:Varsity Girls Basketball Game @ HCA
DESCRIPTION:
URL:https://classicalprep.org/event/varsity-girls-basketball-game-hca/
LOCATION:Hernando Christian Academy\, 7201 Emerson Rd\, Brooksville\, FL\, United States
CATEGORIES:Athletics
GEO:28.545216;-82.375306
X-APPLE-STRUCTURED-LOCATION;VALUE=URI;X-ADDRESS=Hernando Christian Academy 7201 Emerson Rd Brooksville FL United States;X-APPLE-RADIUS=500;X-TITLE=7201 Emerson Rd:geo:-82.375306,28.545216
END:VEVENT
BEGIN:VEVENT
DTSTART;VALUE=DATE:20260127
DTEND;VALUE=DATE:20260128
DTSTAMP:20260420T195442
CREATED:20251023T001521Z
LAST-MODIFIED:20251120T122844Z
UID:10001519-1769472000-1769558399@classicalprep.org
SUMMARY:Girls Varsity Basketball Game vs Sickles
DESCRIPTION:
URL:https://classicalprep.org/event/girls-varsity-basketball-game-vs-sickles/
CATEGORIES:Athletics
END:VEVENT
BEGIN:VEVENT
DTSTART;VALUE=DATE:20260128
DTEND;VALUE=DATE:20260129
DTSTAMP:20260420T195442
CREATED:20250724T001135Z
LAST-MODIFIED:20260128T133016Z
UID:10001199-1769558400-1769644799@classicalprep.org
SUMMARY:Scholar of the Month
DESCRIPTION:
URL:https://classicalprep.org/event/scholar-of-the-month-5/
CATEGORIES:Rhetoric School
END:VEVENT
BEGIN:VEVENT
DTSTART;VALUE=DATE:20260128
DTEND;VALUE=DATE:20260129
DTSTAMP:20260420T195442
CREATED:20250724T001145Z
LAST-MODIFIED:20260128T131446Z
UID:10001247-1769558400-1769644799@classicalprep.org
SUMMARY:Scholar of the Month
DESCRIPTION:
URL:https://classicalprep.org/event/scholar-of-the-month-13/
CATEGORIES:Logic School
END:VEVENT
BEGIN:VEVENT
DTSTART;VALUE=DATE:20260128
DTEND;VALUE=DATE:20260129
DTSTAMP:20260420T195442
CREATED:20250724T001316Z
LAST-MODIFIED:20260128T133022Z
UID:10001297-1769558400-1769644799@classicalprep.org
SUMMARY:Scholar of the Month
DESCRIPTION:
URL:https://classicalprep.org/event/scholar-of-the-month-21/
CATEGORIES:Grammar School
END:VEVENT
BEGIN:VEVENT
DTSTART;TZID=America/New_York:20260129T183000
DTEND;TZID=America/New_York:20260129T200000
DTSTAMP:20260420T195442
CREATED:20250425T181017Z
LAST-MODIFIED:20260130T001547Z
UID:10001126-1769711400-1769716800@classicalprep.org
SUMMARY:Varsity Girls Basketball Game vs. Cypress Creek
DESCRIPTION:
URL:https://classicalprep.org/event/varsity-girls-basketball-game-vs-cypress-creek/
LOCATION:Classical Preparatory School\, 18000 Spring Prairie Ln\, Brooksville\, FL\, United States
CATEGORIES:Athletics
GEO:28.419249;-82.446587
X-APPLE-STRUCTURED-LOCATION;VALUE=URI;X-ADDRESS=Classical Preparatory School 18000 Spring Prairie Ln Brooksville FL United States;X-APPLE-RADIUS=500;X-TITLE=18000 Spring Prairie Ln:geo:-82.446587,28.419249
END:VEVENT
BEGIN:VEVENT
DTSTART;VALUE=DATE:20260130
DTEND;VALUE=DATE:20260131
DTSTAMP:20260420T195442
CREATED:20260106T154121Z
LAST-MODIFIED:20260130T114508Z
UID:10001590-1769731200-1769817599@classicalprep.org
SUMMARY:Spirit Shirt Day
DESCRIPTION:
URL:https://classicalprep.org/event/spirit-shirt-day-67/
CATEGORIES:Logic School
END:VEVENT
BEGIN:VEVENT
DTSTART;VALUE=DATE:20260130
DTEND;VALUE=DATE:20260131
DTSTAMP:20260420T195442
CREATED:20260106T161128Z
LAST-MODIFIED:20260130T125606Z
UID:10001594-1769731200-1769817599@classicalprep.org
SUMMARY:Spirit Shirt Day
DESCRIPTION:
URL:https://classicalprep.org/event/spirit-shirt-day-71/
CATEGORIES:Rhetoric School
END:VEVENT
BEGIN:VEVENT
DTSTART;VALUE=DATE:20260130
DTEND;VALUE=DATE:20260131
DTSTAMP:20260420T195442
CREATED:20260106T161136Z
LAST-MODIFIED:20260130T121508Z
UID:10001603-1769731200-1769817599@classicalprep.org
SUMMARY:Spirit Shirt Day
DESCRIPTION:
URL:https://classicalprep.org/event/spirit-shirt-day-80/
CATEGORIES:Grammar School
END:VEVENT
BEGIN:VEVENT
DTSTART;TZID=America/New_York:20260130T163000
DTEND;TZID=America/New_York:20260130T174500
DTSTAMP:20260420T195442
CREATED:20250324T192326Z
LAST-MODIFIED:20251213T143127Z
UID:10001069-1769790600-1769795100@classicalprep.org
SUMMARY:JV Boys Basketball Game @ Seven Rivers
DESCRIPTION:
URL:https://classicalprep.org/event/jv-boys-basketball-game-seven-rivers/
LOCATION:Seven Rivers Christian School\, 4221 W Gulf To Lake Hwy\, Lecanto\, FL\, United States
CATEGORIES:Athletics
GEO:28.860302;-82.504763
X-APPLE-STRUCTURED-LOCATION;VALUE=URI;X-ADDRESS=Seven Rivers Christian School 4221 W Gulf To Lake Hwy Lecanto FL United States;X-APPLE-RADIUS=500;X-TITLE=4221 W Gulf To Lake Hwy:geo:-82.504763,28.860302
END:VEVENT
BEGIN:VEVENT
DTSTART;TZID=America/New_York:20260130T180000
DTEND;TZID=America/New_York:20260130T191500
DTSTAMP:20260420T195442
CREATED:20250324T192327Z
LAST-MODIFIED:20260130T113001Z
UID:10001070-1769796000-1769800500@classicalprep.org
SUMMARY:Varsity Girls Basketball Game @ Seven Rivers
DESCRIPTION:
URL:https://classicalprep.org/event/varsity-girls-basketball-game-seven-rivers-2/
LOCATION:Seven Rivers Christian School\, 4221 W Gulf To Lake Hwy\, Lecanto\, FL\, United States
CATEGORIES:Athletics
GEO:28.860302;-82.504763
X-APPLE-STRUCTURED-LOCATION;VALUE=URI;X-ADDRESS=Seven Rivers Christian School 4221 W Gulf To Lake Hwy Lecanto FL United States;X-APPLE-RADIUS=500;X-TITLE=4221 W Gulf To Lake Hwy:geo:-82.504763,28.860302
END:VEVENT
BEGIN:VEVENT
DTSTART;TZID=America/New_York:20260130T193000
DTEND;TZID=America/New_York:20260130T210000
DTSTAMP:20260420T195442
CREATED:20250324T192328Z
LAST-MODIFIED:20260130T113001Z
UID:10001071-1769801400-1769806800@classicalprep.org
SUMMARY:Varsity Boys Basketball Game @ Seven Rivers
DESCRIPTION:
URL:https://classicalprep.org/event/varsity-boys-basketball-game-seven-rivers/
LOCATION:Seven Rivers Christian School\, 4221 W Gulf To Lake Hwy\, Lecanto\, FL\, United States
CATEGORIES:Athletics
GEO:28.860302;-82.504763
X-APPLE-STRUCTURED-LOCATION;VALUE=URI;X-ADDRESS=Seven Rivers Christian School 4221 W Gulf To Lake Hwy Lecanto FL United States;X-APPLE-RADIUS=500;X-TITLE=4221 W Gulf To Lake Hwy:geo:-82.504763,28.860302
END:VEVENT
BEGIN:VEVENT
DTSTART;TZID=America/New_York:20260202T150000
DTEND;TZID=America/New_York:20260202T160000
DTSTAMP:20260420T195442
CREATED:20260202T001225Z
LAST-MODIFIED:20260202T131244Z
UID:10001655-1770044400-1770048000@classicalprep.org
SUMMARY:Basketball Clinic
DESCRIPTION:
URL:https://classicalprep.org/event/basketball-clinic/
LOCATION:Gym\, 198 Arkays Ave\, Brooksville\, FL\, United States
CATEGORIES:Athletics
GEO:28.439493;-82.488726
X-APPLE-STRUCTURED-LOCATION;VALUE=URI;X-ADDRESS=Gym 198 Arkays Ave Brooksville FL United States;X-APPLE-RADIUS=500;X-TITLE=198 Arkays Ave:geo:-82.488726,28.439493
END:VEVENT
BEGIN:VEVENT
DTSTART;TZID=America/New_York:20260204T150000
DTEND;TZID=America/New_York:20260204T160000
DTSTAMP:20260420T195442
CREATED:20260202T001225Z
LAST-MODIFIED:20260204T134227Z
UID:10001656-1770217200-1770220800@classicalprep.org
SUMMARY:Soccer Clinic
DESCRIPTION:
URL:https://classicalprep.org/event/soccer-clinic/
LOCATION:Turf
CATEGORIES:Athletics
END:VEVENT
BEGIN:VEVENT
DTSTART;TZID=America/New_York:20260204T180000
DTEND;TZID=America/New_York:20260204T193000
DTSTAMP:20260420T195442
CREATED:20260130T001548Z
LAST-MODIFIED:20260205T002846Z
UID:10001654-1770228000-1770233400@classicalprep.org
SUMMARY:Girls Basketball District Game vs AATL
DESCRIPTION:
URL:https://classicalprep.org/event/girls-basketball-district-game-vs-aatl/
LOCATION:CPS
CATEGORIES:Athletics
END:VEVENT
BEGIN:VEVENT
DTSTART;TZID=America/New_York:20260205T150000
DTEND;TZID=America/New_York:20260205T160000
DTSTAMP:20260420T195442
CREATED:20260202T001226Z
LAST-MODIFIED:20260205T131505Z
UID:10001657-1770303600-1770307200@classicalprep.org
SUMMARY:Volleyball Clinic
DESCRIPTION:
URL:https://classicalprep.org/event/volleyball-clinic/
LOCATION:Gym\, 198 Arkays Ave\, Brooksville\, FL\, United States
CATEGORIES:Athletics
GEO:28.439493;-82.488726
X-APPLE-STRUCTURED-LOCATION;VALUE=URI;X-ADDRESS=Gym 198 Arkays Ave Brooksville FL United States;X-APPLE-RADIUS=500;X-TITLE=198 Arkays Ave:geo:-82.488726,28.439493
END:VEVENT
BEGIN:VEVENT
DTSTART;VALUE=DATE:20260206
DTEND;VALUE=DATE:20260207
DTSTAMP:20260420T195442
CREATED:20250913T000848Z
LAST-MODIFIED:20260206T144325Z
UID:10001441-1770336000-1770422399@classicalprep.org
SUMMARY:3rd Grade Field Trip
DESCRIPTION:
URL:https://classicalprep.org/event/3rd-grade-field-trip/
CATEGORIES:Grammar School
END:VEVENT
BEGIN:VEVENT
DTSTART;VALUE=DATE:20260206
DTEND;VALUE=DATE:20260207
DTSTAMP:20260420T195442
CREATED:20250913T000904Z
LAST-MODIFIED:20260206T122719Z
UID:10001445-1770336000-1770422399@classicalprep.org
SUMMARY:7th Grade Field Trip
DESCRIPTION:
URL:https://classicalprep.org/event/7th-grade-field-trip/
CATEGORIES:Logic School
END:VEVENT
BEGIN:VEVENT
DTSTART;VALUE=DATE:20260206
DTEND;VALUE=DATE:20260207
DTSTAMP:20260420T195442
CREATED:20260124T001153Z
LAST-MODIFIED:20260206T144325Z
UID:10001627-1770336000-1770422399@classicalprep.org
SUMMARY:5th Grade Jumpstart
DESCRIPTION:
URL:https://classicalprep.org/event/5th-grade-jumpstart/
CATEGORIES:Grammar School
END:VEVENT
BEGIN:VEVENT
DTSTART;TZID=America/New_York:20260207T190000
DTEND;TZID=America/New_York:20260207T203000
DTSTAMP:20260420T195442
CREATED:20260207T001518Z
LAST-MODIFIED:20260208T012912Z
UID:10001690-1770490800-1770496200@classicalprep.org
SUMMARY:Girls Varsity Basketball Game vs NTCA
DESCRIPTION:
URL:https://classicalprep.org/event/girls-varsity-basketball-game-vs-ntca/
LOCATION:North Tampa Christian Academy\, 25201 Wesley Chapel Blvd\, Wesley Chapel\, FL\, United States
CATEGORIES:Athletics
GEO:28.229011;-82.37437
X-APPLE-STRUCTURED-LOCATION;VALUE=URI;X-ADDRESS=North Tampa Christian Academy 25201 Wesley Chapel Blvd Wesley Chapel FL United States;X-APPLE-RADIUS=500;X-TITLE=25201 Wesley Chapel Blvd:geo:-82.37437,28.229011
END:VEVENT
END:VCALENDAR