BEGIN:VCALENDAR
VERSION:2.0
PRODID:-//Classical Preparatory School - ECPv6.15.15//NONSGML v1.0//EN
CALSCALE:GREGORIAN
METHOD:PUBLISH
X-WR-CALNAME:Classical Preparatory School
X-ORIGINAL-URL:https://classicalprep.org
X-WR-CALDESC:Events for Classical Preparatory School
REFRESH-INTERVAL;VALUE=DURATION:PT1H
X-Robots-Tag:noindex
X-PUBLISHED-TTL:PT1H
BEGIN:VTIMEZONE
TZID:America/New_York
BEGIN:DAYLIGHT
TZOFFSETFROM:-0500
TZOFFSETTO:-0400
TZNAME:EDT
DTSTART:20240310T070000
END:DAYLIGHT
BEGIN:STANDARD
TZOFFSETFROM:-0400
TZOFFSETTO:-0500
TZNAME:EST
DTSTART:20241103T060000
END:STANDARD
BEGIN:DAYLIGHT
TZOFFSETFROM:-0500
TZOFFSETTO:-0400
TZNAME:EDT
DTSTART:20250309T070000
END:DAYLIGHT
BEGIN:STANDARD
TZOFFSETFROM:-0400
TZOFFSETTO:-0500
TZNAME:EST
DTSTART:20251102T060000
END:STANDARD
BEGIN:DAYLIGHT
TZOFFSETFROM:-0500
TZOFFSETTO:-0400
TZNAME:EDT
DTSTART:20260308T070000
END:DAYLIGHT
BEGIN:STANDARD
TZOFFSETFROM:-0400
TZOFFSETTO:-0500
TZNAME:EST
DTSTART:20261101T060000
END:STANDARD
END:VTIMEZONE
BEGIN:VEVENT
DTSTART;VALUE=DATE:20250509
DTEND;VALUE=DATE:20250510
DTSTAMP:20260421T115210
CREATED:20250327T175350Z
LAST-MODIFIED:20250509T213918Z
UID:10001094-1746748800-1746835199@classicalprep.org
SUMMARY:3rd Grade Reading Testing
DESCRIPTION:
URL:https://classicalprep.org/event/3rd-grade-reading-testing/
CATEGORIES:Grammar School
END:VEVENT
BEGIN:VEVENT
DTSTART;TZID=America/New_York:20250512T180000
DTEND;TZID=America/New_York:20250512T200000
DTSTAMP:20260421T115210
CREATED:20240725T152454Z
LAST-MODIFIED:20250512T211008Z
UID:10000526-1747072800-1747080000@classicalprep.org
SUMMARY:Orchestra & Choir - Spring Concert
DESCRIPTION:
URL:https://classicalprep.org/event/spring-concert/
LOCATION:Center for the Arts at River Ridge\, 11646 Town Center Rd\, New Port Richey\, FL\, United States
CATEGORIES:Rhetoric School
GEO:28.269419;-82.622844
X-APPLE-STRUCTURED-LOCATION;VALUE=URI;X-ADDRESS=Center for the Arts at River Ridge 11646 Town Center Rd New Port Richey FL United States;X-APPLE-RADIUS=500;X-TITLE=11646 Town Center Rd:geo:-82.622844,28.269419
END:VEVENT
BEGIN:VEVENT
DTSTART;TZID=America/New_York:20250512T180000
DTEND;TZID=America/New_York:20250512T200000
DTSTAMP:20260421T115210
CREATED:20240725T154031Z
LAST-MODIFIED:20250512T214305Z
UID:10000551-1747072800-1747080000@classicalprep.org
SUMMARY:Orchestra & Choir - Spring Concert
DESCRIPTION:
URL:https://classicalprep.org/event/spring-concert-2/
LOCATION:Center for the Arts at River Ridge\, 11646 Town Center Rd\, New Port Richey\, FL\, United States
CATEGORIES:Grammar School
GEO:28.269419;-82.622844
X-APPLE-STRUCTURED-LOCATION;VALUE=URI;X-ADDRESS=Center for the Arts at River Ridge 11646 Town Center Rd New Port Richey FL United States;X-APPLE-RADIUS=500;X-TITLE=11646 Town Center Rd:geo:-82.622844,28.269419
END:VEVENT
BEGIN:VEVENT
DTSTART;TZID=America/New_York:20250512T180000
DTEND;TZID=America/New_York:20250512T200000
DTSTAMP:20260421T115210
CREATED:20240725T161316Z
LAST-MODIFIED:20250512T205422Z
UID:10000560-1747072800-1747080000@classicalprep.org
SUMMARY:Orchestra & Choir - Spring Concert
DESCRIPTION:
URL:https://classicalprep.org/event/spring-concert-3/
LOCATION:Center for the Arts at River Ridge\, 11646 Town Center Rd\, New Port Richey\, FL\, United States
CATEGORIES:Logic School
GEO:28.269419;-82.622844
X-APPLE-STRUCTURED-LOCATION;VALUE=URI;X-ADDRESS=Center for the Arts at River Ridge 11646 Town Center Rd New Port Richey FL United States;X-APPLE-RADIUS=500;X-TITLE=11646 Town Center Rd:geo:-82.622844,28.269419
END:VEVENT
BEGIN:VEVENT
DTSTART;VALUE=DATE:20250513
DTEND;VALUE=DATE:20250514
DTSTAMP:20260421T115210
CREATED:20250327T175350Z
LAST-MODIFIED:20250513T205535Z
UID:10001096-1747094400-1747180799@classicalprep.org
SUMMARY:5th Grade Science Testing
DESCRIPTION:
URL:https://classicalprep.org/event/5th-grade-science-testing/
CATEGORIES:Grammar School
END:VEVENT
BEGIN:VEVENT
DTSTART;TZID=America/New_York:20250513T160000
DTEND;TZID=America/New_York:20250513T190000
DTSTAMP:20260421T115210
CREATED:20240725T154031Z
LAST-MODIFIED:20250513T205535Z
UID:10000552-1747152000-1747162800@classicalprep.org
SUMMARY:Summus Vesper
DESCRIPTION:
URL:https://classicalprep.org/event/summus-vesper/
CATEGORIES:Grammar School
END:VEVENT
BEGIN:VEVENT
DTSTART;VALUE=DATE:20250514
DTEND;VALUE=DATE:20250515
DTSTAMP:20260421T115210
CREATED:20240725T152454Z
LAST-MODIFIED:20250514T165631Z
UID:10000527-1747180800-1747267199@classicalprep.org
SUMMARY:6-12: Student of the Month Announcement
DESCRIPTION:
URL:https://classicalprep.org/event/6-12-student-of-the-month-announcement-7/
CATEGORIES:Rhetoric School
END:VEVENT
BEGIN:VEVENT
DTSTART;VALUE=DATE:20250514
DTEND;VALUE=DATE:20250515
DTSTAMP:20260421T115210
CREATED:20240725T152454Z
LAST-MODIFIED:20250514T165631Z
UID:10000528-1747180800-1747267199@classicalprep.org
SUMMARY:Seniors' Last Day
DESCRIPTION:
URL:https://classicalprep.org/event/seniors-last-day/
CATEGORIES:Rhetoric School
END:VEVENT
BEGIN:VEVENT
DTSTART;VALUE=DATE:20250514
DTEND;VALUE=DATE:20250515
DTSTAMP:20260421T115210
CREATED:20240725T152456Z
LAST-MODIFIED:20250514T165631Z
UID:10000529-1747180800-1747267199@classicalprep.org
SUMMARY:Senior Cap & Gown March
DESCRIPTION:
URL:https://classicalprep.org/event/senior-cap-gown-march/
CATEGORIES:Rhetoric School
END:VEVENT
BEGIN:VEVENT
DTSTART;VALUE=DATE:20250514
DTEND;VALUE=DATE:20250515
DTSTAMP:20260421T115210
CREATED:20240725T161317Z
LAST-MODIFIED:20250514T171143Z
UID:10000561-1747180800-1747267199@classicalprep.org
SUMMARY:6-12: Student of the Month Announcement
DESCRIPTION:
URL:https://classicalprep.org/event/6-12-student-of-the-month-announcement-8/
CATEGORIES:Logic School
END:VEVENT
BEGIN:VEVENT
DTSTART;TZID=America/New_York:20250514T081500
DTEND;TZID=America/New_York:20250514T091500
DTSTAMP:20260421T115210
CREATED:20240712T181004Z
LAST-MODIFIED:20250514T121157Z
UID:10000374-1747210500-1747214100@classicalprep.org
SUMMARY:K-5: Student of Month
DESCRIPTION:
URL:https://classicalprep.org/event/k-5-student-of-month-9/
CATEGORIES:Grammar School
END:VEVENT
BEGIN:VEVENT
DTSTART;TZID=America/New_York:20250514T180000
DTEND;TZID=America/New_York:20250514T200000
DTSTAMP:20260421T115210
CREATED:20250505T153901Z
LAST-MODIFIED:20250514T165632Z
UID:10001128-1747245600-1747252800@classicalprep.org
SUMMARY:Band - Spring Concert
DESCRIPTION:
URL:https://classicalprep.org/event/band-spring-concert/
LOCATION:Center for the Arts at River Ridge\, 11646 Town Center Rd\, New Port Richey\, FL\, United States
CATEGORIES:Rhetoric School
GEO:28.269419;-82.622844
X-APPLE-STRUCTURED-LOCATION;VALUE=URI;X-ADDRESS=Center for the Arts at River Ridge 11646 Town Center Rd New Port Richey FL United States;X-APPLE-RADIUS=500;X-TITLE=11646 Town Center Rd:geo:-82.622844,28.269419
END:VEVENT
BEGIN:VEVENT
DTSTART;TZID=America/New_York:20250514T180000
DTEND;TZID=America/New_York:20250514T200000
DTSTAMP:20260421T115210
CREATED:20250505T155448Z
LAST-MODIFIED:20250514T171146Z
UID:10001129-1747245600-1747252800@classicalprep.org
SUMMARY:Band - Spring Concert
DESCRIPTION:
URL:https://classicalprep.org/event/band-spring-concert-2/
LOCATION:Center for the Arts at River Ridge\, 11646 Town Center Rd\, New Port Richey\, FL\, United States
CATEGORIES:Grammar School
GEO:28.269419;-82.622844
X-APPLE-STRUCTURED-LOCATION;VALUE=URI;X-ADDRESS=Center for the Arts at River Ridge 11646 Town Center Rd New Port Richey FL United States;X-APPLE-RADIUS=500;X-TITLE=11646 Town Center Rd:geo:-82.622844,28.269419
END:VEVENT
BEGIN:VEVENT
DTSTART;TZID=America/New_York:20250514T180000
DTEND;TZID=America/New_York:20250514T200000
DTSTAMP:20260421T115210
CREATED:20250505T162641Z
LAST-MODIFIED:20250514T171144Z
UID:10001130-1747245600-1747252800@classicalprep.org
SUMMARY:Band - Spring Concert
DESCRIPTION:
URL:https://classicalprep.org/event/band-spring-concert-3/
LOCATION:Center for the Arts at River Ridge\, 11646 Town Center Rd\, New Port Richey\, FL\, United States
CATEGORIES:Logic School
GEO:28.269419;-82.622844
X-APPLE-STRUCTURED-LOCATION;VALUE=URI;X-ADDRESS=Center for the Arts at River Ridge 11646 Town Center Rd New Port Richey FL United States;X-APPLE-RADIUS=500;X-TITLE=11646 Town Center Rd:geo:-82.622844,28.269419
END:VEVENT
BEGIN:VEVENT
DTSTART;TZID=America/New_York:20250515T081500
DTEND;TZID=America/New_York:20250515T094500
DTSTAMP:20260421T115210
CREATED:20250408T125338Z
LAST-MODIFIED:20250515T125335Z
UID:10001110-1747296900-1747302300@classicalprep.org
SUMMARY:4th Grade Science Bowl
DESCRIPTION:
URL:https://classicalprep.org/event/4th-grade-science-bowl-2/
CATEGORIES:Grammar School
END:VEVENT
BEGIN:VEVENT
DTSTART;TZID=America/New_York:20250515T160000
DTEND;TZID=America/New_York:20250515T190000
DTSTAMP:20260421T115210
CREATED:20240725T154033Z
LAST-MODIFIED:20250515T174226Z
UID:10000553-1747324800-1747335600@classicalprep.org
SUMMARY:Summus Vesper
DESCRIPTION:
URL:https://classicalprep.org/event/summus-vesper-2/
CATEGORIES:Grammar School
END:VEVENT
BEGIN:VEVENT
DTSTART;VALUE=DATE:20250516
DTEND;VALUE=DATE:20250517
DTSTAMP:20260421T115210
CREATED:20240725T152454Z
LAST-MODIFIED:20250516T154325Z
UID:10000524-1747353600-1747439999@classicalprep.org
SUMMARY:Spirit Shirt Day
DESCRIPTION:
URL:https://classicalprep.org/event/spirit-shirt-day-50/
CATEGORIES:Rhetoric School
END:VEVENT
BEGIN:VEVENT
DTSTART;VALUE=DATE:20250516
DTEND;VALUE=DATE:20250517
DTSTAMP:20260421T115210
CREATED:20240725T152456Z
LAST-MODIFIED:20250516T154324Z
UID:10000530-1747353600-1747439999@classicalprep.org
SUMMARY:Baccalaureate
DESCRIPTION:
URL:https://classicalprep.org/event/baccalaureate/
CATEGORIES:Rhetoric School
END:VEVENT
BEGIN:VEVENT
DTSTART;VALUE=DATE:20250516
DTEND;VALUE=DATE:20250517
DTSTAMP:20260421T115210
CREATED:20240725T154031Z
LAST-MODIFIED:20250516T164247Z
UID:10000549-1747353600-1747439999@classicalprep.org
SUMMARY:Spirit Shirt Day
DESCRIPTION:
URL:https://classicalprep.org/event/spirit-shirt-day-54/
CATEGORIES:Grammar School
END:VEVENT
BEGIN:VEVENT
DTSTART;VALUE=DATE:20250516
DTEND;VALUE=DATE:20250517
DTSTAMP:20260421T115210
CREATED:20240725T161316Z
LAST-MODIFIED:20250516T174002Z
UID:10000559-1747353600-1747439999@classicalprep.org
SUMMARY:Spirit Shirt Day
DESCRIPTION:
URL:https://classicalprep.org/event/spirit-shirt-day-55/
CATEGORIES:Logic School
END:VEVENT
BEGIN:VEVENT
DTSTART;VALUE=DATE:20250516
DTEND;VALUE=DATE:20250517
DTSTAMP:20260421T115210
CREATED:20240725T161317Z
LAST-MODIFIED:20250516T174001Z
UID:10000562-1747353600-1747439999@classicalprep.org
SUMMARY:Baccalaureate
DESCRIPTION:
URL:https://classicalprep.org/event/baccalaureate-2/
CATEGORIES:Logic School
END:VEVENT
BEGIN:VEVENT
DTSTART;TZID=America/New_York:20250516T081500
DTEND;TZID=America/New_York:20250516T094500
DTSTAMP:20260421T115210
CREATED:20240725T154033Z
LAST-MODIFIED:20250516T131227Z
UID:10000554-1747383300-1747388700@classicalprep.org
SUMMARY:5th Grade Science Bowl
DESCRIPTION:
URL:https://classicalprep.org/event/4th-grade-science-bowl/
CATEGORIES:Grammar School
END:VEVENT
BEGIN:VEVENT
DTSTART;VALUE=DATE:20250517
DTEND;VALUE=DATE:20250518
DTSTAMP:20260421T115210
CREATED:20240725T152456Z
LAST-MODIFIED:20250517T155426Z
UID:10000531-1747440000-1747526399@classicalprep.org
SUMMARY:Graduation
DESCRIPTION:
URL:https://classicalprep.org/event/graduation/
CATEGORIES:Rhetoric School
END:VEVENT
BEGIN:VEVENT
DTSTART;VALUE=DATE:20250517
DTEND;VALUE=DATE:20250518
DTSTAMP:20260421T115210
CREATED:20240725T161317Z
LAST-MODIFIED:20250517T175444Z
UID:10000563-1747440000-1747526399@classicalprep.org
SUMMARY:Graduation
DESCRIPTION:
URL:https://classicalprep.org/event/graduation-2/
CATEGORIES:Logic School
END:VEVENT
BEGIN:VEVENT
DTSTART;VALUE=DATE:20250517
DTEND;VALUE=DATE:20250519
DTSTAMP:20260421T115210
CREATED:20250220T175612Z
LAST-MODIFIED:20250518T171240Z
UID:10001040-1747440000-1747612799@classicalprep.org
SUMMARY:Gym not available all day
DESCRIPTION:
URL:https://classicalprep.org/event/gym-not-available-all-day/
CATEGORIES:Athletics
END:VEVENT
BEGIN:VEVENT
DTSTART;TZID=America/New_York:20250519T081500
DTEND;TZID=America/New_York:20250519T094500
DTSTAMP:20260421T115210
CREATED:20240725T154033Z
LAST-MODIFIED:20250519T121031Z
UID:10000555-1747642500-1747647900@classicalprep.org
SUMMARY:5th Grade: History Bowl
DESCRIPTION:
URL:https://classicalprep.org/event/5th-grade-history-bowl/
CATEGORIES:Grammar School
END:VEVENT
BEGIN:VEVENT
DTSTART;VALUE=DATE:20250522
DTEND;VALUE=DATE:20250523
DTSTAMP:20260421T115210
CREATED:20240712T181004Z
LAST-MODIFIED:20250522T181312Z
UID:10000375-1747872000-1747958399@classicalprep.org
SUMMARY:K-5: Quarterly Celebration - Cold Stone
DESCRIPTION:
URL:https://classicalprep.org/event/quarterly-celebration-cold-stone-2/
CATEGORIES:Grammar School
END:VEVENT
BEGIN:VEVENT
DTSTART;VALUE=DATE:20250522
DTEND;VALUE=DATE:20250523
DTSTAMP:20260421T115210
CREATED:20240725T154034Z
LAST-MODIFIED:20250522T181313Z
UID:10000557-1747872000-1747958399@classicalprep.org
SUMMARY:5th Grade Clap Out
DESCRIPTION:
URL:https://classicalprep.org/event/5th-grade-clap-out/
CATEGORIES:Grammar School
END:VEVENT
BEGIN:VEVENT
DTSTART;VALUE=DATE:20250522
DTEND;VALUE=DATE:20250523
DTSTAMP:20260421T115210
CREATED:20250514T155649Z
LAST-MODIFIED:20250522T181313Z
UID:10001133-1747872000-1747958399@classicalprep.org
SUMMARY:Spirit Shirt Day
DESCRIPTION:
URL:https://classicalprep.org/event/spirit-shirt-day-56/
CATEGORIES:Grammar School
END:VEVENT
BEGIN:VEVENT
DTSTART;VALUE=DATE:20250523
DTEND;VALUE=DATE:20250524
DTSTAMP:20260421T115210
CREATED:20240725T152456Z
LAST-MODIFIED:20250523T165641Z
UID:10000532-1747958400-1748044799@classicalprep.org
SUMMARY:6-12: Quarterly Celebration - Dress Down Day
DESCRIPTION:
URL:https://classicalprep.org/event/6-12-quarterly-celebration-dress-down-day-5/
CATEGORIES:Rhetoric School
END:VEVENT
END:VCALENDAR