BEGIN:VCALENDAR
VERSION:2.0
PRODID:-//Classical Preparatory School - ECPv6.15.15//NONSGML v1.0//EN
CALSCALE:GREGORIAN
METHOD:PUBLISH
X-WR-CALNAME:Classical Preparatory School
X-ORIGINAL-URL:https://classicalprep.org
X-WR-CALDESC:Events for Classical Preparatory School
REFRESH-INTERVAL;VALUE=DURATION:PT1H
X-Robots-Tag:noindex
X-PUBLISHED-TTL:PT1H
BEGIN:VTIMEZONE
TZID:America/New_York
BEGIN:DAYLIGHT
TZOFFSETFROM:-0500
TZOFFSETTO:-0400
TZNAME:EDT
DTSTART:20240310T070000
END:DAYLIGHT
BEGIN:STANDARD
TZOFFSETFROM:-0400
TZOFFSETTO:-0500
TZNAME:EST
DTSTART:20241103T060000
END:STANDARD
BEGIN:DAYLIGHT
TZOFFSETFROM:-0500
TZOFFSETTO:-0400
TZNAME:EDT
DTSTART:20250309T070000
END:DAYLIGHT
BEGIN:STANDARD
TZOFFSETFROM:-0400
TZOFFSETTO:-0500
TZNAME:EST
DTSTART:20251102T060000
END:STANDARD
BEGIN:DAYLIGHT
TZOFFSETFROM:-0500
TZOFFSETTO:-0400
TZNAME:EDT
DTSTART:20260308T070000
END:DAYLIGHT
BEGIN:STANDARD
TZOFFSETFROM:-0400
TZOFFSETTO:-0500
TZNAME:EST
DTSTART:20261101T060000
END:STANDARD
END:VTIMEZONE
BEGIN:VEVENT
DTSTART;TZID=America/New_York:20250123T170000
DTEND;TZID=America/New_York:20250123T180000
DTSTAMP:20260423T041247
CREATED:20240829T184321Z
LAST-MODIFIED:20250123T221147Z
UID:10000646-1737651600-1737655200@classicalprep.org
SUMMARY:Girls Varsity Basketball Game @ HCA
DESCRIPTION:
URL:https://classicalprep.org/event/girls-varsity-basketball-game-hca/
LOCATION:Hernando Christian Academy\, 7201 Emerson Rd\, Brooksville\, FL\, United States
CATEGORIES:Athletics
GEO:28.545216;-82.375306
X-APPLE-STRUCTURED-LOCATION;VALUE=URI;X-ADDRESS=Hernando Christian Academy 7201 Emerson Rd Brooksville FL United States;X-APPLE-RADIUS=500;X-TITLE=7201 Emerson Rd:geo:-82.375306,28.545216
END:VEVENT
BEGIN:VEVENT
DTSTART;TZID=America/New_York:20250123T170000
DTEND;TZID=America/New_York:20250123T183000
DTSTAMP:20260423T041247
CREATED:20250123T205355Z
LAST-MODIFIED:20250123T221146Z
UID:10000995-1737651600-1737657000@classicalprep.org
SUMMARY:Varsity Soccer District Game vs Seven Rivers
DESCRIPTION:
URL:https://classicalprep.org/event/varsity-soccer-district-game-vs-seven-rivers/
LOCATION:Mount Dora
CATEGORIES:Athletics
END:VEVENT
BEGIN:VEVENT
DTSTART;TZID=America/New_York:20250123T173000
DTEND;TZID=America/New_York:20250123T183000
DTSTAMP:20260423T041247
CREATED:20250117T151224Z
LAST-MODIFIED:20250123T215610Z
UID:10000975-1737653400-1737657000@classicalprep.org
SUMMARY:Information Session (Enrollment)
DESCRIPTION:
URL:https://classicalprep.org/event/information-session-enrollment/
CATEGORIES:Grammar School
END:VEVENT
BEGIN:VEVENT
DTSTART;TZID=America/New_York:20250123T173000
DTEND;TZID=America/New_York:20250123T183000
DTSTAMP:20260423T041247
CREATED:20250117T164252Z
LAST-MODIFIED:20250123T212515Z
UID:10000981-1737653400-1737657000@classicalprep.org
SUMMARY:Information Session (Enrollment)
DESCRIPTION:
URL:https://classicalprep.org/event/information-session-enrollment-4/
CATEGORIES:Logic School
END:VEVENT
BEGIN:VEVENT
DTSTART;TZID=America/New_York:20250123T173000
DTEND;TZID=America/New_York:20250123T183000
DTSTAMP:20260423T041247
CREATED:20250117T175636Z
LAST-MODIFIED:20250123T214110Z
UID:10000987-1737653400-1737657000@classicalprep.org
SUMMARY:Information Session (Enrollment)
DESCRIPTION:
URL:https://classicalprep.org/event/information-session-enrollment-7/
CATEGORIES:Rhetoric School
END:VEVENT
BEGIN:VEVENT
DTSTART;VALUE=DATE:20250124
DTEND;VALUE=DATE:20250125
DTSTAMP:20260423T041247
CREATED:20240826T181221Z
LAST-MODIFIED:20241205T145738Z
UID:10000591-1737676800-1737763199@classicalprep.org
SUMMARY:Athletics White Out Day
DESCRIPTION:
URL:https://classicalprep.org/event/athletics-white-out-day/
CATEGORIES:Athletics
END:VEVENT
BEGIN:VEVENT
DTSTART;TZID=America/New_York:20250124T150000
DTEND;TZID=America/New_York:20250124T170000
DTSTAMP:20260423T041247
CREATED:20250115T212807Z
LAST-MODIFIED:20250124T215447Z
UID:10000970-1737730800-1737738000@classicalprep.org
SUMMARY:Logic Girls Soccer Tryouts
DESCRIPTION:
URL:https://classicalprep.org/event/logic-girls-soccer-tryouts/
LOCATION:CPS
CATEGORIES:Athletics
END:VEVENT
BEGIN:VEVENT
DTSTART;TZID=America/New_York:20250124T170000
DTEND;TZID=America/New_York:20250124T183000
DTSTAMP:20260423T041247
CREATED:20240829T184321Z
LAST-MODIFIED:20250123T111039Z
UID:10000647-1737738000-1737743400@classicalprep.org
SUMMARY:Varsity Girls Basketball Game vs. Angeline
DESCRIPTION:
URL:https://classicalprep.org/event/varsity-girls-basketball-game-vs-angeline/
LOCATION:Classical Preparatory School\, 18000 Spring Prairie Ln\, Brooksville\, FL\, United States
CATEGORIES:Athletics
GEO:28.419249;-82.446587
X-APPLE-STRUCTURED-LOCATION;VALUE=URI;X-ADDRESS=Classical Preparatory School 18000 Spring Prairie Ln Brooksville FL United States;X-APPLE-RADIUS=500;X-TITLE=18000 Spring Prairie Ln:geo:-82.446587,28.419249
END:VEVENT
BEGIN:VEVENT
DTSTART;TZID=America/New_York:20250124T183000
DTEND;TZID=America/New_York:20250124T193000
DTSTAMP:20260423T041247
CREATED:20240906T171012Z
LAST-MODIFIED:20250125T002716Z
UID:10000696-1737743400-1737747000@classicalprep.org
SUMMARY:JV Boys Basketball Game vs. Pasco High
DESCRIPTION:
URL:https://classicalprep.org/event/jv-boys-basketball-game-vs-pasco-high/
LOCATION:Classical Preparatory School\, 18000 Spring Prairie Ln\, Brooksville\, FL\, United States
CATEGORIES:Athletics
GEO:28.419249;-82.446587
X-APPLE-STRUCTURED-LOCATION;VALUE=URI;X-ADDRESS=Classical Preparatory School 18000 Spring Prairie Ln Brooksville FL United States;X-APPLE-RADIUS=500;X-TITLE=18000 Spring Prairie Ln:geo:-82.446587,28.419249
END:VEVENT
BEGIN:VEVENT
DTSTART;VALUE=DATE:20250125
DTEND;VALUE=DATE:20250126
DTSTAMP:20260423T041247
CREATED:20240829T184321Z
LAST-MODIFIED:20250125T205842Z
UID:10000648-1737763200-1737849599@classicalprep.org
SUMMARY:Last Playing Date for District Seeding
DESCRIPTION:
URL:https://classicalprep.org/event/last-playing-date-for-district-seeding/
CATEGORIES:Athletics
END:VEVENT
BEGIN:VEVENT
DTSTART;VALUE=DATE:20250125
DTEND;VALUE=DATE:20250126
DTSTAMP:20260423T041247
CREATED:20241001T124244Z
LAST-MODIFIED:20250125T214157Z
UID:10000785-1737763200-1737849599@classicalprep.org
SUMMARY:POSTPONED: Winter Fest
DESCRIPTION:
URL:https://classicalprep.org/event/winter-fest/
CATEGORIES:Logic School
END:VEVENT
BEGIN:VEVENT
DTSTART;VALUE=DATE:20250125
DTEND;VALUE=DATE:20250126
DTSTAMP:20260423T041247
CREATED:20241001T130935Z
LAST-MODIFIED:20250125T214147Z
UID:10000789-1737763200-1737849599@classicalprep.org
SUMMARY:POSTPONED: Winter Fest
DESCRIPTION:
URL:https://classicalprep.org/event/winter-fest-2/
CATEGORIES:Rhetoric School
END:VEVENT
BEGIN:VEVENT
DTSTART;VALUE=DATE:20250125
DTEND;VALUE=DATE:20250126
DTSTAMP:20260423T041247
CREATED:20241001T144212Z
LAST-MODIFIED:20250125T220853Z
UID:10000793-1737763200-1737849599@classicalprep.org
SUMMARY:POSTPONED: Winter Fest
DESCRIPTION:
URL:https://classicalprep.org/event/winter-fest-3/
CATEGORIES:Grammar School
END:VEVENT
BEGIN:VEVENT
DTSTART;VALUE=DATE:20250127
DTEND;VALUE=DATE:20250128
DTSTAMP:20260423T041247
CREATED:20250117T151225Z
LAST-MODIFIED:20250127T203959Z
UID:10000976-1737936000-1738022399@classicalprep.org
SUMMARY:Online Uniform Shop Opens
DESCRIPTION:
URL:https://classicalprep.org/event/online-uniform-shop-opens/
CATEGORIES:Grammar School
END:VEVENT
BEGIN:VEVENT
DTSTART;VALUE=DATE:20250127
DTEND;VALUE=DATE:20250128
DTSTAMP:20260423T041247
CREATED:20250117T164253Z
LAST-MODIFIED:20250127T212424Z
UID:10000982-1737936000-1738022399@classicalprep.org
SUMMARY:Online Uniform Shop Opens
DESCRIPTION:
URL:https://classicalprep.org/event/online-uniform-shop-opens-2/
CATEGORIES:Logic School
END:VEVENT
BEGIN:VEVENT
DTSTART;VALUE=DATE:20250127
DTEND;VALUE=DATE:20250128
DTSTAMP:20260423T041247
CREATED:20250117T175636Z
LAST-MODIFIED:20250127T210814Z
UID:10000988-1737936000-1738022399@classicalprep.org
SUMMARY:Online Uniform Shop Opens
DESCRIPTION:
URL:https://classicalprep.org/event/online-uniform-shop-opens-3/
CATEGORIES:Rhetoric School
END:VEVENT
BEGIN:VEVENT
DTSTART;TZID=America/New_York:20250127T173000
DTEND;TZID=America/New_York:20250127T183000
DTSTAMP:20260423T041247
CREATED:20240927T143947Z
LAST-MODIFIED:20250127T205724Z
UID:10000778-1737999000-1738002600@classicalprep.org
SUMMARY:JV Boys Basketball Game vs. Hudson
DESCRIPTION:
URL:https://classicalprep.org/event/jv-boys-basketball-game-vs-hudson/
LOCATION:Classical Preparatory School\, 18000 Spring Prairie Ln\, Brooksville\, FL\, United States
CATEGORIES:Athletics
GEO:28.419249;-82.446587
X-APPLE-STRUCTURED-LOCATION;VALUE=URI;X-ADDRESS=Classical Preparatory School 18000 Spring Prairie Ln Brooksville FL United States;X-APPLE-RADIUS=500;X-TITLE=18000 Spring Prairie Ln:geo:-82.446587,28.419249
END:VEVENT
BEGIN:VEVENT
DTSTART;VALUE=DATE:20250128
DTEND;VALUE=DATE:20250129
DTSTAMP:20260423T041247
CREATED:20240718T194354Z
LAST-MODIFIED:20250128T212450Z
UID:10000401-1738022400-1738108799@classicalprep.org
SUMMARY:Candy Gram Sales Begin
DESCRIPTION:
URL:https://classicalprep.org/event/candy-gram-sales-begin/
CATEGORIES:Grammar School
END:VEVENT
BEGIN:VEVENT
DTSTART;VALUE=DATE:20250128
DTEND;VALUE=DATE:20250129
DTSTAMP:20260423T041247
CREATED:20240718T201047Z
LAST-MODIFIED:20250128T202539Z
UID:10000421-1738022400-1738108799@classicalprep.org
SUMMARY:Candy Gram Sales Begin
DESCRIPTION:
URL:https://classicalprep.org/event/candy-gram-sales-begin-2/
CATEGORIES:Logic School
END:VEVENT
BEGIN:VEVENT
DTSTART;VALUE=DATE:20250128
DTEND;VALUE=DATE:20250129
DTSTAMP:20260423T041247
CREATED:20240718T215519Z
LAST-MODIFIED:20250128T215645Z
UID:10000443-1738022400-1738108799@classicalprep.org
SUMMARY:Candy Gram Sales Begin
DESCRIPTION:
URL:https://classicalprep.org/event/candy-gram-sales-begin-3/
CATEGORIES:Rhetoric School
END:VEVENT
BEGIN:VEVENT
DTSTART;TZID=America/New_York:20250128T170000
DTEND;TZID=America/New_York:20250128T183000
DTSTAMP:20260423T041247
CREATED:20240829T184322Z
LAST-MODIFIED:20250128T212443Z
UID:10000649-1738083600-1738089000@classicalprep.org
SUMMARY:Varsity Girls Basketball Game vs. Berkley Prep
DESCRIPTION:SENIOR NIGHT!!!
URL:https://classicalprep.org/event/varsity-girls-basketball-game-vs-berkley-prep/
LOCATION:Classical Preparatory School\, 18000 Spring Prairie Ln\, Brooksville\, FL\, United States
CATEGORIES:Athletics
GEO:28.419249;-82.446587
X-APPLE-STRUCTURED-LOCATION;VALUE=URI;X-ADDRESS=Classical Preparatory School 18000 Spring Prairie Ln Brooksville FL United States;X-APPLE-RADIUS=500;X-TITLE=18000 Spring Prairie Ln:geo:-82.446587,28.419249
END:VEVENT
BEGIN:VEVENT
DTSTART;TZID=America/New_York:20250128T183000
DTEND;TZID=America/New_York:20250128T200000
DTSTAMP:20260423T041247
CREATED:20250111T035514Z
LAST-MODIFIED:20250129T002535Z
UID:10000967-1738089000-1738094400@classicalprep.org
SUMMARY:JV Boys Basketball Game vs Pinecrest
DESCRIPTION:
URL:https://classicalprep.org/event/jv-boys-basketball-game-vs-pinecrest-2/
LOCATION:Classical Preparatory School\, 18000 Spring Prairie Ln\, Brooksville\, FL\, United States
CATEGORIES:Athletics
GEO:28.419249;-82.446587
X-APPLE-STRUCTURED-LOCATION;VALUE=URI;X-ADDRESS=Classical Preparatory School 18000 Spring Prairie Ln Brooksville FL United States;X-APPLE-RADIUS=500;X-TITLE=18000 Spring Prairie Ln:geo:-82.446587,28.419249
END:VEVENT
BEGIN:VEVENT
DTSTART;VALUE=DATE:20250129
DTEND;VALUE=DATE:20250130
DTSTAMP:20260423T041247
CREATED:20240718T194354Z
LAST-MODIFIED:20250129T202753Z
UID:10000402-1738108800-1738195199@classicalprep.org
SUMMARY:K-5: Honor Roll Announcement
DESCRIPTION:
URL:https://classicalprep.org/event/k-5-honor-roll-announcement-2/
CATEGORIES:Grammar School
END:VEVENT
BEGIN:VEVENT
DTSTART;VALUE=DATE:20250129
DTEND;VALUE=DATE:20250130
DTSTAMP:20260423T041247
CREATED:20240718T201047Z
LAST-MODIFIED:20250129T203900Z
UID:10000422-1738108800-1738195199@classicalprep.org
SUMMARY:6-12: Student of the Month & Honor Roll Announcement
DESCRIPTION:
URL:https://classicalprep.org/event/6-12-student-of-the-month-honor-roll-announcement/
CATEGORIES:Logic School
END:VEVENT
BEGIN:VEVENT
DTSTART;VALUE=DATE:20250129
DTEND;VALUE=DATE:20250130
DTSTAMP:20260423T041247
CREATED:20240718T215519Z
LAST-MODIFIED:20250129T211004Z
UID:10000444-1738108800-1738195199@classicalprep.org
SUMMARY:6-12: Student of the Month & Honor Roll Announcement
DESCRIPTION:
URL:https://classicalprep.org/event/6-12-student-of-the-month-honor-roll-announcement-2/
CATEGORIES:Rhetoric School
END:VEVENT
BEGIN:VEVENT
DTSTART;TZID=America/New_York:20250129T081500
DTEND;TZID=America/New_York:20250129T091500
DTSTAMP:20260423T041247
CREATED:20240712T181002Z
LAST-MODIFIED:20250129T132524Z
UID:10000369-1738138500-1738142100@classicalprep.org
SUMMARY:K-5 Student of Month
DESCRIPTION:
URL:https://classicalprep.org/event/k-5-student-of-month-5/
CATEGORIES:Grammar School
END:VEVENT
BEGIN:VEVENT
DTSTART;TZID=America/New_York:20250129T160000
DTEND;TZID=America/New_York:20250129T180000
DTSTAMP:20260423T041247
CREATED:20250115T212809Z
LAST-MODIFIED:20250129T203853Z
UID:10000971-1738166400-1738173600@classicalprep.org
SUMMARY:Flag Football Tryouts
DESCRIPTION:
URL:https://classicalprep.org/event/flag-football-tryouts/
LOCATION:CPS Turf Field
CATEGORIES:Athletics
END:VEVENT
BEGIN:VEVENT
DTSTART;TZID=America/New_York:20250130T160000
DTEND;TZID=America/New_York:20250130T170000
DTSTAMP:20260423T041247
CREATED:20240718T201048Z
LAST-MODIFIED:20250130T212607Z
UID:10000423-1738252800-1738256400@classicalprep.org
SUMMARY:5th Grade: Mandatory Parent Night
DESCRIPTION:
URL:https://classicalprep.org/event/5th-11th-grade-mandatory-parent-night/
CATEGORIES:Logic School
END:VEVENT
BEGIN:VEVENT
DTSTART;TZID=America/New_York:20250130T163000
DTEND;TZID=America/New_York:20250130T173000
DTSTAMP:20260423T041247
CREATED:20240922T211224Z
LAST-MODIFIED:20250130T215708Z
UID:10000766-1738254600-1738258200@classicalprep.org
SUMMARY:JV Boys Basketball Game @ Seven Rivers
DESCRIPTION:
URL:https://classicalprep.org/event/jv-boys-basketball-game/
LOCATION:Seven Rivers Christian School\, 4221 W Gulf To Lake Hwy\, Lecanto\, FL\, United States
CATEGORIES:Athletics
GEO:28.860302;-82.504763
X-APPLE-STRUCTURED-LOCATION;VALUE=URI;X-ADDRESS=Seven Rivers Christian School 4221 W Gulf To Lake Hwy Lecanto FL United States;X-APPLE-RADIUS=500;X-TITLE=4221 W Gulf To Lake Hwy:geo:-82.504763,28.860302
END:VEVENT
BEGIN:VEVENT
DTSTART;TZID=America/New_York:20250130T180000
DTEND;TZID=America/New_York:20250130T190000
DTSTAMP:20260423T041247
CREATED:20240829T184322Z
LAST-MODIFIED:20250130T215709Z
UID:10000650-1738260000-1738263600@classicalprep.org
SUMMARY:Varsity Girls Basketball Game @ Seven Rivers
DESCRIPTION:
URL:https://classicalprep.org/event/varsity-girls-basketball-game-seven-rivers/
LOCATION:Seven Rivers Christian School\, 4221 W Gulf To Lake Hwy\, Lecanto\, FL\, United States
CATEGORIES:Athletics
GEO:28.860302;-82.504763
X-APPLE-STRUCTURED-LOCATION;VALUE=URI;X-ADDRESS=Seven Rivers Christian School 4221 W Gulf To Lake Hwy Lecanto FL United States;X-APPLE-RADIUS=500;X-TITLE=4221 W Gulf To Lake Hwy:geo:-82.504763,28.860302
END:VEVENT
END:VCALENDAR