BEGIN:VCALENDAR
VERSION:2.0
PRODID:-//Classical Preparatory School - ECPv6.15.15//NONSGML v1.0//EN
CALSCALE:GREGORIAN
METHOD:PUBLISH
X-WR-CALNAME:Classical Preparatory School
X-ORIGINAL-URL:https://classicalprep.org
X-WR-CALDESC:Events for Classical Preparatory School
REFRESH-INTERVAL;VALUE=DURATION:PT1H
X-Robots-Tag:noindex
X-PUBLISHED-TTL:PT1H
BEGIN:VTIMEZONE
TZID:America/New_York
BEGIN:DAYLIGHT
TZOFFSETFROM:-0500
TZOFFSETTO:-0400
TZNAME:EDT
DTSTART:20240310T070000
END:DAYLIGHT
BEGIN:STANDARD
TZOFFSETFROM:-0400
TZOFFSETTO:-0500
TZNAME:EST
DTSTART:20241103T060000
END:STANDARD
BEGIN:DAYLIGHT
TZOFFSETFROM:-0500
TZOFFSETTO:-0400
TZNAME:EDT
DTSTART:20250309T070000
END:DAYLIGHT
BEGIN:STANDARD
TZOFFSETFROM:-0400
TZOFFSETTO:-0500
TZNAME:EST
DTSTART:20251102T060000
END:STANDARD
BEGIN:DAYLIGHT
TZOFFSETFROM:-0500
TZOFFSETTO:-0400
TZNAME:EDT
DTSTART:20260308T070000
END:DAYLIGHT
BEGIN:STANDARD
TZOFFSETFROM:-0400
TZOFFSETTO:-0500
TZNAME:EST
DTSTART:20261101T060000
END:STANDARD
END:VTIMEZONE
BEGIN:VEVENT
DTSTART;VALUE=DATE:20250114
DTEND;VALUE=DATE:20250115
DTSTAMP:20260423T035024
CREATED:20241110T202801Z
LAST-MODIFIED:20250114T205806Z
UID:10000926-1736812800-1736899199@classicalprep.org
SUMMARY:Logic Girls Basketball Game vs. HAMS
DESCRIPTION:
URL:https://classicalprep.org/event/logic-girls-basketball-game-vs-hams/
LOCATION:CPS
CATEGORIES:Athletics
END:VEVENT
BEGIN:VEVENT
DTSTART;TZID=America/New_York:20250114T170000
DTEND;TZID=America/New_York:20250114T180000
DTSTAMP:20260423T035024
CREATED:20240829T184319Z
LAST-MODIFIED:20250114T205805Z
UID:10000641-1736874000-1736877600@classicalprep.org
SUMMARY:Girls Basketball Game vs. HCA
DESCRIPTION:
URL:https://classicalprep.org/event/girls-basketball-game-vs-hca/
LOCATION:Classical Preparatory School\, 18000 Spring Prairie Ln\, Brooksville\, FL\, United States
CATEGORIES:Athletics
GEO:28.419249;-82.446587
X-APPLE-STRUCTURED-LOCATION;VALUE=URI;X-ADDRESS=Classical Preparatory School 18000 Spring Prairie Ln Brooksville FL United States;X-APPLE-RADIUS=500;X-TITLE=18000 Spring Prairie Ln:geo:-82.446587,28.419249
END:VEVENT
BEGIN:VEVENT
DTSTART;TZID=America/New_York:20250114T183000
DTEND;TZID=America/New_York:20250114T193000
DTSTAMP:20260423T035024
CREATED:20240829T184320Z
LAST-MODIFIED:20250115T002907Z
UID:10000642-1736879400-1736883000@classicalprep.org
SUMMARY:Boys Varsity Basketball Game vs. HCA
DESCRIPTION:
URL:https://classicalprep.org/event/boys-varsity-basketball-game-vs-hca/
LOCATION:Classical Preparatory School\, 18000 Spring Prairie Ln\, Brooksville\, FL\, United States
CATEGORIES:Athletics
GEO:28.419249;-82.446587
X-APPLE-STRUCTURED-LOCATION;VALUE=URI;X-ADDRESS=Classical Preparatory School 18000 Spring Prairie Ln Brooksville FL United States;X-APPLE-RADIUS=500;X-TITLE=18000 Spring Prairie Ln:geo:-82.446587,28.419249
END:VEVENT
BEGIN:VEVENT
DTSTART;TZID=America/New_York:20250115T163000
DTEND;TZID=America/New_York:20250115T173000
DTSTAMP:20260423T035024
CREATED:20241110T191308Z
LAST-MODIFIED:20250115T212802Z
UID:10000920-1736958600-1736962200@classicalprep.org
SUMMARY:Logic Varsity Boys Game @ Henderson
DESCRIPTION:
URL:https://classicalprep.org/event/logic-varsity-boys-game-henderson/
LOCATION:10322 Henderson Rd Tampa 33625
CATEGORIES:Athletics
END:VEVENT
BEGIN:VEVENT
DTSTART;VALUE=DATE:20250116
DTEND;VALUE=DATE:20250117
DTSTAMP:20260423T035024
CREATED:20240924T195720Z
LAST-MODIFIED:20250116T232527Z
UID:10000776-1736985600-1737071999@classicalprep.org
SUMMARY:Third Grade Field Trip
DESCRIPTION:
URL:https://classicalprep.org/event/third-grade-field-trip-2/
CATEGORIES:Grammar School
END:VEVENT
BEGIN:VEVENT
DTSTART;TZID=America/New_York:20250116T163000
DTEND;TZID=America/New_York:20250116T173000
DTSTAMP:20260423T035024
CREATED:20241110T202802Z
LAST-MODIFIED:20250116T212758Z
UID:10000927-1737045000-1737048600@classicalprep.org
SUMMARY:Logic Girls Basketball Game @ TCMS
DESCRIPTION:
URL:https://classicalprep.org/event/logic-girls-basketball-game-tcms/
LOCATION:6610 Whiteway Dr Te33617mple Terrace
CATEGORIES:Athletics
END:VEVENT
BEGIN:VEVENT
DTSTART;TZID=America/New_York:20250116T170000
DTEND;TZID=America/New_York:20250116T183000
DTSTAMP:20260423T035024
CREATED:20240909T190952Z
LAST-MODIFIED:20250116T212757Z
UID:10000702-1737046800-1737052200@classicalprep.org
SUMMARY:Varsity Girls Basketball Game @ Elfers
DESCRIPTION:
URL:https://classicalprep.org/event/varsity-girls-basketball-game-elfers/
LOCATION:Elfers Christian School\, 5630 Olympia St\, New Port Richey\, FL\, United States
CATEGORIES:Athletics
GEO:28.218856;-82.721165
X-APPLE-STRUCTURED-LOCATION;VALUE=URI;X-ADDRESS=Elfers Christian School 5630 Olympia St New Port Richey FL United States;X-APPLE-RADIUS=500;X-TITLE=5630 Olympia St:geo:-82.721165,28.218856
END:VEVENT
BEGIN:VEVENT
DTSTART;TZID=America/New_York:20250116T170000
DTEND;TZID=America/New_York:20250116T193000
DTSTAMP:20260423T035024
CREATED:20241204T194006Z
LAST-MODIFIED:20250116T235823Z
UID:10000941-1737046800-1737055800@classicalprep.org
SUMMARY:Varsity Boys Soccer Game vs. Hudson
DESCRIPTION:
URL:https://classicalprep.org/event/varsity-boys-soccer-game-vs-hudson/
LOCATION:Anderson Snow Park\, 11100 Spring Hill Dr\, Brooksville\, FL\, United States
CATEGORIES:Athletics
GEO:28.461581;-82.540244
X-APPLE-STRUCTURED-LOCATION;VALUE=URI;X-ADDRESS=Anderson Snow Park 11100 Spring Hill Dr Brooksville FL United States;X-APPLE-RADIUS=500;X-TITLE=11100 Spring Hill Dr:geo:-82.540244,28.461581
END:VEVENT
BEGIN:VEVENT
DTSTART;TZID=America/New_York:20250116T183000
DTEND;TZID=America/New_York:20250116T200000
DTSTAMP:20260423T035024
CREATED:20241031T122423Z
LAST-MODIFIED:20250116T235823Z
UID:10000865-1737052200-1737057600@classicalprep.org
SUMMARY:JV Boys Basketball Game @ Elfers
DESCRIPTION:
URL:https://classicalprep.org/event/jv-boys-basketball-game-elfers/
CATEGORIES:Athletics
END:VEVENT
BEGIN:VEVENT
DTSTART;VALUE=DATE:20250117
DTEND;VALUE=DATE:20250118
DTSTAMP:20260423T035024
CREATED:20240718T194353Z
LAST-MODIFIED:20250117T233908Z
UID:10000398-1737072000-1737158399@classicalprep.org
SUMMARY:Spirit Shirt Day
DESCRIPTION:
URL:https://classicalprep.org/event/spirit-shirt-day-26/
CATEGORIES:Grammar School
END:VEVENT
BEGIN:VEVENT
DTSTART;VALUE=DATE:20250117
DTEND;VALUE=DATE:20250118
DTSTAMP:20260423T035024
CREATED:20240718T201046Z
LAST-MODIFIED:20250117T223841Z
UID:10000418-1737072000-1737158399@classicalprep.org
SUMMARY:Spirit Shirt Day
DESCRIPTION:
URL:https://classicalprep.org/event/spirit-shirt-day-31/
CATEGORIES:Logic School
END:VEVENT
BEGIN:VEVENT
DTSTART;VALUE=DATE:20250117
DTEND;VALUE=DATE:20250118
DTSTAMP:20260423T035024
CREATED:20240718T215518Z
LAST-MODIFIED:20250117T223831Z
UID:10000440-1737072000-1737158399@classicalprep.org
SUMMARY:Spirit Shirt Day
DESCRIPTION:
URL:https://classicalprep.org/event/spirit-shirt-day-35/
CATEGORIES:Rhetoric School
END:VEVENT
BEGIN:VEVENT
DTSTART;VALUE=DATE:20250117
DTEND;VALUE=DATE:20250118
DTSTAMP:20260423T035024
CREATED:20241001T124244Z
LAST-MODIFIED:20250117T223841Z
UID:10000784-1737072000-1737158399@classicalprep.org
SUMMARY:Movie Night
DESCRIPTION:
URL:https://classicalprep.org/event/movie-night-5/
CATEGORIES:Logic School
END:VEVENT
BEGIN:VEVENT
DTSTART;VALUE=DATE:20250117
DTEND;VALUE=DATE:20250118
DTSTAMP:20260423T035024
CREATED:20241001T130935Z
LAST-MODIFIED:20250117T223831Z
UID:10000788-1737072000-1737158399@classicalprep.org
SUMMARY:Movie Night
DESCRIPTION:
URL:https://classicalprep.org/event/movie-night-7/
CATEGORIES:Rhetoric School
END:VEVENT
BEGIN:VEVENT
DTSTART;VALUE=DATE:20250117
DTEND;VALUE=DATE:20250118
DTSTAMP:20260423T035024
CREATED:20241001T144211Z
LAST-MODIFIED:20250117T233909Z
UID:10000792-1737072000-1737158399@classicalprep.org
SUMMARY:Movie Night
DESCRIPTION:
URL:https://classicalprep.org/event/movie-night-9/
CATEGORIES:Grammar School
END:VEVENT
BEGIN:VEVENT
DTSTART;TZID=America/New_York:20250117T120000
DTEND;TZID=America/New_York:20250118T133000
DTSTAMP:20260423T035024
CREATED:20240909T164214Z
LAST-MODIFIED:20250118T182702Z
UID:10000701-1737115200-1737207000@classicalprep.org
SUMMARY:SSAA Girls Basketball Championship vs. Riverside Christian
DESCRIPTION:
URL:https://classicalprep.org/event/ssaa-girls-basketball-championship/
LOCATION:AdventHealth Winter Park\, 200 N Lakemont Ave\, Winter Park\, FL\, United States
CATEGORIES:Athletics
GEO:28.596195;-81.327886
X-APPLE-STRUCTURED-LOCATION;VALUE=URI;X-ADDRESS=AdventHealth Winter Park 200 N Lakemont Ave Winter Park FL United States;X-APPLE-RADIUS=500;X-TITLE=200 N Lakemont Ave:geo:-81.327886,28.596195
END:VEVENT
BEGIN:VEVENT
DTSTART;TZID=America/New_York:20250117T133000
DTEND;TZID=America/New_York:20250117T190000
DTSTAMP:20260423T035024
CREATED:20241001T141038Z
LAST-MODIFIED:20241212T124115Z
UID:10000790-1737120600-1737140400@classicalprep.org
SUMMARY:Gym Unavailable - Movie Night
DESCRIPTION:Join with Google Meet: https://meet.google.com/cee-spvj-opw\nOr dial: (US) +1 440-561-6498 PIN: 745346697#\nLearn more about Meet at: https://support.google.com/a/users/answer/9282720
URL:https://classicalprep.org/event/gym-unavailable-movie-night/
CATEGORIES:Athletics
ORGANIZER;CN="classicalprep.org_5viqc689g7n49k5r4obi20libk@group.calendar.google.com":MAILTO:classicalprep.org_5viqc689g7n49k5r4obi20libk@group.calendar.google.com
END:VEVENT
BEGIN:VEVENT
DTSTART;TZID=America/New_York:20250117T163000
DTEND;TZID=America/New_York:20250117T173000
DTSTAMP:20260423T035024
CREATED:20241110T191309Z
LAST-MODIFIED:20250106T163835Z
UID:10000921-1737131400-1737135000@classicalprep.org
SUMMARY:Logic Varsity Boys Game vs. SAMS
DESCRIPTION:
URL:https://classicalprep.org/event/logic-varsity-boys-game-vs-sams/
LOCATION:CPS
CATEGORIES:Athletics
END:VEVENT
BEGIN:VEVENT
DTSTART;TZID=America/New_York:20250117T190000
DTEND;TZID=America/New_York:20250117T203000
DTSTAMP:20260423T035024
CREATED:20240829T184320Z
LAST-MODIFIED:20250118T004024Z
UID:10000643-1737140400-1737145800@classicalprep.org
SUMMARY:Varsity Boys Soccer Game @ AATL
DESCRIPTION:
URL:https://classicalprep.org/event/varsity-girls-basketball-game-aatl/
LOCATION:Academy at the Lakes\, 2331 Collier Pkwy\, Land O' Lakes\, FL\, United States
CATEGORIES:Athletics
GEO:28.192829;-82.435538
X-APPLE-STRUCTURED-LOCATION;VALUE=URI;X-ADDRESS=Academy at the Lakes 2331 Collier Pkwy Land O' Lakes FL United States;X-APPLE-RADIUS=500;X-TITLE=2331 Collier Pkwy:geo:-82.435538,28.192829
END:VEVENT
BEGIN:VEVENT
DTSTART;VALUE=DATE:20250118
DTEND;VALUE=DATE:20250119
DTSTAMP:20260423T035024
CREATED:20240829T184320Z
LAST-MODIFIED:20250118T215618Z
UID:10000644-1737158400-1737244799@classicalprep.org
SUMMARY:Last Regular Season Playing Date Soccer
DESCRIPTION:
URL:https://classicalprep.org/event/last-regular-season-playing-date-soccer/
CATEGORIES:Athletics
END:VEVENT
BEGIN:VEVENT
DTSTART;TZID=America/New_York:20250119T173000
DTEND;TZID=America/New_York:20250119T200000
DTSTAMP:20260423T035024
CREATED:20241205T155458Z
LAST-MODIFIED:20250120T002453Z
UID:10000946-1737307800-1737316800@classicalprep.org
SUMMARY:Canceled: Mother & Son Event @ Locomo
DESCRIPTION:
URL:https://classicalprep.org/event/mother-son-event-locomo/
CATEGORIES:Grammar School
END:VEVENT
BEGIN:VEVENT
DTSTART;VALUE=DATE:20250120
DTEND;VALUE=DATE:20250121
DTSTAMP:20260423T035024
CREATED:20240718T194353Z
LAST-MODIFIED:20250120T212413Z
UID:10000399-1737331200-1737417599@classicalprep.org
SUMMARY:No School - MLK Day
DESCRIPTION:
URL:https://classicalprep.org/event/no-school-mlk-day/
CATEGORIES:Grammar School
END:VEVENT
BEGIN:VEVENT
DTSTART;VALUE=DATE:20250120
DTEND;VALUE=DATE:20250121
DTSTAMP:20260423T035024
CREATED:20240718T201046Z
LAST-MODIFIED:20250120T212427Z
UID:10000419-1737331200-1737417599@classicalprep.org
SUMMARY:No School - MLK Day
DESCRIPTION:
URL:https://classicalprep.org/event/no-school-mlk-day-2/
CATEGORIES:Logic School
END:VEVENT
BEGIN:VEVENT
DTSTART;VALUE=DATE:20250120
DTEND;VALUE=DATE:20250121
DTSTAMP:20260423T035024
CREATED:20240718T215518Z
LAST-MODIFIED:20250120T213928Z
UID:10000441-1737331200-1737417599@classicalprep.org
SUMMARY:No School - MLK Day
DESCRIPTION:
URL:https://classicalprep.org/event/no-school-mlk-day-3/
CATEGORIES:Rhetoric School
END:VEVENT
BEGIN:VEVENT
DTSTART;VALUE=DATE:20250120
DTEND;VALUE=DATE:20250121
DTSTAMP:20260423T035024
CREATED:20240829T184321Z
LAST-MODIFIED:20250120T221055Z
UID:10000645-1737331200-1737417599@classicalprep.org
SUMMARY:No School
DESCRIPTION:
URL:https://classicalprep.org/event/no-school-27/
CATEGORIES:Athletics
END:VEVENT
BEGIN:VEVENT
DTSTART;TZID=America/New_York:20250121T163000
DTEND;TZID=America/New_York:20250121T180000
DTSTAMP:20260423T035024
CREATED:20241202T165707Z
LAST-MODIFIED:20250121T212628Z
UID:10000937-1737477000-1737482400@classicalprep.org
SUMMARY:JV Boys Basketball Game @ West Hernando Christian
DESCRIPTION:
URL:https://classicalprep.org/event/jv-boys-basketball-game-west-hernando-christian/
LOCATION:West Hernando Christian School\, 2250 Osowaw Blvd\, Spring Hill\, FL\, United States
CATEGORIES:Athletics
GEO:28.46176;-82.634502
X-APPLE-STRUCTURED-LOCATION;VALUE=URI;X-ADDRESS=West Hernando Christian School 2250 Osowaw Blvd Spring Hill FL United States;X-APPLE-RADIUS=500;X-TITLE=2250 Osowaw Blvd:geo:-82.634502,28.46176
END:VEVENT
BEGIN:VEVENT
DTSTART;TZID=America/New_York:20250121T180000
DTEND;TZID=America/New_York:20250121T200000
DTSTAMP:20260423T035024
CREATED:20241107T114338Z
LAST-MODIFIED:20250122T002725Z
UID:10000892-1737482400-1737489600@classicalprep.org
SUMMARY:Rhetoric Girls Basketball Game @ West Hernando Christian
DESCRIPTION:
URL:https://classicalprep.org/event/rhetoric-basketball-game-west-hernando-christian/
LOCATION:West Hernando Christian
CATEGORIES:Athletics
END:VEVENT
BEGIN:VEVENT
DTSTART;VALUE=DATE:20250122
DTEND;VALUE=DATE:20250123
DTSTAMP:20260423T035024
CREATED:20250121T175501Z
LAST-MODIFIED:20250122T212602Z
UID:10000994-1737504000-1737590399@classicalprep.org
SUMMARY:9th Grade Field Trip
DESCRIPTION:
URL:https://classicalprep.org/event/9th-grade-field-trip/
CATEGORIES:Rhetoric School
END:VEVENT
BEGIN:VEVENT
DTSTART;TZID=America/New_York:20250122T170000
DTEND;TZID=America/New_York:20250122T183000
DTSTAMP:20260423T035024
CREATED:20241202T214046Z
LAST-MODIFIED:20250122T214113Z
UID:10000938-1737565200-1737570600@classicalprep.org
SUMMARY:JV Boys Basketball Game @ Pinecrest
DESCRIPTION:
URL:https://classicalprep.org/event/jv-boys-basketball-game-pinecrest-2/
LOCATION:Wiregrass Ranch Sports Campus\, 11501 Sportsman Ct\, Dade City\, FL\, United States
CATEGORIES:Athletics
GEO:28.325458;-82.218164
X-APPLE-STRUCTURED-LOCATION;VALUE=URI;X-ADDRESS=Wiregrass Ranch Sports Campus 11501 Sportsman Ct Dade City FL United States;X-APPLE-RADIUS=500;X-TITLE=11501 Sportsman Ct:geo:-82.218164,28.325458
END:VEVENT
BEGIN:VEVENT
DTSTART;TZID=America/New_York:20250123T170000
DTEND;TZID=America/New_York:20250123T180000
DTSTAMP:20260423T035024
CREATED:20240829T184321Z
LAST-MODIFIED:20250123T221147Z
UID:10000646-1737651600-1737655200@classicalprep.org
SUMMARY:Girls Varsity Basketball Game @ HCA
DESCRIPTION:
URL:https://classicalprep.org/event/girls-varsity-basketball-game-hca/
LOCATION:Hernando Christian Academy\, 7201 Emerson Rd\, Brooksville\, FL\, United States
CATEGORIES:Athletics
GEO:28.545216;-82.375306
X-APPLE-STRUCTURED-LOCATION;VALUE=URI;X-ADDRESS=Hernando Christian Academy 7201 Emerson Rd Brooksville FL United States;X-APPLE-RADIUS=500;X-TITLE=7201 Emerson Rd:geo:-82.375306,28.545216
END:VEVENT
END:VCALENDAR