BEGIN:VCALENDAR
VERSION:2.0
PRODID:-//Classical Preparatory School - ECPv6.15.15//NONSGML v1.0//EN
CALSCALE:GREGORIAN
METHOD:PUBLISH
X-WR-CALNAME:Classical Preparatory School
X-ORIGINAL-URL:https://classicalprep.org
X-WR-CALDESC:Events for Classical Preparatory School
REFRESH-INTERVAL;VALUE=DURATION:PT1H
X-Robots-Tag:noindex
X-PUBLISHED-TTL:PT1H
BEGIN:VTIMEZONE
TZID:America/New_York
BEGIN:DAYLIGHT
TZOFFSETFROM:-0500
TZOFFSETTO:-0400
TZNAME:EDT
DTSTART:20240310T070000
END:DAYLIGHT
BEGIN:STANDARD
TZOFFSETFROM:-0400
TZOFFSETTO:-0500
TZNAME:EST
DTSTART:20241103T060000
END:STANDARD
BEGIN:DAYLIGHT
TZOFFSETFROM:-0500
TZOFFSETTO:-0400
TZNAME:EDT
DTSTART:20250309T070000
END:DAYLIGHT
BEGIN:STANDARD
TZOFFSETFROM:-0400
TZOFFSETTO:-0500
TZNAME:EST
DTSTART:20251102T060000
END:STANDARD
BEGIN:DAYLIGHT
TZOFFSETFROM:-0500
TZOFFSETTO:-0400
TZNAME:EDT
DTSTART:20260308T070000
END:DAYLIGHT
BEGIN:STANDARD
TZOFFSETFROM:-0400
TZOFFSETTO:-0500
TZNAME:EST
DTSTART:20261101T060000
END:STANDARD
END:VTIMEZONE
BEGIN:VEVENT
DTSTART;VALUE=DATE:20250429
DTEND;VALUE=DATE:20250430
DTSTAMP:20260421T113836
CREATED:20250327T175349Z
LAST-MODIFIED:20250429T212451Z
UID:10001091-1745884800-1745971199@classicalprep.org
SUMMARY:KG Early Literacy Testing
DESCRIPTION:
URL:https://classicalprep.org/event/kg-early-literacy-testing/
CATEGORIES:Grammar School
END:VEVENT
BEGIN:VEVENT
DTSTART;VALUE=DATE:20250428
DTEND;VALUE=DATE:20250429
DTSTAMP:20260421T113836
CREATED:20250327T175348Z
LAST-MODIFIED:20250428T211229Z
UID:10001088-1745798400-1745884799@classicalprep.org
SUMMARY:1st Grade Math Testing
DESCRIPTION:
URL:https://classicalprep.org/event/1st-grade-math-testing/
CATEGORIES:Grammar School
END:VEVENT
BEGIN:VEVENT
DTSTART;VALUE=DATE:20250426
DTEND;VALUE=DATE:20250427
DTSTAMP:20260421T113836
CREATED:20241001T124250Z
LAST-MODIFIED:20250426T221214Z
UID:10000786-1745625600-1745711999@classicalprep.org
SUMMARY:6th - 8th: Logic Dance
DESCRIPTION:
URL:https://classicalprep.org/event/6-8-logic-dance-3/
CATEGORIES:Logic School
END:VEVENT
BEGIN:VEVENT
DTSTART;VALUE=DATE:20250425
DTEND;VALUE=DATE:20250426
DTSTAMP:20260421T113836
CREATED:20250327T152336Z
LAST-MODIFIED:20250425T211216Z
UID:10001080-1745539200-1745625599@classicalprep.org
SUMMARY:2nd Grade Medieval Fair Day
DESCRIPTION:
URL:https://classicalprep.org/event/2nd-grade-medieval-fair-day/
CATEGORIES:Grammar School
END:VEVENT
BEGIN:VEVENT
DTSTART;VALUE=DATE:20250425
DTEND;VALUE=DATE:20250426
DTSTAMP:20260421T113836
CREATED:20240725T154030Z
LAST-MODIFIED:20250425T211215Z
UID:10000547-1745539200-1745625599@classicalprep.org
SUMMARY:Spirit Shirt Day & Favorite Shoes Day $3
DESCRIPTION:
URL:https://classicalprep.org/event/spirit-shirt-day-53/
CATEGORIES:Grammar School
END:VEVENT
BEGIN:VEVENT
DTSTART;VALUE=DATE:20250425
DTEND;VALUE=DATE:20250426
DTSTAMP:20260421T113836
CREATED:20240725T154030Z
LAST-MODIFIED:20250325T115351Z
UID:10000548-1745539200-1745625599@classicalprep.org
SUMMARY:5th Grade: Science Bowl
DESCRIPTION:
URL:https://classicalprep.org/event/5th-grade-science-bowl/
CATEGORIES:Grammar School
END:VEVENT
BEGIN:VEVENT
DTSTART;VALUE=DATE:20250425
DTEND;VALUE=DATE:20250426
DTSTAMP:20260421T113836
CREATED:20240725T152453Z
LAST-MODIFIED:20250425T203937Z
UID:10000523-1745539200-1745625599@classicalprep.org
SUMMARY:Spirit Shirt Day & Favorite Shoes Day $3
DESCRIPTION:
URL:https://classicalprep.org/event/spirit-shirt-day-49/
CATEGORIES:Rhetoric School
END:VEVENT
BEGIN:VEVENT
DTSTART;VALUE=DATE:20250425
DTEND;VALUE=DATE:20250426
DTSTAMP:20260421T113836
CREATED:20240725T145913Z
LAST-MODIFIED:20250425T222512Z
UID:10000493-1745539200-1745625599@classicalprep.org
SUMMARY:Spirit Shirt Day & Favorite Shoes Day $3
DESCRIPTION:
URL:https://classicalprep.org/event/spirit-shirt-day-44/
CATEGORIES:Logic School
END:VEVENT
BEGIN:VEVENT
DTSTART;TZID=America/New_York:20250424T173000
DTEND;TZID=America/New_York:20250424T183000
DTSTAMP:20260421T113836
CREATED:20250303T194150Z
LAST-MODIFIED:20250424T103946Z
UID:10001056-1745515800-1745519400@classicalprep.org
SUMMARY:Upper School Academic Awards
DESCRIPTION:
URL:https://classicalprep.org/event/upper-school-academic-awards-2/
CATEGORIES:Logic School
END:VEVENT
BEGIN:VEVENT
DTSTART;TZID=America/New_York:20250424T173000
DTEND;TZID=America/New_York:20250424T183000
DTSTAMP:20260421T113836
CREATED:20250303T191053Z
LAST-MODIFIED:20250424T110812Z
UID:10001050-1745515800-1745519400@classicalprep.org
SUMMARY:Upper School Academic Awards
DESCRIPTION:
URL:https://classicalprep.org/event/upper-school-academic-awards/
CATEGORIES:Rhetoric School
END:VEVENT
BEGIN:VEVENT
DTSTART;VALUE=DATE:20250424
DTEND;VALUE=DATE:20250425
DTSTAMP:20260421T113836
CREATED:20250327T175347Z
LAST-MODIFIED:20250424T102305Z
UID:10001086-1745452800-1745539199@classicalprep.org
SUMMARY:2nd Grade Math Testing
DESCRIPTION:
URL:https://classicalprep.org/event/2nd-grade-math-testing/
CATEGORIES:Grammar School
END:VEVENT
BEGIN:VEVENT
DTSTART;TZID=America/New_York:20250423T081500
DTEND;TZID=America/New_York:20250423T091500
DTSTAMP:20260421T113836
CREATED:20240712T181004Z
LAST-MODIFIED:20250423T113844Z
UID:10000373-1745396100-1745399700@classicalprep.org
SUMMARY:K-5: Student of Month
DESCRIPTION:
URL:https://classicalprep.org/event/k-5-student-of-month-8/
CATEGORIES:Grammar School
END:VEVENT
BEGIN:VEVENT
DTSTART;VALUE=DATE:20250423
DTEND;VALUE=DATE:20250424
DTSTAMP:20260421T113836
CREATED:20250327T175348Z
LAST-MODIFIED:20250423T113844Z
UID:10001087-1745366400-1745452799@classicalprep.org
SUMMARY:KG Math Testing
DESCRIPTION:
URL:https://classicalprep.org/event/kg-math-testing/
CATEGORIES:Grammar School
END:VEVENT
BEGIN:VEVENT
DTSTART;VALUE=DATE:20250423
DTEND;VALUE=DATE:20250424
DTSTAMP:20260421T113836
CREATED:20240725T152453Z
LAST-MODIFIED:20250423T120903Z
UID:10000522-1745366400-1745452799@classicalprep.org
SUMMARY:6-12: Student of the Month & Honor Roll Announcement
DESCRIPTION:
URL:https://classicalprep.org/event/6-12-student-of-the-month-honor-roll-announcement-4/
CATEGORIES:Rhetoric School
END:VEVENT
BEGIN:VEVENT
DTSTART;VALUE=DATE:20250423
DTEND;VALUE=DATE:20250424
DTSTAMP:20260421T113836
CREATED:20240725T145913Z
LAST-MODIFIED:20250423T110829Z
UID:10000492-1745366400-1745452799@classicalprep.org
SUMMARY:6-12: Student of the Month & Honor Roll Announcement
DESCRIPTION:
URL:https://classicalprep.org/event/6-12-student-of-the-month-honor-roll-announcement-3/
CATEGORIES:Logic School
END:VEVENT
BEGIN:VEVENT
DTSTART;VALUE=DATE:20250421
DTEND;VALUE=DATE:20250422
DTSTAMP:20260421T113836
CREATED:20240725T154030Z
LAST-MODIFIED:20250421T092302Z
UID:10000546-1745193600-1745279999@classicalprep.org
SUMMARY:No School
DESCRIPTION:
URL:https://classicalprep.org/event/no-school-23/
CATEGORIES:Grammar School
END:VEVENT
BEGIN:VEVENT
DTSTART;VALUE=DATE:20250421
DTEND;VALUE=DATE:20250422
DTSTAMP:20260421T113836
CREATED:20240725T152453Z
LAST-MODIFIED:20250421T112303Z
UID:10000521-1745193600-1745279999@classicalprep.org
SUMMARY:No School
DESCRIPTION:
URL:https://classicalprep.org/event/no-school-20/
CATEGORIES:Rhetoric School
END:VEVENT
BEGIN:VEVENT
DTSTART;VALUE=DATE:20250421
DTEND;VALUE=DATE:20250422
DTSTAMP:20260421T113836
CREATED:20240725T145913Z
LAST-MODIFIED:20250421T105315Z
UID:10000491-1745193600-1745279999@classicalprep.org
SUMMARY:No School
DESCRIPTION:
URL:https://classicalprep.org/event/no-school-16/
CATEGORIES:Logic School
END:VEVENT
BEGIN:VEVENT
DTSTART;VALUE=DATE:20250419
DTEND;VALUE=DATE:20250420
DTSTAMP:20260421T113836
CREATED:20240725T152452Z
LAST-MODIFIED:20250419T112323Z
UID:10000519-1745020800-1745107199@classicalprep.org
SUMMARY:Prom (9th-12th Grade)
DESCRIPTION:
URL:https://classicalprep.org/event/prom-10-12th-grade/
CATEGORIES:Rhetoric School
END:VEVENT
BEGIN:VEVENT
DTSTART;VALUE=DATE:20250418
DTEND;VALUE=DATE:20250419
DTSTAMP:20260421T113836
CREATED:20240725T154029Z
LAST-MODIFIED:20250418T090810Z
UID:10000544-1744934400-1745020799@classicalprep.org
SUMMARY:No School
DESCRIPTION:
URL:https://classicalprep.org/event/no-school-22/
CATEGORIES:Grammar School
END:VEVENT
BEGIN:VEVENT
DTSTART;VALUE=DATE:20250418
DTEND;VALUE=DATE:20250419
DTSTAMP:20260421T113836
CREATED:20240725T152452Z
LAST-MODIFIED:20250418T100815Z
UID:10000518-1744934400-1745020799@classicalprep.org
SUMMARY:No School
DESCRIPTION:
URL:https://classicalprep.org/event/no-school-19/
CATEGORIES:Rhetoric School
END:VEVENT
BEGIN:VEVENT
DTSTART;VALUE=DATE:20250418
DTEND;VALUE=DATE:20250419
DTSTAMP:20260421T113836
CREATED:20240725T145912Z
LAST-MODIFIED:20250418T092345Z
UID:10000489-1744934400-1745020799@classicalprep.org
SUMMARY:No School
DESCRIPTION:
URL:https://classicalprep.org/event/no-school-15/
CATEGORIES:Logic School
END:VEVENT
BEGIN:VEVENT
DTSTART;TZID=America/New_York:20250417T120000
DTEND;TZID=America/New_York:20250417T143000
DTSTAMP:20260421T113836
CREATED:20240918T172645Z
LAST-MODIFIED:20250416T171239Z
UID:10000747-1744891200-1744900200@classicalprep.org
SUMMARY:Gym Unavailable - Pep Rally
DESCRIPTION:Join with Google Meet: https://meet.google.com/xvw-fjfr-jfm\nOr dial: (US) +1 904-300-0395 PIN: 911516433#\nLearn more about Meet at: https://support.google.com/a/users/answer/9282720
URL:https://classicalprep.org/event/gym-unavailable-pep-rally-2/
CATEGORIES:Athletics
ORGANIZER;CN="classicalprep.org_5viqc689g7n49k5r4obi20libk@group.calendar.google.com":MAILTO:classicalprep.org_5viqc689g7n49k5r4obi20libk@group.calendar.google.com
END:VEVENT
BEGIN:VEVENT
DTSTART;VALUE=DATE:20250417
DTEND;VALUE=DATE:20250418
DTSTAMP:20260421T113836
CREATED:20240725T154030Z
LAST-MODIFIED:20250417T223806Z
UID:10000545-1744848000-1744934399@classicalprep.org
SUMMARY:5th Grade: Pep Rally
DESCRIPTION:
URL:https://classicalprep.org/event/5th-grade-pep-rally-2/
CATEGORIES:Grammar School
END:VEVENT
BEGIN:VEVENT
DTSTART;VALUE=DATE:20250417
DTEND;VALUE=DATE:20250418
DTSTAMP:20260421T113836
CREATED:20240725T152453Z
LAST-MODIFIED:20250417T230932Z
UID:10000520-1744848000-1744934399@classicalprep.org
SUMMARY:Pep Rally
DESCRIPTION:
URL:https://classicalprep.org/event/pep-rally-2/
CATEGORIES:Rhetoric School
END:VEVENT
BEGIN:VEVENT
DTSTART;VALUE=DATE:20250417
DTEND;VALUE=DATE:20250418
DTSTAMP:20260421T113836
CREATED:20240725T145913Z
LAST-MODIFIED:20250417T223815Z
UID:10000490-1744848000-1744934399@classicalprep.org
SUMMARY:Pep Rally
DESCRIPTION:
URL:https://classicalprep.org/event/pep-rally/
CATEGORIES:Logic School
END:VEVENT
BEGIN:VEVENT
DTSTART;TZID=America/New_York:20250415T190000
DTEND;TZID=America/New_York:20250415T200000
DTSTAMP:20260421T113836
CREATED:20250415T022625Z
LAST-MODIFIED:20250415T205557Z
UID:10001112-1744743600-1744747200@classicalprep.org
SUMMARY:Flag Football District Game @ Tarpon Springs
DESCRIPTION:
URL:https://classicalprep.org/event/flag-football-district-game-tarpon-springs/
LOCATION:Tarpon Springs High School\, 1411 Gulf Rd\, Tarpon Springs\, FL\, United States
CATEGORIES:Athletics
GEO:28.144874;-82.777498
X-APPLE-STRUCTURED-LOCATION;VALUE=URI;X-ADDRESS=Tarpon Springs High School 1411 Gulf Rd Tarpon Springs FL United States;X-APPLE-RADIUS=500;X-TITLE=1411 Gulf Rd:geo:-82.777498,28.144874
END:VEVENT
BEGIN:VEVENT
DTSTART;VALUE=DATE:20250414
DTEND;VALUE=DATE:20250419
DTSTAMP:20260421T113836
CREATED:20250314T001033Z
LAST-MODIFIED:20250418T095310Z
UID:10001064-1744588800-1745020799@classicalprep.org
SUMMARY:Flag Football Districts
DESCRIPTION:
URL:https://classicalprep.org/event/flag-football-districts/
CATEGORIES:Athletics
END:VEVENT
BEGIN:VEVENT
DTSTART;VALUE=DATE:20250414
DTEND;VALUE=DATE:20250418
DTSTAMP:20260421T113836
CREATED:20240725T154029Z
LAST-MODIFIED:20250417T223806Z
UID:10000543-1744588800-1744934399@classicalprep.org
SUMMARY:Spring Spirit Week
DESCRIPTION:
URL:https://classicalprep.org/event/spring-spirit-week-3/
CATEGORIES:Grammar School
END:VEVENT
BEGIN:VEVENT
DTSTART;VALUE=DATE:20250414
DTEND;VALUE=DATE:20250418
DTSTAMP:20260421T113836
CREATED:20240725T152452Z
LAST-MODIFIED:20250417T230931Z
UID:10000517-1744588800-1744934399@classicalprep.org
SUMMARY:Spring Spirit Week
DESCRIPTION:
URL:https://classicalprep.org/event/spring-spirit-week-2/
CATEGORIES:Rhetoric School
END:VEVENT
END:VCALENDAR