BEGIN:VCALENDAR
VERSION:2.0
PRODID:-//Classical Preparatory School - ECPv6.15.15//NONSGML v1.0//EN
CALSCALE:GREGORIAN
METHOD:PUBLISH
X-WR-CALNAME:Classical Preparatory School
X-ORIGINAL-URL:https://classicalprep.org
X-WR-CALDESC:Events for Classical Preparatory School
REFRESH-INTERVAL;VALUE=DURATION:PT1H
X-Robots-Tag:noindex
X-PUBLISHED-TTL:PT1H
BEGIN:VTIMEZONE
TZID:America/New_York
BEGIN:DAYLIGHT
TZOFFSETFROM:-0500
TZOFFSETTO:-0400
TZNAME:EDT
DTSTART:20240310T070000
END:DAYLIGHT
BEGIN:STANDARD
TZOFFSETFROM:-0400
TZOFFSETTO:-0500
TZNAME:EST
DTSTART:20241103T060000
END:STANDARD
BEGIN:DAYLIGHT
TZOFFSETFROM:-0500
TZOFFSETTO:-0400
TZNAME:EDT
DTSTART:20250309T070000
END:DAYLIGHT
BEGIN:STANDARD
TZOFFSETFROM:-0400
TZOFFSETTO:-0500
TZNAME:EST
DTSTART:20251102T060000
END:STANDARD
BEGIN:DAYLIGHT
TZOFFSETFROM:-0500
TZOFFSETTO:-0400
TZNAME:EDT
DTSTART:20260308T070000
END:DAYLIGHT
BEGIN:STANDARD
TZOFFSETFROM:-0400
TZOFFSETTO:-0500
TZNAME:EST
DTSTART:20261101T060000
END:STANDARD
END:VTIMEZONE
BEGIN:VEVENT
DTSTART;TZID=America/New_York:20250222T090000
DTEND;TZID=America/New_York:20250222T160000
DTSTAMP:20260425T082038
CREATED:20250221T001234Z
LAST-MODIFIED:20250222T185401Z
UID:10001045-1740214800-1740240000@classicalprep.org
SUMMARY:AAU Basketball Tryouts
DESCRIPTION:
URL:https://classicalprep.org/event/aau-basketball-tryouts/
LOCATION:Classical Preparatory School\, 18000 Spring Prairie Ln\, Brooksville\, FL\, United States
CATEGORIES:Athletics
GEO:28.419249;-82.446587
X-APPLE-STRUCTURED-LOCATION;VALUE=URI;X-ADDRESS=Classical Preparatory School 18000 Spring Prairie Ln Brooksville FL United States;X-APPLE-RADIUS=500;X-TITLE=18000 Spring Prairie Ln:geo:-82.446587,28.419249
END:VEVENT
BEGIN:VEVENT
DTSTART;TZID=America/New_York:20250221T133000
DTEND;TZID=America/New_York:20250221T200000
DTSTAMP:20260425T082038
CREATED:20250131T151325Z
LAST-MODIFIED:20250222T002741Z
UID:10000999-1740144600-1740168000@classicalprep.org
SUMMARY:Gym Unavailable: Movie Night
DESCRIPTION:Join with Google Meet: https://meet.google.com/bdr-hyvm-zht\nOr dial: (US) +1 224-650-6551 PIN: 172563204#\nLearn more about Meet at: https://support.google.com/a/users/answer/9282720
URL:https://classicalprep.org/event/gym-unavailable-movie-night-2/
CATEGORIES:Athletics
ORGANIZER;CN="classicalprep.org_5viqc689g7n49k5r4obi20libk@group.calendar.google.com":MAILTO:classicalprep.org_5viqc689g7n49k5r4obi20libk@group.calendar.google.com
END:VEVENT
BEGIN:VEVENT
DTSTART;VALUE=DATE:20250221
DTEND;VALUE=DATE:20250222
DTSTAMP:20260425T082038
CREATED:20250131T172819Z
LAST-MODIFIED:20250221T213937Z
UID:10001002-1740096000-1740182399@classicalprep.org
SUMMARY:Movie Night
DESCRIPTION:
URL:https://classicalprep.org/event/movie-night-12/
CATEGORIES:Grammar School
END:VEVENT
BEGIN:VEVENT
DTSTART;VALUE=DATE:20250221
DTEND;VALUE=DATE:20250222
DTSTAMP:20260425T082038
CREATED:20250131T162505Z
LAST-MODIFIED:20250221T213929Z
UID:10001001-1740096000-1740182399@classicalprep.org
SUMMARY:Movie Night
DESCRIPTION:
URL:https://classicalprep.org/event/movie-night-11/
CATEGORIES:Logic School
END:VEVENT
BEGIN:VEVENT
DTSTART;VALUE=DATE:20250221
DTEND;VALUE=DATE:20250222
DTSTAMP:20260425T082038
CREATED:20250131T155742Z
LAST-MODIFIED:20250221T204005Z
UID:10001000-1740096000-1740182399@classicalprep.org
SUMMARY:Movie Night
DESCRIPTION:
URL:https://classicalprep.org/event/movie-night-10/
CATEGORIES:Rhetoric School
END:VEVENT
BEGIN:VEVENT
DTSTART;TZID=America/New_York:20250220T163000
DTEND;TZID=America/New_York:20250220T200000
DTSTAMP:20260425T082038
CREATED:20240718T215519Z
LAST-MODIFIED:20250221T002728Z
UID:10000445-1740069000-1740081600@classicalprep.org
SUMMARY:6th-11th Grade: Mandatory Parent Night
DESCRIPTION:
URL:https://classicalprep.org/event/5th-11th-grade-mandatory-parent-night-5/
CATEGORIES:Rhetoric School
END:VEVENT
BEGIN:VEVENT
DTSTART;TZID=America/New_York:20250220T163000
DTEND;TZID=America/New_York:20250220T200000
DTSTAMP:20260425T082038
CREATED:20240718T205435Z
LAST-MODIFIED:20250221T002737Z
UID:10000428-1740069000-1740081600@classicalprep.org
SUMMARY:6th-11th Grade: Mandatory Parent Night
DESCRIPTION:
URL:https://classicalprep.org/event/5th-11th-grade-mandatory-parent-night-3/
CATEGORIES:Grammar School
END:VEVENT
BEGIN:VEVENT
DTSTART;TZID=America/New_York:20250220T163000
DTEND;TZID=America/New_York:20250220T173000
DTSTAMP:20260425T082038
CREATED:20250205T213932Z
LAST-MODIFIED:20250220T212600Z
UID:10001017-1740069000-1740072600@classicalprep.org
SUMMARY:Logic Girls Soccer Game vs. Henderson
DESCRIPTION:
URL:https://classicalprep.org/event/logic-girls-soccer-game-vs-henderson/
LOCATION:Elsie Logan Memorial Park\, 15829 Shady Hills Rd\, Brooksville\, FL\, United States
CATEGORIES:Athletics
GEO:28.388541;-82.551139
X-APPLE-STRUCTURED-LOCATION;VALUE=URI;X-ADDRESS=Elsie Logan Memorial Park 15829 Shady Hills Rd Brooksville FL United States;X-APPLE-RADIUS=500;X-TITLE=15829 Shady Hills Rd:geo:-82.551139,28.388541
END:VEVENT
BEGIN:VEVENT
DTSTART;VALUE=DATE:20250219
DTEND;VALUE=DATE:20250221
DTSTAMP:20260425T082038
CREATED:20250127T180922Z
LAST-MODIFIED:20250220T212634Z
UID:10000996-1739923200-1740095999@classicalprep.org
SUMMARY:2nd & 3rd Grade Book Fair
DESCRIPTION:
URL:https://classicalprep.org/event/2nd-3rd-grade-book-fair/
CATEGORIES:Grammar School
END:VEVENT
BEGIN:VEVENT
DTSTART;VALUE=DATE:20250219
DTEND;VALUE=DATE:20250220
DTSTAMP:20260425T082038
CREATED:20250206T155619Z
LAST-MODIFIED:20250219T212649Z
UID:10001021-1739923200-1740009599@classicalprep.org
SUMMARY:6th Grade Field Trip
DESCRIPTION:
URL:https://classicalprep.org/event/6th-grade-field-trip/
CATEGORIES:Logic School
END:VEVENT
BEGIN:VEVENT
DTSTART;TZID=America/New_York:20250218T163000
DTEND;TZID=America/New_York:20250218T173000
DTSTAMP:20260425T082038
CREATED:20250205T213932Z
LAST-MODIFIED:20250218T212439Z
UID:10001016-1739896200-1739899800@classicalprep.org
SUMMARY:Logic Girls Soccer Game @ Learning Gate
DESCRIPTION:
URL:https://classicalprep.org/event/logic-girls-soccer-game-learning-gate/
LOCATION:Oscar Cooler Sports Complex Park\, 766 W Lutz Lake Fern Rd\, Lutz\, FL\, United States
CATEGORIES:Athletics
GEO:28.153869;-82.473521
X-APPLE-STRUCTURED-LOCATION;VALUE=URI;X-ADDRESS=Oscar Cooler Sports Complex Park 766 W Lutz Lake Fern Rd Lutz FL United States;X-APPLE-RADIUS=500;X-TITLE=766 W Lutz Lake Fern Rd:geo:-82.473521,28.153869
END:VEVENT
BEGIN:VEVENT
DTSTART;VALUE=DATE:20250217
DTEND;VALUE=DATE:20250218
DTSTAMP:20260425T082038
CREATED:20250114T184240Z
LAST-MODIFIED:20250217T205739Z
UID:10000968-1739750400-1739836799@classicalprep.org
SUMMARY:First Regular Season Playing Date for Flag
DESCRIPTION:
URL:https://classicalprep.org/event/first-regular-season-playing-date-for-flag/
CATEGORIES:Athletics
END:VEVENT
BEGIN:VEVENT
DTSTART;VALUE=DATE:20250217
DTEND;VALUE=DATE:20250218
DTSTAMP:20260425T082038
CREATED:20240725T152447Z
LAST-MODIFIED:20250217T214128Z
UID:10000497-1739750400-1739836799@classicalprep.org
SUMMARY:No School
DESCRIPTION:
URL:https://classicalprep.org/event/no-school-17/
CATEGORIES:Rhetoric School
END:VEVENT
BEGIN:VEVENT
DTSTART;VALUE=DATE:20250217
DTEND;VALUE=DATE:20250218
DTSTAMP:20260425T082038
CREATED:20240725T145907Z
LAST-MODIFIED:20250217T185549Z
UID:10000469-1739750400-1739836799@classicalprep.org
SUMMARY:No School
DESCRIPTION:
URL:https://classicalprep.org/event/no-school-13/
CATEGORIES:Logic School
END:VEVENT
BEGIN:VEVENT
DTSTART;VALUE=DATE:20250217
DTEND;VALUE=DATE:20250218
DTSTAMP:20260425T082038
CREATED:20240725T143838Z
LAST-MODIFIED:20250217T215759Z
UID:10000454-1739750400-1739836799@classicalprep.org
SUMMARY:No School
DESCRIPTION:
URL:https://classicalprep.org/event/no-school-12/
CATEGORIES:Grammar School
END:VEVENT
BEGIN:VEVENT
DTSTART;VALUE=DATE:20250214
DTEND;VALUE=DATE:20250215
DTSTAMP:20260425T082038
CREATED:20240725T152447Z
LAST-MODIFIED:20250214T205721Z
UID:10000496-1739491200-1739577599@classicalprep.org
SUMMARY:Makeup Day For 6-12 Scholars Only
DESCRIPTION:
URL:https://classicalprep.org/event/no-school-parent-teacher-conferences-6/
CATEGORIES:Rhetoric School
END:VEVENT
BEGIN:VEVENT
DTSTART;VALUE=DATE:20250214
DTEND;VALUE=DATE:20250215
DTSTAMP:20260425T082038
CREATED:20240725T145907Z
LAST-MODIFIED:20250214T215754Z
UID:10000468-1739491200-1739577599@classicalprep.org
SUMMARY:Makeup Day For 6-12 Scholars Only
DESCRIPTION:
URL:https://classicalprep.org/event/no-school-parent-teacher-conferences-5/
CATEGORIES:Logic School
END:VEVENT
BEGIN:VEVENT
DTSTART;VALUE=DATE:20250214
DTEND;VALUE=DATE:20250215
DTSTAMP:20260425T082038
CREATED:20240725T143838Z
LAST-MODIFIED:20250214T212926Z
UID:10000452-1739491200-1739577599@classicalprep.org
SUMMARY:No School - Parent Teacher Conferences
DESCRIPTION:
URL:https://classicalprep.org/event/no-school-parent-teacher-conferences-4/
CATEGORIES:Grammar School
END:VEVENT
BEGIN:VEVENT
DTSTART;VALUE=DATE:20250213
DTEND;VALUE=DATE:20250214
DTSTAMP:20260425T082038
CREATED:20240725T152447Z
LAST-MODIFIED:20250213T211123Z
UID:10000495-1739404800-1739491199@classicalprep.org
SUMMARY:Candy Grams Distributed
DESCRIPTION:
URL:https://classicalprep.org/event/candy-grams-distributed-3/
CATEGORIES:Rhetoric School
END:VEVENT
BEGIN:VEVENT
DTSTART;VALUE=DATE:20250213
DTEND;VALUE=DATE:20250214
DTSTAMP:20260425T082038
CREATED:20240725T145907Z
LAST-MODIFIED:20250213T222724Z
UID:10000467-1739404800-1739491199@classicalprep.org
SUMMARY:Candy Grams Distributed
DESCRIPTION:
URL:https://classicalprep.org/event/candy-grams-distributed-2/
CATEGORIES:Logic School
END:VEVENT
BEGIN:VEVENT
DTSTART;VALUE=DATE:20250213
DTEND;VALUE=DATE:20250214
DTSTAMP:20260425T082038
CREATED:20240725T143838Z
LAST-MODIFIED:20250213T204202Z
UID:10000453-1739404800-1739491199@classicalprep.org
SUMMARY:Candy Grams Distributed
DESCRIPTION:
URL:https://classicalprep.org/event/candy-grams-distributed/
CATEGORIES:Grammar School
END:VEVENT
BEGIN:VEVENT
DTSTART;TZID=America/New_York:20250211T163000
DTEND;TZID=America/New_York:20250211T173000
DTSTAMP:20260425T082038
CREATED:20250205T213931Z
LAST-MODIFIED:20250211T212719Z
UID:10001015-1739291400-1739295000@classicalprep.org
SUMMARY:Logic Girls Soccer Game @ Innovation Prep
DESCRIPTION:
URL:https://classicalprep.org/event/logic-girls-soccer-game-innovation-prep/
LOCATION:Wesley Chapel District Park\, 7727 Boyette Rd\, Zephyrhills\, FL\, United States
CATEGORIES:Athletics
GEO:28.271759;-82.32026
X-APPLE-STRUCTURED-LOCATION;VALUE=URI;X-ADDRESS=Wesley Chapel District Park 7727 Boyette Rd Zephyrhills FL United States;X-APPLE-RADIUS=500;X-TITLE=7727 Boyette Rd:geo:-82.32026,28.271759
END:VEVENT
BEGIN:VEVENT
DTSTART;TZID=America/New_York:20250211T163000
DTEND;TZID=America/New_York:20250211T173000
DTSTAMP:20260425T082038
CREATED:20240725T143838Z
LAST-MODIFIED:20250211T212707Z
UID:10000455-1739291400-1739295000@classicalprep.org
SUMMARY:Kindergarten Information Session
DESCRIPTION:
URL:https://classicalprep.org/event/kindergarten-information-session/
CATEGORIES:Grammar School
END:VEVENT
BEGIN:VEVENT
DTSTART;TZID=America/New_York:20250210T163000
DTEND;TZID=America/New_York:20250210T173000
DTSTAMP:20260425T082038
CREATED:20250203T193945Z
LAST-MODIFIED:20250210T215415Z
UID:10001009-1739205000-1739208600@classicalprep.org
SUMMARY:Logic Girls Soccer Game vs. HAMS
DESCRIPTION:
URL:https://classicalprep.org/event/logic-girls-soccer-game-vs-hams/
LOCATION:Elsie Logan Memorial Park\, 15829 Shady Hills Rd\, Brooksville\, FL\, United States
CATEGORIES:Athletics
GEO:28.388541;-82.551139
X-APPLE-STRUCTURED-LOCATION;VALUE=URI;X-ADDRESS=Elsie Logan Memorial Park 15829 Shady Hills Rd Brooksville FL United States;X-APPLE-RADIUS=500;X-TITLE=15829 Shady Hills Rd:geo:-82.551139,28.388541
END:VEVENT
BEGIN:VEVENT
DTSTART;TZID=America/New_York:20250210T063000
DTEND;TZID=America/New_York:20250210T150000
DTSTAMP:20260425T082038
CREATED:20240918T172644Z
LAST-MODIFIED:20250210T193955Z
UID:10000743-1739169000-1739199600@classicalprep.org
SUMMARY:Gym Unavailable - Spring Picture Day
DESCRIPTION:Join with Google Meet: https://meet.google.com/tpa-mfjq-ryo\nOr dial: (US) +1 920-368-3558 PIN: 599261758#\nLearn more about Meet at: https://support.google.com/a/users/answer/9282720
URL:https://classicalprep.org/event/gym-unavailable-spring-picture-day/
CATEGORIES:Athletics
ORGANIZER;CN="classicalprep.org_5viqc689g7n49k5r4obi20libk@group.calendar.google.com":MAILTO:classicalprep.org_5viqc689g7n49k5r4obi20libk@group.calendar.google.com
END:VEVENT
BEGIN:VEVENT
DTSTART;VALUE=DATE:20250210
DTEND;VALUE=DATE:20250211
DTSTAMP:20260425T082038
CREATED:20240725T152446Z
LAST-MODIFIED:20250210T212802Z
UID:10000494-1739145600-1739231999@classicalprep.org
SUMMARY:Spring Picture Day
DESCRIPTION:
URL:https://classicalprep.org/event/spring-picture-day-3/
CATEGORIES:Rhetoric School
END:VEVENT
BEGIN:VEVENT
DTSTART;VALUE=DATE:20250210
DTEND;VALUE=DATE:20250211
DTSTAMP:20260425T082038
CREATED:20240725T145907Z
LAST-MODIFIED:20250210T205747Z
UID:10000466-1739145600-1739231999@classicalprep.org
SUMMARY:Spring Picture Day
DESCRIPTION:
URL:https://classicalprep.org/event/spring-picture-day-2/
CATEGORIES:Logic School
END:VEVENT
BEGIN:VEVENT
DTSTART;VALUE=DATE:20250210
DTEND;VALUE=DATE:20250211
DTSTAMP:20260425T082038
CREATED:20240725T143837Z
LAST-MODIFIED:20250210T204239Z
UID:10000451-1739145600-1739231999@classicalprep.org
SUMMARY:Spring Picture Day
DESCRIPTION:
URL:https://classicalprep.org/event/spring-picture-day/
CATEGORIES:Grammar School
END:VEVENT
BEGIN:VEVENT
DTSTART;VALUE=DATE:20250209
DTEND;VALUE=DATE:20250210
DTSTAMP:20260425T082038
CREATED:20240718T215520Z
LAST-MODIFIED:20250209T205847Z
UID:10000449-1739059200-1739145599@classicalprep.org
SUMMARY:Candy Gram Sales End
DESCRIPTION:
URL:https://classicalprep.org/event/candy-gram-sales-end-3/
CATEGORIES:Rhetoric School
END:VEVENT
BEGIN:VEVENT
DTSTART;VALUE=DATE:20250209
DTEND;VALUE=DATE:20250210
DTSTAMP:20260425T082038
CREATED:20240718T205439Z
LAST-MODIFIED:20250209T205832Z
UID:10000433-1739059200-1739145599@classicalprep.org
SUMMARY:Candy Gram Sales End
DESCRIPTION:
URL:https://classicalprep.org/event/candy-gram-sales-end-2/
CATEGORIES:Grammar School
END:VEVENT
END:VCALENDAR