BEGIN:VCALENDAR
VERSION:2.0
PRODID:-//Classical Preparatory School - ECPv6.15.15//NONSGML v1.0//EN
CALSCALE:GREGORIAN
METHOD:PUBLISH
X-WR-CALNAME:Classical Preparatory School
X-ORIGINAL-URL:https://classicalprep.org
X-WR-CALDESC:Events for Classical Preparatory School
REFRESH-INTERVAL;VALUE=DURATION:PT1H
X-Robots-Tag:noindex
X-PUBLISHED-TTL:PT1H
BEGIN:VTIMEZONE
TZID:America/New_York
BEGIN:DAYLIGHT
TZOFFSETFROM:-0500
TZOFFSETTO:-0400
TZNAME:EDT
DTSTART:20230312T070000
END:DAYLIGHT
BEGIN:STANDARD
TZOFFSETFROM:-0400
TZOFFSETTO:-0500
TZNAME:EST
DTSTART:20231105T060000
END:STANDARD
BEGIN:DAYLIGHT
TZOFFSETFROM:-0500
TZOFFSETTO:-0400
TZNAME:EDT
DTSTART:20240310T070000
END:DAYLIGHT
BEGIN:STANDARD
TZOFFSETFROM:-0400
TZOFFSETTO:-0500
TZNAME:EST
DTSTART:20241103T060000
END:STANDARD
BEGIN:DAYLIGHT
TZOFFSETFROM:-0500
TZOFFSETTO:-0400
TZNAME:EDT
DTSTART:20250309T070000
END:DAYLIGHT
BEGIN:STANDARD
TZOFFSETFROM:-0400
TZOFFSETTO:-0500
TZNAME:EST
DTSTART:20251102T060000
END:STANDARD
BEGIN:DAYLIGHT
TZOFFSETFROM:-0500
TZOFFSETTO:-0400
TZNAME:EDT
DTSTART:20260308T070000
END:DAYLIGHT
BEGIN:STANDARD
TZOFFSETFROM:-0400
TZOFFSETTO:-0500
TZNAME:EST
DTSTART:20261101T060000
END:STANDARD
END:VTIMEZONE
BEGIN:VEVENT
DTSTART;TZID=America/New_York:20250103T193000
DTEND;TZID=America/New_York:20250103T210000
DTSTAMP:20260425T061810
CREATED:20241102T163943Z
LAST-MODIFIED:20250104T002632Z
UID:10000880-1735932600-1735938000@classicalprep.org
SUMMARY:Varsity Girls Basketball Game vs. FISH
DESCRIPTION:
URL:https://classicalprep.org/event/varsity-girls-basketball-game-vs-fish/
CATEGORIES:Athletics
END:VEVENT
BEGIN:VEVENT
DTSTART;TZID=America/New_York:20250103T170000
DTEND;TZID=America/New_York:20250103T183000
DTSTAMP:20260425T061810
CREATED:20241026T001240Z
LAST-MODIFIED:20250103T163807Z
UID:10000855-1735923600-1735929000@classicalprep.org
SUMMARY:JV Boys Basketball Game vs. FISH
DESCRIPTION:
URL:https://classicalprep.org/event/jv-boys-basketball-game-vs-fish/
CATEGORIES:Athletics
END:VEVENT
BEGIN:VEVENT
DTSTART;TZID=America/New_York:20241220T170000
DTEND;TZID=America/New_York:20241220T190000
DTSTAMP:20260425T061810
CREATED:20241023T005315Z
LAST-MODIFIED:20241220T225624Z
UID:10000843-1734714000-1734721200@classicalprep.org
SUMMARY:Varsity Boys Soccer Game vs. Seven Rivers
DESCRIPTION:
URL:https://classicalprep.org/event/varsity-soccer-game-vs-seven-rivers/
LOCATION:Anderson Snow Park\, 11100 Spring Hill Dr\, Brooksville\, FL\, United States
CATEGORIES:Athletics
GEO:28.461581;-82.540244
X-APPLE-STRUCTURED-LOCATION;VALUE=URI;X-ADDRESS=Anderson Snow Park 11100 Spring Hill Dr Brooksville FL United States;X-APPLE-RADIUS=500;X-TITLE=11100 Spring Hill Dr:geo:-82.540244,28.461581
END:VEVENT
BEGIN:VEVENT
DTSTART;VALUE=DATE:20241220
DTEND;VALUE=DATE:20241221
DTSTAMP:20260425T061810
CREATED:20241205T164153Z
LAST-MODIFIED:20241220T211049Z
UID:10000952-1734652800-1734739199@classicalprep.org
SUMMARY:Spirit Shop Closes
DESCRIPTION:
URL:https://classicalprep.org/event/spirit-shop-closes-6/
CATEGORIES:Rhetoric School
END:VEVENT
BEGIN:VEVENT
DTSTART;VALUE=DATE:20241220
DTEND;VALUE=DATE:20241221
DTSTAMP:20260425T061810
CREATED:20241205T161016Z
LAST-MODIFIED:20241220T221247Z
UID:10000949-1734652800-1734739199@classicalprep.org
SUMMARY:Spirit Shop Closes
DESCRIPTION:
URL:https://classicalprep.org/event/spirit-shop-closes-5/
CATEGORIES:Logic School
END:VEVENT
BEGIN:VEVENT
DTSTART;VALUE=DATE:20241220
DTEND;VALUE=DATE:20241221
DTSTAMP:20260425T061810
CREATED:20241205T155457Z
LAST-MODIFIED:20241220T212701Z
UID:10000945-1734652800-1734739199@classicalprep.org
SUMMARY:Spirit Shop Closes
DESCRIPTION:
URL:https://classicalprep.org/event/spirit-shop-closes-4/
CATEGORIES:Grammar School
END:VEVENT
BEGIN:VEVENT
DTSTART;TZID=America/New_York:20241219T173000
DTEND;TZID=America/New_York:20241219T183000
DTSTAMP:20260425T061810
CREATED:20241110T191302Z
LAST-MODIFIED:20241219T221248Z
UID:10000918-1734629400-1734633000@classicalprep.org
SUMMARY:Logic Girls Basketball Game @ Henderson
DESCRIPTION:
URL:https://classicalprep.org/event/logic-girls-basketball-game-henderson/
LOCATION:10322 Henderson Rd Tampa 33625
CATEGORIES:Athletics
END:VEVENT
BEGIN:VEVENT
DTSTART;TZID=America/New_York:20241219T163000
DTEND;TZID=America/New_York:20241219T173000
DTSTAMP:20260425T061810
CREATED:20241110T191302Z
LAST-MODIFIED:20241219T221249Z
UID:10000917-1734625800-1734629400@classicalprep.org
SUMMARY:Logic Varsity Boys Game vs. Pinecrest
DESCRIPTION:
URL:https://classicalprep.org/event/logic-varsity-boys-game-vs-pinecrest/
LOCATION:CPS
CATEGORIES:Athletics
END:VEVENT
BEGIN:VEVENT
DTSTART;VALUE=DATE:20241219
DTEND;VALUE=DATE:20241220
DTSTAMP:20260425T061810
CREATED:20241205T165729Z
LAST-MODIFIED:20241219T231002Z
UID:10000953-1734566400-1734652799@classicalprep.org
SUMMARY:Kindergarten Polar Express Curriculum Day
DESCRIPTION:
URL:https://classicalprep.org/event/kindergarten-polar-express-curriculum-day/
CATEGORIES:Grammar School
END:VEVENT
BEGIN:VEVENT
DTSTART;VALUE=DATE:20241219
DTEND;VALUE=DATE:20241220
DTSTAMP:20260425T061810
CREATED:20241205T165729Z
LAST-MODIFIED:20241219T231003Z
UID:10000954-1734566400-1734652799@classicalprep.org
SUMMARY:Fifth Grade Narnia Curriculum Day
DESCRIPTION:
URL:https://classicalprep.org/event/fifth-grade-narnia-curriculum-day/
CATEGORIES:Grammar School
END:VEVENT
BEGIN:VEVENT
DTSTART;VALUE=DATE:20241219
DTEND;VALUE=DATE:20241220
DTSTAMP:20260425T061810
CREATED:20240712T181002Z
LAST-MODIFIED:20241219T231002Z
UID:10000368-1734566400-1734652799@classicalprep.org
SUMMARY:K-5: Quarterly Celebration - Cold Stone
DESCRIPTION:
URL:https://classicalprep.org/event/quarterly-celebration-cold-stone/
CATEGORIES:Grammar School
END:VEVENT
BEGIN:VEVENT
DTSTART;TZID=America/New_York:20241218T180000
DTEND;TZID=America/New_York:20241218T190000
DTSTAMP:20260425T061810
CREATED:20241202T165655Z
LAST-MODIFIED:20241218T222331Z
UID:10000936-1734544800-1734548400@classicalprep.org
SUMMARY:Girls Varsity Basketball Game vs. Freedom
DESCRIPTION:
URL:https://classicalprep.org/event/girls-varsity-basketball-game-vs-freedom/
LOCATION:Classical Preparatory School\, 18000 Spring Prairie Ln\, Brooksville\, FL\, United States
CATEGORIES:Athletics
GEO:28.419249;-82.446587
X-APPLE-STRUCTURED-LOCATION;VALUE=URI;X-ADDRESS=Classical Preparatory School 18000 Spring Prairie Ln Brooksville FL United States;X-APPLE-RADIUS=500;X-TITLE=18000 Spring Prairie Ln:geo:-82.446587,28.419249
END:VEVENT
BEGIN:VEVENT
DTSTART;TZID=America/New_York:20241218T081500
DTEND;TZID=America/New_York:20241218T091500
DTSTAMP:20260425T061810
CREATED:20240712T181002Z
LAST-MODIFIED:20241218T125750Z
UID:10000367-1734509700-1734513300@classicalprep.org
SUMMARY:K-5 Student of Month
DESCRIPTION:
URL:https://classicalprep.org/event/k-5-student-of-month-4/
CATEGORIES:Grammar School
END:VEVENT
BEGIN:VEVENT
DTSTART;VALUE=DATE:20241218
DTEND;VALUE=DATE:20241219
DTSTAMP:20260425T061810
CREATED:20240718T215517Z
LAST-MODIFIED:20241218T231312Z
UID:10000437-1734480000-1734566399@classicalprep.org
SUMMARY:6-12: Student of the Month Announcement
DESCRIPTION:
URL:https://classicalprep.org/event/6-12-student-of-the-month-announcement-2/
CATEGORIES:Rhetoric School
END:VEVENT
BEGIN:VEVENT
DTSTART;VALUE=DATE:20241218
DTEND;VALUE=DATE:20241219
DTSTAMP:20260425T061810
CREATED:20240718T201045Z
LAST-MODIFIED:20241218T235818Z
UID:10000415-1734480000-1734566399@classicalprep.org
SUMMARY:6-12: Student of the Month Announcement
DESCRIPTION:
URL:https://classicalprep.org/event/6-12-student-of-the-month-announcement/
CATEGORIES:Logic School
END:VEVENT
BEGIN:VEVENT
DTSTART;TZID=America/New_York:20241217T183000
DTEND;TZID=America/New_York:20241217T200000
DTSTAMP:20260425T061810
CREATED:20240911T174022Z
LAST-MODIFIED:20241217T214048Z
UID:10000707-1734460200-1734465600@classicalprep.org
SUMMARY:Girls Varsity Basketball Game @ Pasco High
DESCRIPTION:
URL:https://classicalprep.org/event/girls-varsity-basketball-game-pasco-high/
LOCATION:Pasco High School\, 36850 State Rd 52\, Dade City\, FL\, United States
CATEGORIES:Athletics
GEO:28.353414;-82.205695
X-APPLE-STRUCTURED-LOCATION;VALUE=URI;X-ADDRESS=Pasco High School 36850 State Rd 52 Dade City FL United States;X-APPLE-RADIUS=500;X-TITLE=36850 State Rd 52:geo:-82.205695,28.353414
END:VEVENT
BEGIN:VEVENT
DTSTART;TZID=America/New_York:20241217T163000
DTEND;TZID=America/New_York:20241217T173000
DTSTAMP:20260425T061810
CREATED:20241110T191301Z
LAST-MODIFIED:20241217T214048Z
UID:10000916-1734453000-1734456600@classicalprep.org
SUMMARY:Logic Girls Basketball Game vs. ISLOL
DESCRIPTION:
URL:https://classicalprep.org/event/logic-girls-basketball-game-vs-islol/
LOCATION:CPS
CATEGORIES:Athletics
END:VEVENT
BEGIN:VEVENT
DTSTART;VALUE=DATE:20241217
DTEND;VALUE=DATE:20241218
DTSTAMP:20260425T061810
CREATED:20241205T155456Z
LAST-MODIFIED:20241217T231105Z
UID:10000944-1734393600-1734479999@classicalprep.org
SUMMARY:Second Grade Charlotte's Web Curriculum Day
DESCRIPTION:
URL:https://classicalprep.org/event/second-grade-charlottes-web-curriculum-day/
CATEGORIES:Grammar School
END:VEVENT
BEGIN:VEVENT
DTSTART;TZID=America/New_York:20241216T173000
DTEND;TZID=America/New_York:20241216T183000
DTSTAMP:20260425T061810
CREATED:20241110T191301Z
LAST-MODIFIED:20241216T221153Z
UID:10000915-1734370200-1734373800@classicalprep.org
SUMMARY:Logic Varsity Boys Game vs. ISLOL
DESCRIPTION:
URL:https://classicalprep.org/event/logic-varsity-boys-game-islol/
LOCATION:TBD AWAY
CATEGORIES:Athletics
END:VEVENT
BEGIN:VEVENT
DTSTART;TZID=America/New_York:20241216T163000
DTEND;TZID=America/New_York:20241216T173000
DTSTAMP:20260425T061810
CREATED:20241216T145533Z
LAST-MODIFIED:20241216T221153Z
UID:10000958-1734366600-1734370200@classicalprep.org
SUMMARY:Logic JV Boys Game vs. SLAM
DESCRIPTION:
URL:https://classicalprep.org/event/logic-jv-boys-game-vs-slam/
CATEGORIES:Athletics
END:VEVENT
BEGIN:VEVENT
DTSTART;TZID=America/New_York:20241216T143000
DTEND;TZID=America/New_York:20241216T160000
DTSTAMP:20260425T061810
CREATED:20241102T163942Z
LAST-MODIFIED:20241216T205504Z
UID:10000879-1734359400-1734364800@classicalprep.org
SUMMARY:Varsity Girls Practice
DESCRIPTION:
URL:https://classicalprep.org/event/varsity-girls-practice/
CATEGORIES:Athletics
END:VEVENT
BEGIN:VEVENT
DTSTART;TZID=America/New_York:20241216T063000
DTEND;TZID=America/New_York:20241216T150000
DTSTAMP:20260425T061810
CREATED:20240918T172637Z
LAST-MODIFIED:20241216T195436Z
UID:10000742-1734330600-1734361200@classicalprep.org
SUMMARY:Gym Unavailable - Fall Retakes\, Class Pictures\, & Senior Pictures
DESCRIPTION:Join with Google Meet: https://meet.google.com/ors-rskk-nun\nOr dial: (US) +1 405-792-0758 PIN: 274666065#\nLearn more about Meet at: https://support.google.com/a/users/answer/9282720
URL:https://classicalprep.org/event/gym-unavailable-fall-retakes-class-pictures-senior-pictures/
CATEGORIES:Athletics
ORGANIZER;CN="classicalprep.org_5viqc689g7n49k5r4obi20libk@group.calendar.google.com":MAILTO:classicalprep.org_5viqc689g7n49k5r4obi20libk@group.calendar.google.com
END:VEVENT
BEGIN:VEVENT
DTSTART;VALUE=DATE:20241216
DTEND;VALUE=DATE:20241217
DTSTAMP:20260425T061810
CREATED:20240917T115807Z
LAST-MODIFIED:20241028T165553Z
UID:10000736-1734307200-1734393599@classicalprep.org
SUMMARY:JV Boys Basketball Game @ Pinecrest Academy
DESCRIPTION:
URL:https://classicalprep.org/event/jv-boys-basketball-game-pinecrest-academy/
LOCATION:Wiregrass Ranch Sports Campus\, 11501 Sportsman Ct\, Dade City\, FL\, United States
CATEGORIES:Athletics
GEO:28.325458;-82.218164
X-APPLE-STRUCTURED-LOCATION;VALUE=URI;X-ADDRESS=Wiregrass Ranch Sports Campus 11501 Sportsman Ct Dade City FL United States;X-APPLE-RADIUS=500;X-TITLE=11501 Sportsman Ct:geo:-82.218164,28.325458
END:VEVENT
BEGIN:VEVENT
DTSTART;VALUE=DATE:20241216
DTEND;VALUE=DATE:20241217
DTSTAMP:20260425T061810
CREATED:20240718T215517Z
LAST-MODIFIED:20241216T232834Z
UID:10000436-1734307200-1734393599@classicalprep.org
SUMMARY:Fall Picture Retakes and Senior Pictures (Dress Uniform with Tie)
DESCRIPTION:
URL:https://classicalprep.org/event/fall-picture-retakes-and-senior-pictures-dress-uniform-with-tie/
CATEGORIES:Rhetoric School
END:VEVENT
BEGIN:VEVENT
DTSTART;VALUE=DATE:20241216
DTEND;VALUE=DATE:20241217
DTSTAMP:20260425T061810
CREATED:20240718T201045Z
LAST-MODIFIED:20241216T235400Z
UID:10000414-1734307200-1734393599@classicalprep.org
SUMMARY:Fall Picture Retakes (Dress Uniform with Tie)
DESCRIPTION:
URL:https://classicalprep.org/event/fall-picture-retakes-dress-uniform-with-tie/
CATEGORIES:Logic School
END:VEVENT
BEGIN:VEVENT
DTSTART;VALUE=DATE:20241216
DTEND;VALUE=DATE:20241217
DTSTAMP:20260425T061810
CREATED:20240718T194352Z
LAST-MODIFIED:20241216T233842Z
UID:10000396-1734307200-1734393599@classicalprep.org
SUMMARY:Fall Picture Retakes and Class Pictures (Dress Uniform with Tie)
DESCRIPTION:
URL:https://classicalprep.org/event/fall-picture-retakes-and-class-pictures-dress-uniform-with-tie/
CATEGORIES:Grammar School
END:VEVENT
BEGIN:VEVENT
DTSTART;TZID=America/New_York:20241214T120000
DTEND;TZID=America/New_York:20241214T133000
DTSTAMP:20260425T061810
CREATED:20241101T101310Z
LAST-MODIFIED:20241214T175647Z
UID:10000866-1734177600-1734183000@classicalprep.org
SUMMARY:Varsity Girls Basketball Game vs. Bellview
DESCRIPTION:
URL:https://classicalprep.org/event/varsity-girls-basketball-game-vs-bellview/
LOCATION:Classical Prep\, Shady Hills Road\, Spring Hill\, Florida\, 34610\, United States
CATEGORIES:Athletics
GEO:28.3440552;-82.5401856
X-APPLE-STRUCTURED-LOCATION;VALUE=URI;X-ADDRESS=Classical Prep Shady Hills Road Spring Hill Florida 34610 United States;X-APPLE-RADIUS=500;X-TITLE=Shady Hills Road:geo:-82.5401856,28.3440552
END:VEVENT
BEGIN:VEVENT
DTSTART;TZID=America/New_York:20241213T163000
DTEND;TZID=America/New_York:20241213T173000
DTSTAMP:20260425T061811
CREATED:20241110T191300Z
LAST-MODIFIED:20241202T181231Z
UID:10000914-1734107400-1734111000@classicalprep.org
SUMMARY:Logic Girls Basketball Game @ Pinecrest
DESCRIPTION:
URL:https://classicalprep.org/event/logic-girls-basketball-game-pinecrest/
CATEGORIES:Athletics
END:VEVENT
BEGIN:VEVENT
DTSTART;TZID=America/New_York:20241213T163000
DTEND;TZID=America/New_York:20241213T173000
DTSTAMP:20260425T061811
CREATED:20241110T191259Z
LAST-MODIFIED:20241205T002530Z
UID:10000913-1734107400-1734111000@classicalprep.org
SUMMARY:Logic Varsity Boys Game vs. SLAM
DESCRIPTION:
URL:https://classicalprep.org/event/logic-varsity-boys-game-vs-slam/
LOCATION:CPS
CATEGORIES:Athletics
END:VEVENT
BEGIN:VEVENT
DTSTART;VALUE=DATE:20241213
DTEND;VALUE=DATE:20241214
DTSTAMP:20260425T061811
CREATED:20241106T144050Z
LAST-MODIFIED:20241213T235735Z
UID:10000888-1734048000-1734134399@classicalprep.org
SUMMARY:6th-12th Band Concert
DESCRIPTION:
URL:https://classicalprep.org/event/concert/
CATEGORIES:Athletics
END:VEVENT
END:VCALENDAR