BEGIN:VCALENDAR
VERSION:2.0
PRODID:-//Classical Preparatory School - ECPv6.15.15//NONSGML v1.0//EN
CALSCALE:GREGORIAN
METHOD:PUBLISH
X-WR-CALNAME:Classical Preparatory School
X-ORIGINAL-URL:https://classicalprep.org
X-WR-CALDESC:Events for Classical Preparatory School
REFRESH-INTERVAL;VALUE=DURATION:PT1H
X-Robots-Tag:noindex
X-PUBLISHED-TTL:PT1H
BEGIN:VTIMEZONE
TZID:America/New_York
BEGIN:DAYLIGHT
TZOFFSETFROM:-0500
TZOFFSETTO:-0400
TZNAME:EDT
DTSTART:20230312T070000
END:DAYLIGHT
BEGIN:STANDARD
TZOFFSETFROM:-0400
TZOFFSETTO:-0500
TZNAME:EST
DTSTART:20231105T060000
END:STANDARD
BEGIN:DAYLIGHT
TZOFFSETFROM:-0500
TZOFFSETTO:-0400
TZNAME:EDT
DTSTART:20240310T070000
END:DAYLIGHT
BEGIN:STANDARD
TZOFFSETFROM:-0400
TZOFFSETTO:-0500
TZNAME:EST
DTSTART:20241103T060000
END:STANDARD
BEGIN:DAYLIGHT
TZOFFSETFROM:-0500
TZOFFSETTO:-0400
TZNAME:EDT
DTSTART:20250309T070000
END:DAYLIGHT
BEGIN:STANDARD
TZOFFSETFROM:-0400
TZOFFSETTO:-0500
TZNAME:EST
DTSTART:20251102T060000
END:STANDARD
END:VTIMEZONE
BEGIN:VEVENT
DTSTART;TZID=America/New_York:20240802T150000
DTEND;TZID=America/New_York:20240802T170000
DTSTAMP:20260421T130532
CREATED:20240619T193803Z
LAST-MODIFIED:20240802T203903Z
UID:10000265-1722610800-1722618000@classicalprep.org
SUMMARY:Rhetoric Volleyball Tryouts
DESCRIPTION:
URL:https://classicalprep.org/event/rhetoric-volleyball-tryouts-2/
CATEGORIES:Athletics
END:VEVENT
BEGIN:VEVENT
DTSTART;TZID=America/New_York:20240801T150000
DTEND;TZID=America/New_York:20240801T170000
DTSTAMP:20260421T130532
CREATED:20240619T193803Z
LAST-MODIFIED:20240801T192343Z
UID:10000264-1722524400-1722531600@classicalprep.org
SUMMARY:Rhetoric Volleyball Tryouts
DESCRIPTION:
URL:https://classicalprep.org/event/rhetoric-volleyball-tryouts/
CATEGORIES:Athletics
END:VEVENT
BEGIN:VEVENT
DTSTART;TZID=America/New_York:20240717T150000
DTEND;TZID=America/New_York:20240717T190000
DTSTAMP:20260421T130532
CREATED:20240619T152008Z
LAST-MODIFIED:20240717T224147Z
UID:10000263-1721228400-1721242800@classicalprep.org
SUMMARY:French Toast Pop-Up Shop
DESCRIPTION:
URL:https://classicalprep.org/event/french-toast-pop-up-shop-9/
CATEGORIES:Logic School
END:VEVENT
BEGIN:VEVENT
DTSTART;TZID=America/New_York:20240717T150000
DTEND;TZID=America/New_York:20240717T190000
DTSTAMP:20260421T130532
CREATED:20240619T151745Z
LAST-MODIFIED:20240717T225700Z
UID:10000260-1721228400-1721242800@classicalprep.org
SUMMARY:French Toast Pop-Up Shop
DESCRIPTION:
URL:https://classicalprep.org/event/french-toast-pop-up-shop-6/
CATEGORIES:Grammar School
END:VEVENT
BEGIN:VEVENT
DTSTART;TZID=America/New_York:20240717T150000
DTEND;TZID=America/New_York:20240717T190000
DTSTAMP:20260421T130532
CREATED:20240619T151559Z
LAST-MODIFIED:20240717T221023Z
UID:10000257-1721228400-1721242800@classicalprep.org
SUMMARY:French Toast Pop-Up Shop
DESCRIPTION:
URL:https://classicalprep.org/event/french-toast-pop-up-shop-3/
CATEGORIES:Rhetoric School
END:VEVENT
BEGIN:VEVENT
DTSTART;TZID=America/New_York:20240626T090000
DTEND;TZID=America/New_York:20240626T140000
DTSTAMP:20260421T130532
CREATED:20240619T152008Z
LAST-MODIFIED:20240626T175448Z
UID:10000262-1719392400-1719410400@classicalprep.org
SUMMARY:French Toast Pop-Up Shop
DESCRIPTION:
URL:https://classicalprep.org/event/french-toast-pop-up-shop-8/
CATEGORIES:Logic School
END:VEVENT
BEGIN:VEVENT
DTSTART;TZID=America/New_York:20240626T090000
DTEND;TZID=America/New_York:20240626T140000
DTSTAMP:20260421T130532
CREATED:20240619T151745Z
LAST-MODIFIED:20240626T172703Z
UID:10000259-1719392400-1719410400@classicalprep.org
SUMMARY:French Toast Pop-Up Shop
DESCRIPTION:
URL:https://classicalprep.org/event/french-toast-pop-up-shop-5/
CATEGORIES:Grammar School
END:VEVENT
BEGIN:VEVENT
DTSTART;TZID=America/New_York:20240626T090000
DTEND;TZID=America/New_York:20240626T140000
DTSTAMP:20260421T130532
CREATED:20240619T151559Z
LAST-MODIFIED:20240626T151151Z
UID:10000256-1719392400-1719410400@classicalprep.org
SUMMARY:French Toast Pop-Up Shop
DESCRIPTION:
URL:https://classicalprep.org/event/french-toast-pop-up-shop-2/
CATEGORIES:Rhetoric School
END:VEVENT
BEGIN:VEVENT
DTSTART;TZID=America/New_York:20240625T150000
DTEND;TZID=America/New_York:20240625T190000
DTSTAMP:20260421T130532
CREATED:20240619T152007Z
LAST-MODIFIED:20240625T225308Z
UID:10000261-1719327600-1719342000@classicalprep.org
SUMMARY:French Toast Pop-Up Shop
DESCRIPTION:
URL:https://classicalprep.org/event/french-toast-pop-up-shop-7/
CATEGORIES:Logic School
END:VEVENT
BEGIN:VEVENT
DTSTART;TZID=America/New_York:20240625T150000
DTEND;TZID=America/New_York:20240625T190000
DTSTAMP:20260421T130532
CREATED:20240619T151745Z
LAST-MODIFIED:20240625T222313Z
UID:10000258-1719327600-1719342000@classicalprep.org
SUMMARY:French Toast Pop-Up Shop
DESCRIPTION:
URL:https://classicalprep.org/event/french-toast-pop-up-shop-4/
CATEGORIES:Grammar School
END:VEVENT
BEGIN:VEVENT
DTSTART;TZID=America/New_York:20240625T150000
DTEND;TZID=America/New_York:20240625T190000
DTSTAMP:20260421T130532
CREATED:20240619T151558Z
LAST-MODIFIED:20240619T151558Z
UID:10000255-1719327600-1719342000@classicalprep.org
SUMMARY:French Toast Pop-Up Shop
DESCRIPTION:
URL:https://classicalprep.org/event/french-toast-pop-up-shop/
CATEGORIES:Rhetoric School
END:VEVENT
END:VCALENDAR