BEGIN:VCALENDAR
VERSION:2.0
PRODID:-//Classical Preparatory School - ECPv6.15.15//NONSGML v1.0//EN
CALSCALE:GREGORIAN
METHOD:PUBLISH
X-ORIGINAL-URL:https://classicalprep.org
X-WR-CALDESC:Events for Classical Preparatory School
REFRESH-INTERVAL;VALUE=DURATION:PT1H
X-Robots-Tag:noindex
X-PUBLISHED-TTL:PT1H
BEGIN:VTIMEZONE
TZID:America/New_York
BEGIN:DAYLIGHT
TZOFFSETFROM:-0500
TZOFFSETTO:-0400
TZNAME:EDT
DTSTART:20250309T070000
END:DAYLIGHT
BEGIN:STANDARD
TZOFFSETFROM:-0400
TZOFFSETTO:-0500
TZNAME:EST
DTSTART:20251102T060000
END:STANDARD
BEGIN:DAYLIGHT
TZOFFSETFROM:-0500
TZOFFSETTO:-0400
TZNAME:EDT
DTSTART:20260308T070000
END:DAYLIGHT
BEGIN:STANDARD
TZOFFSETFROM:-0400
TZOFFSETTO:-0500
TZNAME:EST
DTSTART:20261101T060000
END:STANDARD
BEGIN:DAYLIGHT
TZOFFSETFROM:-0500
TZOFFSETTO:-0400
TZNAME:EDT
DTSTART:20270314T070000
END:DAYLIGHT
BEGIN:STANDARD
TZOFFSETFROM:-0400
TZOFFSETTO:-0500
TZNAME:EST
DTSTART:20271107T060000
END:STANDARD
END:VTIMEZONE
BEGIN:VEVENT
DTSTART;VALUE=DATE:20260522
DTEND;VALUE=DATE:20260523
DTSTAMP:20260420T130212
CREATED:20250724T001320Z
LAST-MODIFIED:20260420T051328Z
UID:10001314-1779408000-1779494399@classicalprep.org
SUMMARY:Last Day of School- Half Day
DESCRIPTION:
URL:https://classicalprep.org/event/last-day-of-school-half-day-3/
CATEGORIES:Grammar School
END:VEVENT
BEGIN:VEVENT
DTSTART;VALUE=DATE:20260522
DTEND;VALUE=DATE:20260523
DTSTAMP:20260420T130212
CREATED:20260106T161141Z
LAST-MODIFIED:20260420T051328Z
UID:10001610-1779408000-1779494399@classicalprep.org
SUMMARY:Spirit Shirt Day
DESCRIPTION:
URL:https://classicalprep.org/event/spirit-shirt-day-87/
CATEGORIES:Grammar School
END:VEVENT
END:VCALENDAR