BEGIN:VCALENDAR
VERSION:2.0
PRODID:-//Classical Preparatory School - ECPv6.15.15//NONSGML v1.0//EN
CALSCALE:GREGORIAN
METHOD:PUBLISH
X-WR-CALNAME:Classical Preparatory School
X-ORIGINAL-URL:https://classicalprep.org
X-WR-CALDESC:Events for Classical Preparatory School
REFRESH-INTERVAL;VALUE=DURATION:PT1H
X-Robots-Tag:noindex
X-PUBLISHED-TTL:PT1H
BEGIN:VTIMEZONE
TZID:America/New_York
BEGIN:DAYLIGHT
TZOFFSETFROM:-0500
TZOFFSETTO:-0400
TZNAME:EDT
DTSTART:20250309T070000
END:DAYLIGHT
BEGIN:STANDARD
TZOFFSETFROM:-0400
TZOFFSETTO:-0500
TZNAME:EST
DTSTART:20251102T060000
END:STANDARD
BEGIN:DAYLIGHT
TZOFFSETFROM:-0500
TZOFFSETTO:-0400
TZNAME:EDT
DTSTART:20260308T070000
END:DAYLIGHT
BEGIN:STANDARD
TZOFFSETFROM:-0400
TZOFFSETTO:-0500
TZNAME:EST
DTSTART:20261101T060000
END:STANDARD
BEGIN:DAYLIGHT
TZOFFSETFROM:-0500
TZOFFSETTO:-0400
TZNAME:EDT
DTSTART:20270314T070000
END:DAYLIGHT
BEGIN:STANDARD
TZOFFSETFROM:-0400
TZOFFSETTO:-0500
TZNAME:EST
DTSTART:20271107T060000
END:STANDARD
END:VTIMEZONE
BEGIN:VEVENT
DTSTART;VALUE=DATE:20260424
DTEND;VALUE=DATE:20260425
DTSTAMP:20260424T102224
CREATED:20250724T001137Z
LAST-MODIFIED:20260424T101214Z
UID:10001208-1776988800-1777075199@classicalprep.org
SUMMARY:No School
DESCRIPTION:
URL:https://classicalprep.org/event/no-school-30/
CATEGORIES:Rhetoric School
END:VEVENT
BEGIN:VEVENT
DTSTART;VALUE=DATE:20260424
DTEND;VALUE=DATE:20260425
DTSTAMP:20260424T102224
CREATED:20250724T001148Z
LAST-MODIFIED:20260424T102824Z
UID:10001255-1776988800-1777075199@classicalprep.org
SUMMARY:No School
DESCRIPTION:
URL:https://classicalprep.org/event/no-school-31/
CATEGORIES:Logic School
END:VEVENT
BEGIN:VEVENT
DTSTART;VALUE=DATE:20260424
DTEND;VALUE=DATE:20260425
DTSTAMP:20260424T102224
CREATED:20250724T001318Z
LAST-MODIFIED:20260424T094357Z
UID:10001307-1776988800-1777075199@classicalprep.org
SUMMARY:No School
DESCRIPTION:
URL:https://classicalprep.org/event/no-school-32/
CATEGORIES:Grammar School
END:VEVENT
BEGIN:VEVENT
DTSTART;VALUE=DATE:20260424
DTEND;VALUE=DATE:20260425
DTSTAMP:20260424T102224
CREATED:20260128T001250Z
LAST-MODIFIED:20260424T101217Z
UID:10001632-1776988800-1777075199@classicalprep.org
SUMMARY:NO SCHOOL
DESCRIPTION:
URL:https://classicalprep.org/event/no-school-34/
CATEGORIES:Athletics
END:VEVENT
END:VCALENDAR