BEGIN:VCALENDAR
VERSION:2.0
PRODID:-//Classical Preparatory School - ECPv6.15.15//NONSGML v1.0//EN
CALSCALE:GREGORIAN
METHOD:PUBLISH
X-ORIGINAL-URL:https://classicalprep.org
X-WR-CALDESC:Events for Classical Preparatory School
REFRESH-INTERVAL;VALUE=DURATION:PT1H
X-Robots-Tag:noindex
X-PUBLISHED-TTL:PT1H
BEGIN:VTIMEZONE
TZID:America/New_York
BEGIN:DAYLIGHT
TZOFFSETFROM:-0500
TZOFFSETTO:-0400
TZNAME:EDT
DTSTART:20250309T070000
END:DAYLIGHT
BEGIN:STANDARD
TZOFFSETFROM:-0400
TZOFFSETTO:-0500
TZNAME:EST
DTSTART:20251102T060000
END:STANDARD
BEGIN:DAYLIGHT
TZOFFSETFROM:-0500
TZOFFSETTO:-0400
TZNAME:EDT
DTSTART:20260308T070000
END:DAYLIGHT
BEGIN:STANDARD
TZOFFSETFROM:-0400
TZOFFSETTO:-0500
TZNAME:EST
DTSTART:20261101T060000
END:STANDARD
BEGIN:DAYLIGHT
TZOFFSETFROM:-0500
TZOFFSETTO:-0400
TZNAME:EDT
DTSTART:20270314T070000
END:DAYLIGHT
BEGIN:STANDARD
TZOFFSETFROM:-0400
TZOFFSETTO:-0500
TZNAME:EST
DTSTART:20271107T060000
END:STANDARD
END:VTIMEZONE
BEGIN:VEVENT
DTSTART;VALUE=DATE:20260420
DTEND;VALUE=DATE:20260424
DTSTAMP:20260420T104339
CREATED:20260403T005606Z
LAST-MODIFIED:20260420T055718Z
UID:10001765-1776643200-1776988799@classicalprep.org
SUMMARY:Flag Football District Week
DESCRIPTION:
URL:https://classicalprep.org/event/flag-football-district-week-2/
CATEGORIES:Athletics
END:VEVENT
BEGIN:VEVENT
DTSTART;TZID=America/New_York:20260422T160000
DTEND;TZID=America/New_York:20260422T163000
DTSTAMP:20260420T104339
CREATED:20260415T001056Z
LAST-MODIFIED:20260420T055717Z
UID:10001769-1776873600-1776875400@classicalprep.org
SUMMARY:Football Interest Meeting for Upcoming 6th-9th Scholars
DESCRIPTION:
URL:https://classicalprep.org/event/football-interest-meeting-for-upcoming-6th-9th-scholars/
LOCATION:Gym\, 198 Arkays Ave\, Brooksville\, FL\, United States
CATEGORIES:Athletics
GEO:28.439493;-82.488726
X-APPLE-STRUCTURED-LOCATION;VALUE=URI;X-ADDRESS=Gym 198 Arkays Ave Brooksville FL United States;X-APPLE-RADIUS=500;X-TITLE=198 Arkays Ave:geo:-82.488726,28.439493
END:VEVENT
END:VCALENDAR