BEGIN:VCALENDAR
VERSION:2.0
PRODID:-//Classical Preparatory School - ECPv6.15.15//NONSGML v1.0//EN
CALSCALE:GREGORIAN
METHOD:PUBLISH
X-ORIGINAL-URL:https://classicalprep.org
X-WR-CALDESC:Events for Classical Preparatory School
REFRESH-INTERVAL;VALUE=DURATION:PT1H
X-Robots-Tag:noindex
X-PUBLISHED-TTL:PT1H
BEGIN:VTIMEZONE
TZID:America/New_York
BEGIN:DAYLIGHT
TZOFFSETFROM:-0500
TZOFFSETTO:-0400
TZNAME:EDT
DTSTART:20250309T070000
END:DAYLIGHT
BEGIN:STANDARD
TZOFFSETFROM:-0400
TZOFFSETTO:-0500
TZNAME:EST
DTSTART:20251102T060000
END:STANDARD
BEGIN:DAYLIGHT
TZOFFSETFROM:-0500
TZOFFSETTO:-0400
TZNAME:EDT
DTSTART:20260308T070000
END:DAYLIGHT
BEGIN:STANDARD
TZOFFSETFROM:-0400
TZOFFSETTO:-0500
TZNAME:EST
DTSTART:20261101T060000
END:STANDARD
BEGIN:DAYLIGHT
TZOFFSETFROM:-0500
TZOFFSETTO:-0400
TZNAME:EDT
DTSTART:20270314T070000
END:DAYLIGHT
BEGIN:STANDARD
TZOFFSETFROM:-0400
TZOFFSETTO:-0500
TZNAME:EST
DTSTART:20271107T060000
END:STANDARD
END:VTIMEZONE
BEGIN:VEVENT
DTSTART;TZID=America/New_York:20260410T170000
DTEND;TZID=America/New_York:20260410T180000
DTSTAMP:20260420T103443
CREATED:20260220T001334Z
LAST-MODIFIED:20260410T084053Z
UID:10001707-1775840400-1775844000@classicalprep.org
SUMMARY:Logic Girls Softball Game @ Parrott Middle
DESCRIPTION:
URL:https://classicalprep.org/event/logic-girls-softball-game-parrott-middle/
LOCATION:D. S. Parrott Middle School\, 19220 Youth Dr\, Brooksville\, FL\, United States
CATEGORIES:Athletics
GEO:28.592564;-82.407334
X-APPLE-STRUCTURED-LOCATION;VALUE=URI;X-ADDRESS=D. S. Parrott Middle School 19220 Youth Dr Brooksville FL United States;X-APPLE-RADIUS=500;X-TITLE=19220 Youth Dr:geo:-82.407334,28.592564
END:VEVENT
END:VCALENDAR