BEGIN:VCALENDAR
VERSION:2.0
PRODID:-//Classical Preparatory School - ECPv6.15.15//NONSGML v1.0//EN
CALSCALE:GREGORIAN
METHOD:PUBLISH
X-ORIGINAL-URL:https://classicalprep.org
X-WR-CALDESC:Events for Classical Preparatory School
REFRESH-INTERVAL;VALUE=DURATION:PT1H
X-Robots-Tag:noindex
X-PUBLISHED-TTL:PT1H
BEGIN:VTIMEZONE
TZID:America/New_York
BEGIN:DAYLIGHT
TZOFFSETFROM:-0500
TZOFFSETTO:-0400
TZNAME:EDT
DTSTART:20230312T070000
END:DAYLIGHT
BEGIN:STANDARD
TZOFFSETFROM:-0400
TZOFFSETTO:-0500
TZNAME:EST
DTSTART:20231105T060000
END:STANDARD
BEGIN:DAYLIGHT
TZOFFSETFROM:-0500
TZOFFSETTO:-0400
TZNAME:EDT
DTSTART:20240310T070000
END:DAYLIGHT
BEGIN:STANDARD
TZOFFSETFROM:-0400
TZOFFSETTO:-0500
TZNAME:EST
DTSTART:20241103T060000
END:STANDARD
BEGIN:DAYLIGHT
TZOFFSETFROM:-0500
TZOFFSETTO:-0400
TZNAME:EDT
DTSTART:20250309T070000
END:DAYLIGHT
BEGIN:STANDARD
TZOFFSETFROM:-0400
TZOFFSETTO:-0500
TZNAME:EST
DTSTART:20251102T060000
END:STANDARD
END:VTIMEZONE
BEGIN:VEVENT
DTSTART;TZID=America/New_York:20240808T090000
DTEND;TZID=America/New_York:20240808T100000
DTSTAMP:20260421T101005
CREATED:20240710T221148Z
LAST-MODIFIED:20240808T135456Z
UID:10000300-1723107600-1723111200@classicalprep.org
SUMMARY:Kindergarten Orientation
DESCRIPTION:
URL:https://classicalprep.org/event/kindergarten-orientation/
CATEGORIES:Grammar School
END:VEVENT
BEGIN:VEVENT
DTSTART;TZID=America/New_York:20240808T103000
DTEND;TZID=America/New_York:20240808T123000
DTSTAMP:20260421T101005
CREATED:20240710T221148Z
LAST-MODIFIED:20240808T150934Z
UID:10000301-1723113000-1723120200@classicalprep.org
SUMMARY:1st-5th Grade: Meet and Greet
DESCRIPTION:
URL:https://classicalprep.org/event/1st-5th-meet-and-greet/
CATEGORIES:Grammar School
END:VEVENT
BEGIN:VEVENT
DTSTART;TZID=America/New_York:20240808T133000
DTEND;TZID=America/New_York:20240808T143000
DTSTAMP:20260421T101005
CREATED:20240710T221148Z
LAST-MODIFIED:20240808T174256Z
UID:10000302-1723123800-1723127400@classicalprep.org
SUMMARY:Kindergarten Orientation
DESCRIPTION:
URL:https://classicalprep.org/event/kindergarten-orientation-2/
CATEGORIES:Grammar School
END:VEVENT
BEGIN:VEVENT
DTSTART;TZID=America/New_York:20240808T150000
DTEND;TZID=America/New_York:20240808T170000
DTSTAMP:20260421T101005
CREATED:20240710T215508Z
LAST-MODIFIED:20240808T185754Z
UID:10000268-1723129200-1723136400@classicalprep.org
SUMMARY:6th-12th Grade: Meet and Greet
DESCRIPTION:
URL:https://classicalprep.org/event/6-12-meet-and-greet/
CATEGORIES:Rhetoric School
END:VEVENT
BEGIN:VEVENT
DTSTART;TZID=America/New_York:20240808T150000
DTEND;TZID=America/New_York:20240808T170000
DTSTAMP:20260421T101005
CREATED:20240710T221149Z
LAST-MODIFIED:20240808T195616Z
UID:10000303-1723129200-1723136400@classicalprep.org
SUMMARY:1st-5th Grade: Meet and Greet
DESCRIPTION:
URL:https://classicalprep.org/event/1st-5th-meet-and-greet-2/
CATEGORIES:Grammar School
END:VEVENT
BEGIN:VEVENT
DTSTART;TZID=America/New_York:20240808T150000
DTEND;TZID=America/New_York:20240808T170000
DTSTAMP:20260421T101005
CREATED:20240710T235816Z
LAST-MODIFIED:20240808T195631Z
UID:10000329-1723129200-1723136400@classicalprep.org
SUMMARY:6th-12th Grade: Meet and Greet
DESCRIPTION:
URL:https://classicalprep.org/event/6-12-meet-and-greet-2/
CATEGORIES:Logic School
END:VEVENT
END:VCALENDAR